BEGIN:VCALENDAR
VERSION:2.0
PRODID:-//jEvents 2.0 for Joomla//EN
CALSCALE:GREGORIAN
METHOD:PUBLISH
BEGIN:VTIMEZONE
TZID:Europe/Paris
BEGIN:STANDARD
DTSTART:20140221T080000
RDATE:20140330T030000
TZOFFSETFROM:+0200
TZOFFSETTO:+0100
TZNAME:Europe/Paris CET
END:STANDARD
BEGIN:STANDARD
DTSTART:20141026T020000
RDATE:20150329T030000
TZOFFSETFROM:+0200
TZOFFSETTO:+0100
TZNAME:Europe/Paris CET
END:STANDARD
BEGIN:STANDARD
DTSTART:20151025T020000
RDATE:20160327T030000
TZOFFSETFROM:+0200
TZOFFSETTO:+0100
TZNAME:Europe/Paris CET
END:STANDARD
BEGIN:STANDARD
DTSTART:20161030T020000
RDATE:20170326T030000
TZOFFSETFROM:+0200
TZOFFSETTO:+0100
TZNAME:Europe/Paris CET
END:STANDARD
BEGIN:STANDARD
DTSTART:20171029T020000
RDATE:20180325T030000
TZOFFSETFROM:+0200
TZOFFSETTO:+0100
TZNAME:Europe/Paris CET
END:STANDARD
BEGIN:STANDARD
DTSTART:20181028T020000
RDATE:20190331T030000
TZOFFSETFROM:+0200
TZOFFSETTO:+0100
TZNAME:Europe/Paris CET
END:STANDARD
BEGIN:STANDARD
DTSTART:20191027T020000
RDATE:20200329T030000
TZOFFSETFROM:+0200
TZOFFSETTO:+0100
TZNAME:Europe/Paris CET
END:STANDARD
BEGIN:STANDARD
DTSTART:20201025T020000
RDATE:20210328T030000
TZOFFSETFROM:+0200
TZOFFSETTO:+0100
TZNAME:Europe/Paris CET
END:STANDARD
BEGIN:STANDARD
DTSTART:20211031T020000
RDATE:20220327T030000
TZOFFSETFROM:+0200
TZOFFSETTO:+0100
TZNAME:Europe/Paris CET
END:STANDARD
BEGIN:STANDARD
DTSTART:20221030T020000
RDATE:20230326T030000
TZOFFSETFROM:+0200
TZOFFSETTO:+0100
TZNAME:Europe/Paris CET
END:STANDARD
BEGIN:STANDARD
DTSTART:20231029T020000
RDATE:20240331T030000
TZOFFSETFROM:+0200
TZOFFSETTO:+0100
TZNAME:Europe/Paris CET
END:STANDARD
BEGIN:STANDARD
DTSTART:20241027T020000
RDATE:20250330T030000
TZOFFSETFROM:+0200
TZOFFSETTO:+0100
TZNAME:Europe/Paris CET
END:STANDARD
BEGIN:STANDARD
DTSTART:20251026T020000
RDATE:20260329T030000
TZOFFSETFROM:+0200
TZOFFSETTO:+0100
TZNAME:Europe/Paris CET
END:STANDARD
BEGIN:STANDARD
DTSTART:20261025T020000
RDATE:20270328T030000
TZOFFSETFROM:+0200
TZOFFSETTO:+0100
TZNAME:Europe/Paris CET
END:STANDARD
BEGIN:DAYLIGHT
DTSTART:20140330T030000
RDATE:20141026T020000
TZOFFSETFROM:+0100
TZOFFSETTO:+0200
TZNAME:Europe/Paris CEST
END:DAYLIGHT
BEGIN:DAYLIGHT
DTSTART:20150329T030000
RDATE:20151025T020000
TZOFFSETFROM:+0100
TZOFFSETTO:+0200
TZNAME:Europe/Paris CEST
END:DAYLIGHT
BEGIN:DAYLIGHT
DTSTART:20160327T030000
RDATE:20161030T020000
TZOFFSETFROM:+0100
TZOFFSETTO:+0200
TZNAME:Europe/Paris CEST
END:DAYLIGHT
BEGIN:DAYLIGHT
DTSTART:20170326T030000
RDATE:20171029T020000
TZOFFSETFROM:+0100
TZOFFSETTO:+0200
TZNAME:Europe/Paris CEST
END:DAYLIGHT
BEGIN:DAYLIGHT
DTSTART:20180325T030000
RDATE:20181028T020000
TZOFFSETFROM:+0100
TZOFFSETTO:+0200
TZNAME:Europe/Paris CEST
END:DAYLIGHT
BEGIN:DAYLIGHT
DTSTART:20190331T030000
RDATE:20191027T020000
TZOFFSETFROM:+0100
TZOFFSETTO:+0200
TZNAME:Europe/Paris CEST
END:DAYLIGHT
BEGIN:DAYLIGHT
DTSTART:20200329T030000
RDATE:20201025T020000
TZOFFSETFROM:+0100
TZOFFSETTO:+0200
TZNAME:Europe/Paris CEST
END:DAYLIGHT
BEGIN:DAYLIGHT
DTSTART:20210328T030000
RDATE:20211031T020000
TZOFFSETFROM:+0100
TZOFFSETTO:+0200
TZNAME:Europe/Paris CEST
END:DAYLIGHT
BEGIN:DAYLIGHT
DTSTART:20220327T030000
RDATE:20221030T020000
TZOFFSETFROM:+0100
TZOFFSETTO:+0200
TZNAME:Europe/Paris CEST
END:DAYLIGHT
BEGIN:DAYLIGHT
DTSTART:20230326T030000
RDATE:20231029T020000
TZOFFSETFROM:+0100
TZOFFSETTO:+0200
TZNAME:Europe/Paris CEST
END:DAYLIGHT
BEGIN:DAYLIGHT
DTSTART:20240331T030000
RDATE:20241027T020000
TZOFFSETFROM:+0100
TZOFFSETTO:+0200
TZNAME:Europe/Paris CEST
END:DAYLIGHT
BEGIN:DAYLIGHT
DTSTART:20250330T030000
RDATE:20251026T020000
TZOFFSETFROM:+0100
TZOFFSETTO:+0200
TZNAME:Europe/Paris CEST
END:DAYLIGHT
BEGIN:DAYLIGHT
DTSTART:20260329T030000
RDATE:20261025T020000
TZOFFSETFROM:+0100
TZOFFSETTO:+0200
TZNAME:Europe/Paris CEST
END:DAYLIGHT
END:VTIMEZONE
BEGIN:VEVENT
UID:a758724285a93c8ec84cfd08a1130eee
CATEGORIES:Circuit Lorraine Adultes (alpin)
CREATED:20141127T000322
SUMMARY:CLA  U16 à Masters      Mémorial Michel Mangel
URL;VALUE=URI:https://skivosges.net/agenda/export-synchronisation/detailevenement/348/-/c
 la-u16-a-masters-memorial-michel-mangel?tmpl=component
DESCRIPTION:CLA  U16 à Masters      Mémorial Michel Mangel \n(Coupe de Lorraine Adultes
 )\n\nLieu : ROUGE GAZON\nOrganisateur : SKIEURS DE ST MAURICE/MOSELLE (1406
 3 SKIEURS DE ST MAURICE/MOSELLE)\nEmail : RegularLabs.EmailProtector.unCloa
 k("ep_f8c08748");\nTelecopie : 0780028040\n\nInscriptions closes, les liste
 s de départ sont visualisables sur ce site\n - AMVF0551  Slalom Geant (Cour
 ses FFS) U16 a Masters Dames\n  CLA  U16 à Masters      Mémorial Michel Man
 gel\n - AMVM0551  Slalom Geant (Courses FFS) U16 a Masters Hommes\n  CLA  U
 16 à Masters      Mémorial Michel Mangel Cet évènement a été importé depuis
  :https://skivosges.net/agenda/export-synchronisation/detailevenement/348/-
 /cla-u16-a-masters-memorial-michel-mangel?tmpl=component
X-ALT-DESC;FMTTYPE=text/html:<strong>CLA  U16 à Masters      Mémorial Michel Mangel</strong> <br /><i>(C
 oupe de Lorraine Adultes)</i><br /><br />Lieu : ROUGE GAZON<br />Organisate
 ur : SKIEURS DE ST MAURICE/MOSELLE <small>(14063 SKIEURS DE ST MAURICE/MOSE
 LLE)</small><br />Email : <!-- Cette adresse électronique est protégée cont
 re les robots spammeurs. --><span class="cloaked_email ep_f8c08748"><span d
 ata-ep-a="&#100;&#97;&#110;i&#101;" data-ep-b=""><span data-ep-a="&#108;.&#
 109;o&#114;" data-ep-b="&#111;&#111;.fr"><span data-ep-b="&#119;a&#110;&#97
 ;&#100;" data-ep-a="e&#108;&#50;5&#64;"></span></span></span></span><script
 >RegularLabs.EmailProtector.unCloak("ep_f8c08748");</script><br />Telecopie
  : 0780028040<br /><br />Inscriptions closes, les listes de départ sont vis
 ualisables sur ce site<ul type="disc"><li>AMVF0551  Slalom Geant <nobr><i>(
 Courses FFS)</i></nobr> <nobr>U16 a Masters</nobr> Dames<br />&nbsp;&nbsp;C
 LA  U16 à Masters      Mémorial Michel Mangel</li><li>AMVM0551  Slalom Gean
 t <nobr><i>(Courses FFS)</i></nobr> <nobr>U16 a Masters</nobr> Hommes<br />
 &nbsp;&nbsp;CLA  U16 à Masters      Mémorial Michel Mangel</li></ul> <a hre
 f="https://skivosges.net/agenda/export-synchronisation/detailevenement/348/
 -/cla-u16-a-masters-memorial-michel-mangel?tmpl=component">Cet évènement a 
 été importé depuis :https://skivosges.net/agenda/export-synchronisation/det
 ailevenement/348/-/cla-u16-a-masters-memorial-michel-mangel?tmpl=component<
 /a>DTSTAMP:20260420T220547
DTSTART;TZID=Europe/Paris:20150222T080000
DTEND;TZID=Europe/Paris:20150222T170000
SEQUENCE:0
TRANSP:OPAQUE
END:VEVENT
END:VCALENDAR