BEGIN:VCALENDAR
VERSION:2.0
PRODID:-//jEvents 2.0 for Joomla//EN
CALSCALE:GREGORIAN
METHOD:PUBLISH
BEGIN:VTIMEZONE
TZID:Europe/Paris
BEGIN:STANDARD
DTSTART:20140228T080000
RDATE:20140330T030000
TZOFFSETFROM:+0200
TZOFFSETTO:+0100
TZNAME:Europe/Paris CET
END:STANDARD
BEGIN:STANDARD
DTSTART:20141026T020000
RDATE:20150329T030000
TZOFFSETFROM:+0200
TZOFFSETTO:+0100
TZNAME:Europe/Paris CET
END:STANDARD
BEGIN:STANDARD
DTSTART:20151025T020000
RDATE:20160327T030000
TZOFFSETFROM:+0200
TZOFFSETTO:+0100
TZNAME:Europe/Paris CET
END:STANDARD
BEGIN:STANDARD
DTSTART:20161030T020000
RDATE:20170326T030000
TZOFFSETFROM:+0200
TZOFFSETTO:+0100
TZNAME:Europe/Paris CET
END:STANDARD
BEGIN:STANDARD
DTSTART:20171029T020000
RDATE:20180325T030000
TZOFFSETFROM:+0200
TZOFFSETTO:+0100
TZNAME:Europe/Paris CET
END:STANDARD
BEGIN:STANDARD
DTSTART:20181028T020000
RDATE:20190331T030000
TZOFFSETFROM:+0200
TZOFFSETTO:+0100
TZNAME:Europe/Paris CET
END:STANDARD
BEGIN:STANDARD
DTSTART:20191027T020000
RDATE:20200329T030000
TZOFFSETFROM:+0200
TZOFFSETTO:+0100
TZNAME:Europe/Paris CET
END:STANDARD
BEGIN:STANDARD
DTSTART:20201025T020000
RDATE:20210328T030000
TZOFFSETFROM:+0200
TZOFFSETTO:+0100
TZNAME:Europe/Paris CET
END:STANDARD
BEGIN:STANDARD
DTSTART:20211031T020000
RDATE:20220327T030000
TZOFFSETFROM:+0200
TZOFFSETTO:+0100
TZNAME:Europe/Paris CET
END:STANDARD
BEGIN:STANDARD
DTSTART:20221030T020000
RDATE:20230326T030000
TZOFFSETFROM:+0200
TZOFFSETTO:+0100
TZNAME:Europe/Paris CET
END:STANDARD
BEGIN:STANDARD
DTSTART:20231029T020000
RDATE:20240331T030000
TZOFFSETFROM:+0200
TZOFFSETTO:+0100
TZNAME:Europe/Paris CET
END:STANDARD
BEGIN:STANDARD
DTSTART:20241027T020000
RDATE:20250330T030000
TZOFFSETFROM:+0200
TZOFFSETTO:+0100
TZNAME:Europe/Paris CET
END:STANDARD
BEGIN:STANDARD
DTSTART:20251026T020000
RDATE:20260329T030000
TZOFFSETFROM:+0200
TZOFFSETTO:+0100
TZNAME:Europe/Paris CET
END:STANDARD
BEGIN:STANDARD
DTSTART:20261025T020000
RDATE:20270328T030000
TZOFFSETFROM:+0200
TZOFFSETTO:+0100
TZNAME:Europe/Paris CET
END:STANDARD
BEGIN:DAYLIGHT
DTSTART:20140330T030000
RDATE:20141026T020000
TZOFFSETFROM:+0100
TZOFFSETTO:+0200
TZNAME:Europe/Paris CEST
END:DAYLIGHT
BEGIN:DAYLIGHT
DTSTART:20150329T030000
RDATE:20151025T020000
TZOFFSETFROM:+0100
TZOFFSETTO:+0200
TZNAME:Europe/Paris CEST
END:DAYLIGHT
BEGIN:DAYLIGHT
DTSTART:20160327T030000
RDATE:20161030T020000
TZOFFSETFROM:+0100
TZOFFSETTO:+0200
TZNAME:Europe/Paris CEST
END:DAYLIGHT
BEGIN:DAYLIGHT
DTSTART:20170326T030000
RDATE:20171029T020000
TZOFFSETFROM:+0100
TZOFFSETTO:+0200
TZNAME:Europe/Paris CEST
END:DAYLIGHT
BEGIN:DAYLIGHT
DTSTART:20180325T030000
RDATE:20181028T020000
TZOFFSETFROM:+0100
TZOFFSETTO:+0200
TZNAME:Europe/Paris CEST
END:DAYLIGHT
BEGIN:DAYLIGHT
DTSTART:20190331T030000
RDATE:20191027T020000
TZOFFSETFROM:+0100
TZOFFSETTO:+0200
TZNAME:Europe/Paris CEST
END:DAYLIGHT
BEGIN:DAYLIGHT
DTSTART:20200329T030000
RDATE:20201025T020000
TZOFFSETFROM:+0100
TZOFFSETTO:+0200
TZNAME:Europe/Paris CEST
END:DAYLIGHT
BEGIN:DAYLIGHT
DTSTART:20210328T030000
RDATE:20211031T020000
TZOFFSETFROM:+0100
TZOFFSETTO:+0200
TZNAME:Europe/Paris CEST
END:DAYLIGHT
BEGIN:DAYLIGHT
DTSTART:20220327T030000
RDATE:20221030T020000
TZOFFSETFROM:+0100
TZOFFSETTO:+0200
TZNAME:Europe/Paris CEST
END:DAYLIGHT
BEGIN:DAYLIGHT
DTSTART:20230326T030000
RDATE:20231029T020000
TZOFFSETFROM:+0100
TZOFFSETTO:+0200
TZNAME:Europe/Paris CEST
END:DAYLIGHT
BEGIN:DAYLIGHT
DTSTART:20240331T030000
RDATE:20241027T020000
TZOFFSETFROM:+0100
TZOFFSETTO:+0200
TZNAME:Europe/Paris CEST
END:DAYLIGHT
BEGIN:DAYLIGHT
DTSTART:20250330T030000
RDATE:20251026T020000
TZOFFSETFROM:+0100
TZOFFSETTO:+0200
TZNAME:Europe/Paris CEST
END:DAYLIGHT
BEGIN:DAYLIGHT
DTSTART:20260329T030000
RDATE:20261025T020000
TZOFFSETFROM:+0100
TZOFFSETTO:+0200
TZNAME:Europe/Paris CEST
END:DAYLIGHT
END:VTIMEZONE
BEGIN:VEVENT
UID:df8d4a8e6ed02f712eacd2e106e78b70
CATEGORIES:Circuit Lorraine Jeunes (alpin)
CREATED:20141127T000322
SUMMARY:CLJ  U8etU10-U12et U14      Prix du Rouge Gazon
URL;VALUE=URI:https://skivosges.net/agenda/export-synchronisation/detailevenement/355/-/c
 lj-u8etu10-u12et-u14-prix-du-rouge-gazon?tmpl=component
DESCRIPTION:<strong>CLJ  U8etU10-U12et U14      Prix du Rouge Gazon</strong> <br /><i>(
 Coupe de Lorraine Jeunes)</i><br /><br />Lieu : ROUGE GAZON<br />Organisate
 ur : SKIEURS DE ST MAURICE/MOSELLE <small>(14063 SKIEURS DE ST MAURICE/MOSE
 LLE)</small><br />Email : <!-- Cette adresse électronique est protégée cont
 re les robots spammeurs. --><span class="cloaked_email ep_ff34321c"><span d
 ata-ep-b="" data-ep-a="&#100;a&#110;i&#101;"><span data-ep-b="&#111;o.f&#11
 4;" data-ep-a="l&#46;&#109;&#111;&#114;"><span data-ep-a="el&#50;5&#64;" da
 ta-ep-b="&#119;an&#97;&#100;"></span></span></span></span><script>RegularLa
 bs.EmailProtector.unCloak("ep_ff34321c");</script><br />Telecopie : 0780028
 040<br /><br />Inscriptions closes, les listes de départ sont visualisables
  sur ce site<ul type="disc"><li>AMVF0601  Slalom Geant <nobr><i>(Coupe de B
 ronze)</i></nobr> <nobr>U12/U14</nobr> Filles<br />&nbsp;&nbsp;CLJ  U8etU10
 -U12et U14      Prix du Rouge Gazon</li><li>AMVM0601  Slalom Geant <nobr><i
 >(Coupe de Bronze)</i></nobr> <nobr>U12/U14</nobr> Garçons<br />&nbsp;&nbsp
 ;CLJ  U8etU10-U12et U14      Prix du Rouge Gazon</li><li>AMVF0602  Slalom G
 eant <nobr><i>(Coupe de Bronze)</i></nobr> <nobr>U8/U10</nobr> Filles<br />
 &nbsp;&nbsp;CLJ  U8etU10-U12et U14      Prix du Rouge Gazon</li><li>AMVM060
 2  Slalom Geant <nobr><i>(Coupe de Bronze)</i></nobr> <nobr>U8/U10</nobr> G
 arçons<br />&nbsp;&nbsp;CLJ  U8etU10-U12et U14      Prix du Rouge Gazon</li
 ></ul> <a href="https://skivosges.net/agenda/export-synchronisation/detaile
 venement/355/-/clj-u8etu10-u12et-u14-prix-du-rouge-gazon?tmpl=component">Ce
 t évènement a été importé depuis :https://skivosges.net/agenda/export-synch
 ronisation/detailevenement/355/-/clj-u8etu10-u12et-u14-prix-du-rouge-gazon?
 tmpl=component</a>DTSTAMP:20260420T221305
DTSTART;TZID=Europe/Paris:20150301T080000
DTEND;TZID=Europe/Paris:20150301T170000
SEQUENCE:0
TRANSP:OPAQUE
END:VEVENT
END:VCALENDAR