BEGIN:VCALENDAR
VERSION:2.0
PRODID:-//jEvents 2.0 for Joomla//EN
CALSCALE:GREGORIAN
METHOD:PUBLISH
BEGIN:VTIMEZONE
TZID:Europe/Paris
BEGIN:STANDARD
DTSTART:20140228T080000
RDATE:20140330T030000
TZOFFSETFROM:+0200
TZOFFSETTO:+0100
TZNAME:Europe/Paris CET
END:STANDARD
BEGIN:STANDARD
DTSTART:20141026T020000
RDATE:20150329T030000
TZOFFSETFROM:+0200
TZOFFSETTO:+0100
TZNAME:Europe/Paris CET
END:STANDARD
BEGIN:STANDARD
DTSTART:20151025T020000
RDATE:20160327T030000
TZOFFSETFROM:+0200
TZOFFSETTO:+0100
TZNAME:Europe/Paris CET
END:STANDARD
BEGIN:STANDARD
DTSTART:20161030T020000
RDATE:20170326T030000
TZOFFSETFROM:+0200
TZOFFSETTO:+0100
TZNAME:Europe/Paris CET
END:STANDARD
BEGIN:STANDARD
DTSTART:20171029T020000
RDATE:20180325T030000
TZOFFSETFROM:+0200
TZOFFSETTO:+0100
TZNAME:Europe/Paris CET
END:STANDARD
BEGIN:STANDARD
DTSTART:20181028T020000
RDATE:20190331T030000
TZOFFSETFROM:+0200
TZOFFSETTO:+0100
TZNAME:Europe/Paris CET
END:STANDARD
BEGIN:STANDARD
DTSTART:20191027T020000
RDATE:20200329T030000
TZOFFSETFROM:+0200
TZOFFSETTO:+0100
TZNAME:Europe/Paris CET
END:STANDARD
BEGIN:STANDARD
DTSTART:20201025T020000
RDATE:20210328T030000
TZOFFSETFROM:+0200
TZOFFSETTO:+0100
TZNAME:Europe/Paris CET
END:STANDARD
BEGIN:STANDARD
DTSTART:20211031T020000
RDATE:20220327T030000
TZOFFSETFROM:+0200
TZOFFSETTO:+0100
TZNAME:Europe/Paris CET
END:STANDARD
BEGIN:STANDARD
DTSTART:20221030T020000
RDATE:20230326T030000
TZOFFSETFROM:+0200
TZOFFSETTO:+0100
TZNAME:Europe/Paris CET
END:STANDARD
BEGIN:STANDARD
DTSTART:20231029T020000
RDATE:20240331T030000
TZOFFSETFROM:+0200
TZOFFSETTO:+0100
TZNAME:Europe/Paris CET
END:STANDARD
BEGIN:STANDARD
DTSTART:20241027T020000
RDATE:20250330T030000
TZOFFSETFROM:+0200
TZOFFSETTO:+0100
TZNAME:Europe/Paris CET
END:STANDARD
BEGIN:STANDARD
DTSTART:20251026T020000
RDATE:20260329T030000
TZOFFSETFROM:+0200
TZOFFSETTO:+0100
TZNAME:Europe/Paris CET
END:STANDARD
BEGIN:STANDARD
DTSTART:20261025T020000
RDATE:20270328T030000
TZOFFSETFROM:+0200
TZOFFSETTO:+0100
TZNAME:Europe/Paris CET
END:STANDARD
BEGIN:DAYLIGHT
DTSTART:20140330T030000
RDATE:20141026T020000
TZOFFSETFROM:+0100
TZOFFSETTO:+0200
TZNAME:Europe/Paris CEST
END:DAYLIGHT
BEGIN:DAYLIGHT
DTSTART:20150329T030000
RDATE:20151025T020000
TZOFFSETFROM:+0100
TZOFFSETTO:+0200
TZNAME:Europe/Paris CEST
END:DAYLIGHT
BEGIN:DAYLIGHT
DTSTART:20160327T030000
RDATE:20161030T020000
TZOFFSETFROM:+0100
TZOFFSETTO:+0200
TZNAME:Europe/Paris CEST
END:DAYLIGHT
BEGIN:DAYLIGHT
DTSTART:20170326T030000
RDATE:20171029T020000
TZOFFSETFROM:+0100
TZOFFSETTO:+0200
TZNAME:Europe/Paris CEST
END:DAYLIGHT
BEGIN:DAYLIGHT
DTSTART:20180325T030000
RDATE:20181028T020000
TZOFFSETFROM:+0100
TZOFFSETTO:+0200
TZNAME:Europe/Paris CEST
END:DAYLIGHT
BEGIN:DAYLIGHT
DTSTART:20190331T030000
RDATE:20191027T020000
TZOFFSETFROM:+0100
TZOFFSETTO:+0200
TZNAME:Europe/Paris CEST
END:DAYLIGHT
BEGIN:DAYLIGHT
DTSTART:20200329T030000
RDATE:20201025T020000
TZOFFSETFROM:+0100
TZOFFSETTO:+0200
TZNAME:Europe/Paris CEST
END:DAYLIGHT
BEGIN:DAYLIGHT
DTSTART:20210328T030000
RDATE:20211031T020000
TZOFFSETFROM:+0100
TZOFFSETTO:+0200
TZNAME:Europe/Paris CEST
END:DAYLIGHT
BEGIN:DAYLIGHT
DTSTART:20220327T030000
RDATE:20221030T020000
TZOFFSETFROM:+0100
TZOFFSETTO:+0200
TZNAME:Europe/Paris CEST
END:DAYLIGHT
BEGIN:DAYLIGHT
DTSTART:20230326T030000
RDATE:20231029T020000
TZOFFSETFROM:+0100
TZOFFSETTO:+0200
TZNAME:Europe/Paris CEST
END:DAYLIGHT
BEGIN:DAYLIGHT
DTSTART:20240331T030000
RDATE:20241027T020000
TZOFFSETFROM:+0100
TZOFFSETTO:+0200
TZNAME:Europe/Paris CEST
END:DAYLIGHT
BEGIN:DAYLIGHT
DTSTART:20250330T030000
RDATE:20251026T020000
TZOFFSETFROM:+0100
TZOFFSETTO:+0200
TZNAME:Europe/Paris CEST
END:DAYLIGHT
BEGIN:DAYLIGHT
DTSTART:20260329T030000
RDATE:20261025T020000
TZOFFSETFROM:+0100
TZOFFSETTO:+0200
TZNAME:Europe/Paris CEST
END:DAYLIGHT
END:VTIMEZONE
BEGIN:VEVENT
UID:31d920ae4c4543596bb64c34540630c2
CATEGORIES:Opens et Promos (alpin)
CREATED:20141127T000322
SUMMARY:PROMO  U8 à U16     Les dimanches de la Glisse / Trophée des Cheminots de Strasbourg
URL;VALUE=URI:https://skivosges.net/agenda/export-synchronisation/detailevenement/356/-/p
 romo-u8-a-u16-les-dimanches-de-la-glisse-trophee-des-cheminots-de-strasbour
 g?tmpl=component
DESCRIPTION:PROMO  U8 à U16     Les dimanches de la Glisse / Trophée des Cheminots de S
 trasbourg\n\nLieu : CHAMP DU FEU\nOrganisateur : A.S DES CHEMINOTS STRASBOU
 RG (14071 A.S DES CHEMINOTS STRASBOURG)\nEmail : RegularLabs.EmailProtector
 .unCloak("ep_9867ee53");\nTelecopie : 03.88.57.61.39\n\nDossards à retirer 
 au chalet des Skieurs de Strasbourg\nPetit géant de 14 portes.\n\nInscripti
 ons closes, tirage des dossards en cours\n - AMVF0591  Slalom Geant Dames\n
   PROMO  U8 à U16     Les dimanches de la Glisse / Trophée des Cheminots de
  Strasbourg\n - AMVM0591  Slalom Geant Hommes\n  PROMO  U8 à U16     Les di
 manches de la Glisse / Trophée des Cheminots de Strasbourg Cet évènement a 
 été importé depuis :https://skivosges.net/agenda/export-synchronisation/det
 ailevenement/356/-/promo-u8-a-u16-les-dimanches-de-la-glisse-trophee-des-ch
 eminots-de-strasbourg?tmpl=component
X-ALT-DESC;FMTTYPE=text/html:<strong>PROMO  U8 à U16     Les dimanches de la Glisse / Trophée des Chemin
 ots de Strasbourg</strong><br /><br />Lieu : CHAMP DU FEU<br />Organisateur
  : A.S DES CHEMINOTS STRASBOURG <small>(14071 A.S DES CHEMINOTS STRASBOURG)
 </small><br />Email : <!-- Cette adresse électronique est protégée contre l
 es robots spammeurs. --><span class="cloaked_email ep_9867ee53"><span data-
 ep-a="&#104;e&#114;v&#101;" data-ep-b=""><span data-ep-b="&#101;.&#110;&#10
 1;t" data-ep-a=".&#98;rig"><span data-ep-b="ap&#111;s&#116;" data-ep-a="non
 &#64;l"></span></span></span></span><script>RegularLabs.EmailProtector.unCl
 oak("ep_9867ee53");</script><br />Telecopie : 03.88.57.61.39<br /><br />Dos
 sards à retirer au chalet des Skieurs de Strasbourg<br>Petit géant de 14 po
 rtes.<br /><br />Inscriptions closes, tirage des dossards en cours<ul type=
 "disc"><li>AMVF0591  Slalom Geant Dames<br />&nbsp;&nbsp;PROMO  U8 à U16   
   Les dimanches de la Glisse / Trophée des Cheminots de Strasbourg</li><li>
 AMVM0591  Slalom Geant Hommes<br />&nbsp;&nbsp;PROMO  U8 à U16     Les dima
 nches de la Glisse / Trophée des Cheminots de Strasbourg</li></ul> <a href=
 "https://skivosges.net/agenda/export-synchronisation/detailevenement/356/-/
 promo-u8-a-u16-les-dimanches-de-la-glisse-trophee-des-cheminots-de-strasbou
 rg?tmpl=component">Cet évènement a été importé depuis :https://skivosges.ne
 t/agenda/export-synchronisation/detailevenement/356/-/promo-u8-a-u16-les-di
 manches-de-la-glisse-trophee-des-cheminots-de-strasbourg?tmpl=component</a>DTSTAMP:20260420T220714
DTSTART;TZID=Europe/Paris:20150301T080000
DTEND;TZID=Europe/Paris:20150301T170000
SEQUENCE:0
TRANSP:OPAQUE
END:VEVENT
END:VCALENDAR