BEGIN:VCALENDAR
VERSION:2.0
PRODID:-//jEvents 2.0 for Joomla//EN
CALSCALE:GREGORIAN
METHOD:PUBLISH
BEGIN:VTIMEZONE
TZID:Europe/Paris
BEGIN:STANDARD
DTSTART:20140306T080000
RDATE:20140330T030000
TZOFFSETFROM:+0200
TZOFFSETTO:+0100
TZNAME:Europe/Paris CET
END:STANDARD
BEGIN:STANDARD
DTSTART:20141026T020000
RDATE:20150329T030000
TZOFFSETFROM:+0200
TZOFFSETTO:+0100
TZNAME:Europe/Paris CET
END:STANDARD
BEGIN:STANDARD
DTSTART:20151025T020000
RDATE:20160327T030000
TZOFFSETFROM:+0200
TZOFFSETTO:+0100
TZNAME:Europe/Paris CET
END:STANDARD
BEGIN:STANDARD
DTSTART:20161030T020000
RDATE:20170326T030000
TZOFFSETFROM:+0200
TZOFFSETTO:+0100
TZNAME:Europe/Paris CET
END:STANDARD
BEGIN:STANDARD
DTSTART:20171029T020000
RDATE:20180325T030000
TZOFFSETFROM:+0200
TZOFFSETTO:+0100
TZNAME:Europe/Paris CET
END:STANDARD
BEGIN:STANDARD
DTSTART:20181028T020000
RDATE:20190331T030000
TZOFFSETFROM:+0200
TZOFFSETTO:+0100
TZNAME:Europe/Paris CET
END:STANDARD
BEGIN:STANDARD
DTSTART:20191027T020000
RDATE:20200329T030000
TZOFFSETFROM:+0200
TZOFFSETTO:+0100
TZNAME:Europe/Paris CET
END:STANDARD
BEGIN:STANDARD
DTSTART:20201025T020000
RDATE:20210328T030000
TZOFFSETFROM:+0200
TZOFFSETTO:+0100
TZNAME:Europe/Paris CET
END:STANDARD
BEGIN:STANDARD
DTSTART:20211031T020000
RDATE:20220327T030000
TZOFFSETFROM:+0200
TZOFFSETTO:+0100
TZNAME:Europe/Paris CET
END:STANDARD
BEGIN:STANDARD
DTSTART:20221030T020000
RDATE:20230326T030000
TZOFFSETFROM:+0200
TZOFFSETTO:+0100
TZNAME:Europe/Paris CET
END:STANDARD
BEGIN:STANDARD
DTSTART:20231029T020000
RDATE:20240331T030000
TZOFFSETFROM:+0200
TZOFFSETTO:+0100
TZNAME:Europe/Paris CET
END:STANDARD
BEGIN:STANDARD
DTSTART:20241027T020000
RDATE:20250330T030000
TZOFFSETFROM:+0200
TZOFFSETTO:+0100
TZNAME:Europe/Paris CET
END:STANDARD
BEGIN:STANDARD
DTSTART:20251026T020000
RDATE:20260329T030000
TZOFFSETFROM:+0200
TZOFFSETTO:+0100
TZNAME:Europe/Paris CET
END:STANDARD
BEGIN:STANDARD
DTSTART:20261025T020000
RDATE:20270328T030000
TZOFFSETFROM:+0200
TZOFFSETTO:+0100
TZNAME:Europe/Paris CET
END:STANDARD
BEGIN:DAYLIGHT
DTSTART:20140330T030000
RDATE:20141026T020000
TZOFFSETFROM:+0100
TZOFFSETTO:+0200
TZNAME:Europe/Paris CEST
END:DAYLIGHT
BEGIN:DAYLIGHT
DTSTART:20150329T030000
RDATE:20151025T020000
TZOFFSETFROM:+0100
TZOFFSETTO:+0200
TZNAME:Europe/Paris CEST
END:DAYLIGHT
BEGIN:DAYLIGHT
DTSTART:20160327T030000
RDATE:20161030T020000
TZOFFSETFROM:+0100
TZOFFSETTO:+0200
TZNAME:Europe/Paris CEST
END:DAYLIGHT
BEGIN:DAYLIGHT
DTSTART:20170326T030000
RDATE:20171029T020000
TZOFFSETFROM:+0100
TZOFFSETTO:+0200
TZNAME:Europe/Paris CEST
END:DAYLIGHT
BEGIN:DAYLIGHT
DTSTART:20180325T030000
RDATE:20181028T020000
TZOFFSETFROM:+0100
TZOFFSETTO:+0200
TZNAME:Europe/Paris CEST
END:DAYLIGHT
BEGIN:DAYLIGHT
DTSTART:20190331T030000
RDATE:20191027T020000
TZOFFSETFROM:+0100
TZOFFSETTO:+0200
TZNAME:Europe/Paris CEST
END:DAYLIGHT
BEGIN:DAYLIGHT
DTSTART:20200329T030000
RDATE:20201025T020000
TZOFFSETFROM:+0100
TZOFFSETTO:+0200
TZNAME:Europe/Paris CEST
END:DAYLIGHT
BEGIN:DAYLIGHT
DTSTART:20210328T030000
RDATE:20211031T020000
TZOFFSETFROM:+0100
TZOFFSETTO:+0200
TZNAME:Europe/Paris CEST
END:DAYLIGHT
BEGIN:DAYLIGHT
DTSTART:20220327T030000
RDATE:20221030T020000
TZOFFSETFROM:+0100
TZOFFSETTO:+0200
TZNAME:Europe/Paris CEST
END:DAYLIGHT
BEGIN:DAYLIGHT
DTSTART:20230326T030000
RDATE:20231029T020000
TZOFFSETFROM:+0100
TZOFFSETTO:+0200
TZNAME:Europe/Paris CEST
END:DAYLIGHT
BEGIN:DAYLIGHT
DTSTART:20240331T030000
RDATE:20241027T020000
TZOFFSETFROM:+0100
TZOFFSETTO:+0200
TZNAME:Europe/Paris CEST
END:DAYLIGHT
BEGIN:DAYLIGHT
DTSTART:20250330T030000
RDATE:20251026T020000
TZOFFSETFROM:+0100
TZOFFSETTO:+0200
TZNAME:Europe/Paris CEST
END:DAYLIGHT
BEGIN:DAYLIGHT
DTSTART:20260329T030000
RDATE:20261025T020000
TZOFFSETFROM:+0100
TZOFFSETTO:+0200
TZNAME:Europe/Paris CEST
END:DAYLIGHT
END:VTIMEZONE
BEGIN:VEVENT
UID:6380e3fd2333ddc3df39a7b7b31a0af4
CATEGORIES:Opens et Promos (alpin)
CREATED:20141127T000322
SUMMARY:PROMO  U8 à U21     Le Credit Mutuel
URL;VALUE=URI:https://skivosges.net/agenda/export-synchronisation/detailevenement/361/-/p
 romo-u8-a-u21-le-credit-mutuel?tmpl=component
DESCRIPTION:PROMO  U8 à U21     Le Credit Mutuel\n\nLieu : MARKSTEIN\nOrganisateur : S.
 C VALLEE DE WESSERLING (14186 S.C VALLEE DE WESSERLING)\nEmail : RegularLab
 s.EmailProtector.unCloak("ep_bf118d39");\nTelecopie : 03 89 82 78 08\nTelec
 opie : 03 89 82 78 08\n\nInscriptions en cours sur ce site\n - AMVF0911  Sl
 alom Geant Dames\n  PROMO  U8 à U21     Le Credit Mutuel\n - AMVM0911  Slal
 om Geant Hommes\n  PROMO  U8 à U21     Le Credit Mutuel Cet évènement a été
  importé depuis :https://skivosges.net/agenda/export-synchronisation/detail
 evenement/361/-/promo-u8-a-u21-le-credit-mutuel?tmpl=component
X-ALT-DESC;FMTTYPE=text/html:<strong>PROMO  U8 à U21     Le Credit Mutuel</strong><br /><br />Lieu : MAR
 KSTEIN<br />Organisateur : S.C VALLEE DE WESSERLING <small>(14186 S.C VALLE
 E DE WESSERLING)</small><br />Email : <!-- Cette adresse électronique est p
 rotégée contre les robots spammeurs. --><span class="cloaked_email ep_bf118
 d39"><span data-ep-a="&#115;c&#118;w" data-ep-b="m"><span data-ep-b="&#108;
 &#46;&#99;&#111;" data-ep-a="e&#115;&#115;&#101;"><span data-ep-a="r&#108;&
 #105;&#110;" data-ep-b="&#103;&#64;&#97;&#111;"></span></span></span></span
 ><script>RegularLabs.EmailProtector.unCloak("ep_bf118d39");</script><br />T
 elecopie : 03 89 82 78 08<br />Telecopie : 03 89 82 78 08<br /><br />Inscri
 ptions en cours sur ce site<ul type="disc"><li>AMVF0911  Slalom Geant Dames
 <br />&nbsp;&nbsp;PROMO  U8 à U21     Le Credit Mutuel</li><li>AMVM0911  Sl
 alom Geant Hommes<br />&nbsp;&nbsp;PROMO  U8 à U21     Le Credit Mutuel</li
 ></ul> <a href="https://skivosges.net/agenda/export-synchronisation/detaile
 venement/361/-/promo-u8-a-u21-le-credit-mutuel?tmpl=component">Cet évènemen
 t a été importé depuis :https://skivosges.net/agenda/export-synchronisation
 /detailevenement/361/-/promo-u8-a-u21-le-credit-mutuel?tmpl=component</a>DTSTAMP:20260420T220634
DTSTART;TZID=Europe/Paris:20150307T080000
DTEND;TZID=Europe/Paris:20150307T170000
SEQUENCE:0
TRANSP:OPAQUE
END:VEVENT
END:VCALENDAR