BEGIN:VCALENDAR
VERSION:2.0
PRODID:-//jEvents 2.0 for Joomla//EN
CALSCALE:GREGORIAN
METHOD:PUBLISH
BEGIN:VTIMEZONE
TZID:Europe/Paris
BEGIN:STANDARD
DTSTART:20140307T080000
RDATE:20140330T030000
TZOFFSETFROM:+0200
TZOFFSETTO:+0100
TZNAME:Europe/Paris CET
END:STANDARD
BEGIN:STANDARD
DTSTART:20141026T020000
RDATE:20150329T030000
TZOFFSETFROM:+0200
TZOFFSETTO:+0100
TZNAME:Europe/Paris CET
END:STANDARD
BEGIN:STANDARD
DTSTART:20151025T020000
RDATE:20160327T030000
TZOFFSETFROM:+0200
TZOFFSETTO:+0100
TZNAME:Europe/Paris CET
END:STANDARD
BEGIN:STANDARD
DTSTART:20161030T020000
RDATE:20170326T030000
TZOFFSETFROM:+0200
TZOFFSETTO:+0100
TZNAME:Europe/Paris CET
END:STANDARD
BEGIN:STANDARD
DTSTART:20171029T020000
RDATE:20180325T030000
TZOFFSETFROM:+0200
TZOFFSETTO:+0100
TZNAME:Europe/Paris CET
END:STANDARD
BEGIN:STANDARD
DTSTART:20181028T020000
RDATE:20190331T030000
TZOFFSETFROM:+0200
TZOFFSETTO:+0100
TZNAME:Europe/Paris CET
END:STANDARD
BEGIN:STANDARD
DTSTART:20191027T020000
RDATE:20200329T030000
TZOFFSETFROM:+0200
TZOFFSETTO:+0100
TZNAME:Europe/Paris CET
END:STANDARD
BEGIN:STANDARD
DTSTART:20201025T020000
RDATE:20210328T030000
TZOFFSETFROM:+0200
TZOFFSETTO:+0100
TZNAME:Europe/Paris CET
END:STANDARD
BEGIN:STANDARD
DTSTART:20211031T020000
RDATE:20220327T030000
TZOFFSETFROM:+0200
TZOFFSETTO:+0100
TZNAME:Europe/Paris CET
END:STANDARD
BEGIN:STANDARD
DTSTART:20221030T020000
RDATE:20230326T030000
TZOFFSETFROM:+0200
TZOFFSETTO:+0100
TZNAME:Europe/Paris CET
END:STANDARD
BEGIN:STANDARD
DTSTART:20231029T020000
RDATE:20240331T030000
TZOFFSETFROM:+0200
TZOFFSETTO:+0100
TZNAME:Europe/Paris CET
END:STANDARD
BEGIN:STANDARD
DTSTART:20241027T020000
RDATE:20250330T030000
TZOFFSETFROM:+0200
TZOFFSETTO:+0100
TZNAME:Europe/Paris CET
END:STANDARD
BEGIN:STANDARD
DTSTART:20251026T020000
RDATE:20260329T030000
TZOFFSETFROM:+0200
TZOFFSETTO:+0100
TZNAME:Europe/Paris CET
END:STANDARD
BEGIN:STANDARD
DTSTART:20261025T020000
RDATE:20270328T030000
TZOFFSETFROM:+0200
TZOFFSETTO:+0100
TZNAME:Europe/Paris CET
END:STANDARD
BEGIN:DAYLIGHT
DTSTART:20140330T030000
RDATE:20141026T020000
TZOFFSETFROM:+0100
TZOFFSETTO:+0200
TZNAME:Europe/Paris CEST
END:DAYLIGHT
BEGIN:DAYLIGHT
DTSTART:20150329T030000
RDATE:20151025T020000
TZOFFSETFROM:+0100
TZOFFSETTO:+0200
TZNAME:Europe/Paris CEST
END:DAYLIGHT
BEGIN:DAYLIGHT
DTSTART:20160327T030000
RDATE:20161030T020000
TZOFFSETFROM:+0100
TZOFFSETTO:+0200
TZNAME:Europe/Paris CEST
END:DAYLIGHT
BEGIN:DAYLIGHT
DTSTART:20170326T030000
RDATE:20171029T020000
TZOFFSETFROM:+0100
TZOFFSETTO:+0200
TZNAME:Europe/Paris CEST
END:DAYLIGHT
BEGIN:DAYLIGHT
DTSTART:20180325T030000
RDATE:20181028T020000
TZOFFSETFROM:+0100
TZOFFSETTO:+0200
TZNAME:Europe/Paris CEST
END:DAYLIGHT
BEGIN:DAYLIGHT
DTSTART:20190331T030000
RDATE:20191027T020000
TZOFFSETFROM:+0100
TZOFFSETTO:+0200
TZNAME:Europe/Paris CEST
END:DAYLIGHT
BEGIN:DAYLIGHT
DTSTART:20200329T030000
RDATE:20201025T020000
TZOFFSETFROM:+0100
TZOFFSETTO:+0200
TZNAME:Europe/Paris CEST
END:DAYLIGHT
BEGIN:DAYLIGHT
DTSTART:20210328T030000
RDATE:20211031T020000
TZOFFSETFROM:+0100
TZOFFSETTO:+0200
TZNAME:Europe/Paris CEST
END:DAYLIGHT
BEGIN:DAYLIGHT
DTSTART:20220327T030000
RDATE:20221030T020000
TZOFFSETFROM:+0100
TZOFFSETTO:+0200
TZNAME:Europe/Paris CEST
END:DAYLIGHT
BEGIN:DAYLIGHT
DTSTART:20230326T030000
RDATE:20231029T020000
TZOFFSETFROM:+0100
TZOFFSETTO:+0200
TZNAME:Europe/Paris CEST
END:DAYLIGHT
BEGIN:DAYLIGHT
DTSTART:20240331T030000
RDATE:20241027T020000
TZOFFSETFROM:+0100
TZOFFSETTO:+0200
TZNAME:Europe/Paris CEST
END:DAYLIGHT
BEGIN:DAYLIGHT
DTSTART:20250330T030000
RDATE:20251026T020000
TZOFFSETFROM:+0100
TZOFFSETTO:+0200
TZNAME:Europe/Paris CEST
END:DAYLIGHT
BEGIN:DAYLIGHT
DTSTART:20260329T030000
RDATE:20261025T020000
TZOFFSETFROM:+0100
TZOFFSETTO:+0200
TZNAME:Europe/Paris CEST
END:DAYLIGHT
END:VTIMEZONE
BEGIN:VEVENT
UID:aa4cdceee3381628ee8db40d0de5761a
CATEGORIES:Circuit Massif Jeunes (alpin)
CREATED:20141127T000322
SUMMARY:GPJ  U12etU14     GP de la Ville de la Ville de St Amarin
URL;VALUE=URI:https://skivosges.net/agenda/export-synchronisation/detailevenement/362/-/g
 pj-u12etu14-gp-de-la-ville-de-la-ville-de-st-amarin?tmpl=component
DESCRIPTION:GPJ  U12etU14     GP de la Ville de la Ville de St Amarin \n(Grand Prix Jeu
 nes)\n\nLieu : MARKSTEIN\nOrganisateur : SKI CLUB EDELWEISS SAINT AMARIN (1
 4058 SKI CLUB EDELWEISS SAINT AMARIN)\nEmail : RegularLabs.EmailProtector.u
 nCloak("ep_4b271e10");\nTelecopie : 03 89 82 23 60\n\nInscriptions closes, 
 les listes de départ sont visualisables sur ce site\n  Organisateur:SKI CLU
 B EDELWEISS SAINT AMARI\n - AMVF0641  Slalom (Coupe d'Argent) U12 Filles\n 
  GPJ  U12etU14     GP de la Ville de la Ville de St Amarin\n  Organisateur:
 SKI CLUB EDELWEISS SAINT AMARI\n - AMVM0641  Slalom (Coupe d'Argent) U12 Ga
 rçons\n  GPJ  U12etU14     GP de la Ville de la Ville de St Amarin\n  Organ
 isateur:SKI CLUB EDELWEISS SAINT AMARI\n - AMVF0642  Slalom (Coupe d'Argent
 ) U14 Filles\n  GPJ  U12etU14     GP de la Ville de la Ville de St Amarin\n
   Organisateur:SKI CLUB EDELWEISS SAINT AMARI\n - AMVM0642  Slalom (Coupe d
 'Argent) U14 Garçons\n  GPJ  U12etU14     GP de la Ville de la Ville de St 
 Amarin Cet évènement a été importé depuis :https://skivosges.net/agenda/exp
 ort-synchronisation/detailevenement/362/-/gpj-u12etu14-gp-de-la-ville-de-la
 -ville-de-st-amarin?tmpl=component
X-ALT-DESC;FMTTYPE=text/html:<strong>GPJ  U12etU14     GP de la Ville de la Ville de St Amarin</strong> 
 <br /><i>(Grand Prix Jeunes)</i><br /><br />Lieu : MARKSTEIN<br />Organisat
 eur : SKI CLUB EDELWEISS SAINT AMARIN <small>(14058 SKI CLUB EDELWEISS SAIN
 T AMARIN)</small><br />Email : <!-- Cette adresse électronique est protégée
  contre les robots spammeurs. --><span class="cloaked_email ep_4b271e10"><s
 pan data-ep-b="&#101;&#46;&#102;&#114;" data-ep-a="&#107;lin"><span data-ep
 -a="&#103;&#101;ls" data-ep-b="&#64;f&#114;&#101;"><span data-ep-b="&#100;&
 #116;&#46;g" data-ep-a="c&#104;&#109;&#105;"></span></span></span></span><s
 cript>RegularLabs.EmailProtector.unCloak("ep_4b271e10");</script><br />Tele
 copie : 03 89 82 23 60<br /><br />Inscriptions closes, les listes de départ
  sont visualisables sur ce site<ul type="disc"><br />&nbsp;&nbsp;Organisate
 ur:SKI CLUB EDELWEISS SAINT AMARI<li>AMVF0641  Slalom <nobr><i>(Coupe d'Arg
 ent)</i></nobr> <nobr>U12</nobr> Filles<br />&nbsp;&nbsp;GPJ  U12etU14     
 GP de la Ville de la Ville de St Amarin</li><br />&nbsp;&nbsp;Organisateur:
 SKI CLUB EDELWEISS SAINT AMARI<li>AMVM0641  Slalom <nobr><i>(Coupe d'Argent
 )</i></nobr> <nobr>U12</nobr> Garçons<br />&nbsp;&nbsp;GPJ  U12etU14     GP
  de la Ville de la Ville de St Amarin</li><br />&nbsp;&nbsp;Organisateur:SK
 I CLUB EDELWEISS SAINT AMARI<li>AMVF0642  Slalom <nobr><i>(Coupe d'Argent)<
 /i></nobr> <nobr>U14</nobr> Filles<br />&nbsp;&nbsp;GPJ  U12etU14     GP de
  la Ville de la Ville de St Amarin</li><br />&nbsp;&nbsp;Organisateur:SKI C
 LUB EDELWEISS SAINT AMARI<li>AMVM0642  Slalom <nobr><i>(Coupe d'Argent)</i>
 </nobr> <nobr>U14</nobr> Garçons<br />&nbsp;&nbsp;GPJ  U12etU14     GP de l
 a Ville de la Ville de St Amarin</li></ul> <a href="https://skivosges.net/a
 genda/export-synchronisation/detailevenement/362/-/gpj-u12etu14-gp-de-la-vi
 lle-de-la-ville-de-st-amarin?tmpl=component">Cet évènement a été importé de
 puis :https://skivosges.net/agenda/export-synchronisation/detailevenement/3
 62/-/gpj-u12etu14-gp-de-la-ville-de-la-ville-de-st-amarin?tmpl=component</a
 >DTSTAMP:20260420T220551
DTSTART;TZID=Europe/Paris:20150308T080000
DTEND;TZID=Europe/Paris:20150308T170000
SEQUENCE:0
TRANSP:OPAQUE
END:VEVENT
END:VCALENDAR