BEGIN:VCALENDAR
VERSION:2.0
PRODID:-//jEvents 2.0 for Joomla//EN
CALSCALE:GREGORIAN
METHOD:PUBLISH
BEGIN:VTIMEZONE
TZID:Europe/Paris
BEGIN:STANDARD
DTSTART:20140307T080000
RDATE:20140330T030000
TZOFFSETFROM:+0200
TZOFFSETTO:+0100
TZNAME:Europe/Paris CET
END:STANDARD
BEGIN:STANDARD
DTSTART:20141026T020000
RDATE:20150329T030000
TZOFFSETFROM:+0200
TZOFFSETTO:+0100
TZNAME:Europe/Paris CET
END:STANDARD
BEGIN:STANDARD
DTSTART:20151025T020000
RDATE:20160327T030000
TZOFFSETFROM:+0200
TZOFFSETTO:+0100
TZNAME:Europe/Paris CET
END:STANDARD
BEGIN:STANDARD
DTSTART:20161030T020000
RDATE:20170326T030000
TZOFFSETFROM:+0200
TZOFFSETTO:+0100
TZNAME:Europe/Paris CET
END:STANDARD
BEGIN:STANDARD
DTSTART:20171029T020000
RDATE:20180325T030000
TZOFFSETFROM:+0200
TZOFFSETTO:+0100
TZNAME:Europe/Paris CET
END:STANDARD
BEGIN:STANDARD
DTSTART:20181028T020000
RDATE:20190331T030000
TZOFFSETFROM:+0200
TZOFFSETTO:+0100
TZNAME:Europe/Paris CET
END:STANDARD
BEGIN:STANDARD
DTSTART:20191027T020000
RDATE:20200329T030000
TZOFFSETFROM:+0200
TZOFFSETTO:+0100
TZNAME:Europe/Paris CET
END:STANDARD
BEGIN:STANDARD
DTSTART:20201025T020000
RDATE:20210328T030000
TZOFFSETFROM:+0200
TZOFFSETTO:+0100
TZNAME:Europe/Paris CET
END:STANDARD
BEGIN:STANDARD
DTSTART:20211031T020000
RDATE:20220327T030000
TZOFFSETFROM:+0200
TZOFFSETTO:+0100
TZNAME:Europe/Paris CET
END:STANDARD
BEGIN:STANDARD
DTSTART:20221030T020000
RDATE:20230326T030000
TZOFFSETFROM:+0200
TZOFFSETTO:+0100
TZNAME:Europe/Paris CET
END:STANDARD
BEGIN:STANDARD
DTSTART:20231029T020000
RDATE:20240331T030000
TZOFFSETFROM:+0200
TZOFFSETTO:+0100
TZNAME:Europe/Paris CET
END:STANDARD
BEGIN:STANDARD
DTSTART:20241027T020000
RDATE:20250330T030000
TZOFFSETFROM:+0200
TZOFFSETTO:+0100
TZNAME:Europe/Paris CET
END:STANDARD
BEGIN:STANDARD
DTSTART:20251026T020000
RDATE:20260329T030000
TZOFFSETFROM:+0200
TZOFFSETTO:+0100
TZNAME:Europe/Paris CET
END:STANDARD
BEGIN:STANDARD
DTSTART:20261025T020000
RDATE:20270328T030000
TZOFFSETFROM:+0200
TZOFFSETTO:+0100
TZNAME:Europe/Paris CET
END:STANDARD
BEGIN:DAYLIGHT
DTSTART:20140330T030000
RDATE:20141026T020000
TZOFFSETFROM:+0100
TZOFFSETTO:+0200
TZNAME:Europe/Paris CEST
END:DAYLIGHT
BEGIN:DAYLIGHT
DTSTART:20150329T030000
RDATE:20151025T020000
TZOFFSETFROM:+0100
TZOFFSETTO:+0200
TZNAME:Europe/Paris CEST
END:DAYLIGHT
BEGIN:DAYLIGHT
DTSTART:20160327T030000
RDATE:20161030T020000
TZOFFSETFROM:+0100
TZOFFSETTO:+0200
TZNAME:Europe/Paris CEST
END:DAYLIGHT
BEGIN:DAYLIGHT
DTSTART:20170326T030000
RDATE:20171029T020000
TZOFFSETFROM:+0100
TZOFFSETTO:+0200
TZNAME:Europe/Paris CEST
END:DAYLIGHT
BEGIN:DAYLIGHT
DTSTART:20180325T030000
RDATE:20181028T020000
TZOFFSETFROM:+0100
TZOFFSETTO:+0200
TZNAME:Europe/Paris CEST
END:DAYLIGHT
BEGIN:DAYLIGHT
DTSTART:20190331T030000
RDATE:20191027T020000
TZOFFSETFROM:+0100
TZOFFSETTO:+0200
TZNAME:Europe/Paris CEST
END:DAYLIGHT
BEGIN:DAYLIGHT
DTSTART:20200329T030000
RDATE:20201025T020000
TZOFFSETFROM:+0100
TZOFFSETTO:+0200
TZNAME:Europe/Paris CEST
END:DAYLIGHT
BEGIN:DAYLIGHT
DTSTART:20210328T030000
RDATE:20211031T020000
TZOFFSETFROM:+0100
TZOFFSETTO:+0200
TZNAME:Europe/Paris CEST
END:DAYLIGHT
BEGIN:DAYLIGHT
DTSTART:20220327T030000
RDATE:20221030T020000
TZOFFSETFROM:+0100
TZOFFSETTO:+0200
TZNAME:Europe/Paris CEST
END:DAYLIGHT
BEGIN:DAYLIGHT
DTSTART:20230326T030000
RDATE:20231029T020000
TZOFFSETFROM:+0100
TZOFFSETTO:+0200
TZNAME:Europe/Paris CEST
END:DAYLIGHT
BEGIN:DAYLIGHT
DTSTART:20240331T030000
RDATE:20241027T020000
TZOFFSETFROM:+0100
TZOFFSETTO:+0200
TZNAME:Europe/Paris CEST
END:DAYLIGHT
BEGIN:DAYLIGHT
DTSTART:20250330T030000
RDATE:20251026T020000
TZOFFSETFROM:+0100
TZOFFSETTO:+0200
TZNAME:Europe/Paris CEST
END:DAYLIGHT
BEGIN:DAYLIGHT
DTSTART:20260329T030000
RDATE:20261025T020000
TZOFFSETFROM:+0100
TZOFFSETTO:+0200
TZNAME:Europe/Paris CEST
END:DAYLIGHT
END:VTIMEZONE
BEGIN:VEVENT
UID:a067512a96ca3b369a5a430a95eef94f
CATEGORIES:Opens et Promos (alpin)
CREATED:20141127T000322
SUMMARY:OPEN  U8àU10-U12àU14     Course du SC Hohneck Colmar **REPORTE**
URL;VALUE=URI:https://skivosges.net/agenda/export-synchronisation/detailevenement/363/-/o
 pen-u8au10-u12au14-course-du-sc-hohneck-colmar-reporte?tmpl=component
DESCRIPTION:<strong>OPEN  U8àU10-U12àU14     Course du SC Hohneck Colmar</strong> <font
  class="attention4">(Epreuve reportée, date à determiner)</font><br /><br /
 >Lieu : SCHNEPFENRIED<br />Organisateur : SKI CLUB HOHNECK <small>(14087 SK
 I CLUB HOHNECK)</small><br />Email : <!-- Cette adresse électronique est pr
 otégée contre les robots spammeurs. --><span class="cloaked_email ep_d5277b
 d7"><span data-ep-a="&#115;y&#118;a" data-ep-b="&#102;&#114;"><span data-ep
 -a="&#105;&#110;.&#99;" data-ep-b="n&#103;e&#46;"><span data-ep-b="&#64;&#1
 11;&#114;&#97;" data-ep-a="&#111;s&#109;&#111;"></span></span></span></span
 ><script>RegularLabs.EmailProtector.unCloak("ep_d5277bd7");</script><br />T
 elecopie : 03 89 49 31 51<br /><br />Début de la course à 10h.<br>Retrait d
 es dossards à l´entrée du restaurant &quot;le Panoramic&quot; (bâtiment acc
 ueil de la station).<br><br>ATTENTION : COURSE ANNULEE FAUTE D´UN NOMBRE SU
 FFISANT DE PARTICIPANTS<br /><br />Inscriptions en cours sur ce site<ul typ
 e="disc"><br />&nbsp;&nbsp;Lieu:GASCHNEY<li>AMVF0631  Slalom Geant <nobr>U1
 2/U14</nobr> Filles<br />&nbsp;&nbsp;OPEN  U8àU10-U12àU14     Course du SC 
 Hohneck Colmar</li><br />&nbsp;&nbsp;Lieu:GASCHNEY<li>AMVM0631  Slalom Gean
 t <nobr>U12/U14</nobr> Garçons<br />&nbsp;&nbsp;OPEN  U8àU10-U12àU14     Co
 urse du SC Hohneck Colmar</li><br />&nbsp;&nbsp;Lieu:GASCHNEY<li>AMVF0632  
 Slalom Geant <nobr>U8/U10</nobr> Filles<br />&nbsp;&nbsp;OPEN  U8àU10-U12àU
 14     Course du SC Hohneck Colmar</li><br />&nbsp;&nbsp;Lieu:GASCHNEY<li>A
 MVM0632  Slalom Geant <nobr>U8/U10</nobr> Garçons<br />&nbsp;&nbsp;OPEN  U8
 àU10-U12àU14     Course du SC Hohneck Colmar</li></ul> <a href="https://ski
 vosges.net/agenda/export-synchronisation/detailevenement/363/-/open-u8au10-
 u12au14-course-du-sc-hohneck-colmar-reporte?tmpl=component">Cet évènement a
  été importé depuis :https://skivosges.net/agenda/export-synchronisation/de
 tailevenement/363/-/open-u8au10-u12au14-course-du-sc-hohneck-colmar-reporte
 ?tmpl=component</a>DTSTAMP:20260420T221602
DTSTART;TZID=Europe/Paris:20150308T080000
DTEND;TZID=Europe/Paris:20150308T170000
SEQUENCE:0
TRANSP:OPAQUE
END:VEVENT
END:VCALENDAR