BEGIN:VCALENDAR
VERSION:2.0
PRODID:-//jEvents 2.0 for Joomla//EN
CALSCALE:GREGORIAN
METHOD:PUBLISH
BEGIN:VTIMEZONE
TZID:Europe/Paris
BEGIN:STANDARD
DTSTART:20140313T080000
RDATE:20140330T030000
TZOFFSETFROM:+0200
TZOFFSETTO:+0100
TZNAME:Europe/Paris CET
END:STANDARD
BEGIN:STANDARD
DTSTART:20141026T020000
RDATE:20150329T030000
TZOFFSETFROM:+0200
TZOFFSETTO:+0100
TZNAME:Europe/Paris CET
END:STANDARD
BEGIN:STANDARD
DTSTART:20151025T020000
RDATE:20160327T030000
TZOFFSETFROM:+0200
TZOFFSETTO:+0100
TZNAME:Europe/Paris CET
END:STANDARD
BEGIN:STANDARD
DTSTART:20161030T020000
RDATE:20170326T030000
TZOFFSETFROM:+0200
TZOFFSETTO:+0100
TZNAME:Europe/Paris CET
END:STANDARD
BEGIN:STANDARD
DTSTART:20171029T020000
RDATE:20180325T030000
TZOFFSETFROM:+0200
TZOFFSETTO:+0100
TZNAME:Europe/Paris CET
END:STANDARD
BEGIN:STANDARD
DTSTART:20181028T020000
RDATE:20190331T030000
TZOFFSETFROM:+0200
TZOFFSETTO:+0100
TZNAME:Europe/Paris CET
END:STANDARD
BEGIN:STANDARD
DTSTART:20191027T020000
RDATE:20200329T030000
TZOFFSETFROM:+0200
TZOFFSETTO:+0100
TZNAME:Europe/Paris CET
END:STANDARD
BEGIN:STANDARD
DTSTART:20201025T020000
RDATE:20210328T030000
TZOFFSETFROM:+0200
TZOFFSETTO:+0100
TZNAME:Europe/Paris CET
END:STANDARD
BEGIN:STANDARD
DTSTART:20211031T020000
RDATE:20220327T030000
TZOFFSETFROM:+0200
TZOFFSETTO:+0100
TZNAME:Europe/Paris CET
END:STANDARD
BEGIN:STANDARD
DTSTART:20221030T020000
RDATE:20230326T030000
TZOFFSETFROM:+0200
TZOFFSETTO:+0100
TZNAME:Europe/Paris CET
END:STANDARD
BEGIN:STANDARD
DTSTART:20231029T020000
RDATE:20240331T030000
TZOFFSETFROM:+0200
TZOFFSETTO:+0100
TZNAME:Europe/Paris CET
END:STANDARD
BEGIN:STANDARD
DTSTART:20241027T020000
RDATE:20250330T030000
TZOFFSETFROM:+0200
TZOFFSETTO:+0100
TZNAME:Europe/Paris CET
END:STANDARD
BEGIN:STANDARD
DTSTART:20251026T020000
RDATE:20260329T030000
TZOFFSETFROM:+0200
TZOFFSETTO:+0100
TZNAME:Europe/Paris CET
END:STANDARD
BEGIN:STANDARD
DTSTART:20261025T020000
RDATE:20270328T030000
TZOFFSETFROM:+0200
TZOFFSETTO:+0100
TZNAME:Europe/Paris CET
END:STANDARD
BEGIN:DAYLIGHT
DTSTART:20140330T030000
RDATE:20141026T020000
TZOFFSETFROM:+0100
TZOFFSETTO:+0200
TZNAME:Europe/Paris CEST
END:DAYLIGHT
BEGIN:DAYLIGHT
DTSTART:20150329T030000
RDATE:20151025T020000
TZOFFSETFROM:+0100
TZOFFSETTO:+0200
TZNAME:Europe/Paris CEST
END:DAYLIGHT
BEGIN:DAYLIGHT
DTSTART:20160327T030000
RDATE:20161030T020000
TZOFFSETFROM:+0100
TZOFFSETTO:+0200
TZNAME:Europe/Paris CEST
END:DAYLIGHT
BEGIN:DAYLIGHT
DTSTART:20170326T030000
RDATE:20171029T020000
TZOFFSETFROM:+0100
TZOFFSETTO:+0200
TZNAME:Europe/Paris CEST
END:DAYLIGHT
BEGIN:DAYLIGHT
DTSTART:20180325T030000
RDATE:20181028T020000
TZOFFSETFROM:+0100
TZOFFSETTO:+0200
TZNAME:Europe/Paris CEST
END:DAYLIGHT
BEGIN:DAYLIGHT
DTSTART:20190331T030000
RDATE:20191027T020000
TZOFFSETFROM:+0100
TZOFFSETTO:+0200
TZNAME:Europe/Paris CEST
END:DAYLIGHT
BEGIN:DAYLIGHT
DTSTART:20200329T030000
RDATE:20201025T020000
TZOFFSETFROM:+0100
TZOFFSETTO:+0200
TZNAME:Europe/Paris CEST
END:DAYLIGHT
BEGIN:DAYLIGHT
DTSTART:20210328T030000
RDATE:20211031T020000
TZOFFSETFROM:+0100
TZOFFSETTO:+0200
TZNAME:Europe/Paris CEST
END:DAYLIGHT
BEGIN:DAYLIGHT
DTSTART:20220327T030000
RDATE:20221030T020000
TZOFFSETFROM:+0100
TZOFFSETTO:+0200
TZNAME:Europe/Paris CEST
END:DAYLIGHT
BEGIN:DAYLIGHT
DTSTART:20230326T030000
RDATE:20231029T020000
TZOFFSETFROM:+0100
TZOFFSETTO:+0200
TZNAME:Europe/Paris CEST
END:DAYLIGHT
BEGIN:DAYLIGHT
DTSTART:20240331T030000
RDATE:20241027T020000
TZOFFSETFROM:+0100
TZOFFSETTO:+0200
TZNAME:Europe/Paris CEST
END:DAYLIGHT
BEGIN:DAYLIGHT
DTSTART:20250330T030000
RDATE:20251026T020000
TZOFFSETFROM:+0100
TZOFFSETTO:+0200
TZNAME:Europe/Paris CEST
END:DAYLIGHT
BEGIN:DAYLIGHT
DTSTART:20260329T030000
RDATE:20261025T020000
TZOFFSETFROM:+0100
TZOFFSETTO:+0200
TZNAME:Europe/Paris CEST
END:DAYLIGHT
END:VTIMEZONE
BEGIN:VEVENT
UID:06fe92347a6df7fb7354eb26109dd493
CATEGORIES:Circuit Massif Masters (alpin)
CREATED:20141127T000323
SUMMARY:GPM  +U30     GP de l´Auberge du Pied du Hohneck
URL;VALUE=URI:https://skivosges.net/agenda/export-synchronisation/detailevenement/370/-/g
 pm-u30-gp-de-lauberge-du-pied-du-hohneck?tmpl=component
DESCRIPTION:<strong>GPM  +U30     GP de l´Auberge du Pied du Hohneck</strong> <br /><i>
 (Grand Prix Masters)</i><br /><br />Lieu : LA BRESSE<br />Piste : Stade de 
 Slalom<br />Organisateur : LA BRESSAUDE SECTION SKI <small>(14024 LA BRESSA
 UDE SECTION SKI)</small><br />Email : <!-- Cette adresse électronique est p
 rotégée contre les robots spammeurs. --><span class="cloaked_email ep_5aef4
 e5c"><span data-ep-a="od&#105;&#108;&#101;" data-ep-b="&#102;r"><span data-
 ep-a=".mu&#110;&#115;" data-ep-b="&#97;ng&#101;&#46;"><span data-ep-a="&#99
 ;&#104;&#46;&#115;&#99;" data-ep-b="lb&#64;or"></span></span></span></span>
 <script>RegularLabs.EmailProtector.unCloak("ep_5aef4e5c");</script><br />Te
 lecopie : 0608855252<br /><br />Premier départ à 15H 00<br /><br />Inscript
 ions closes, tirage des dossards en cours<ul type="disc"><li>AMVF0661  Slal
 om Geant <nobr><i>(Courses Masters)</i></nobr> <nobr>Tous les Masters Dames
 </nobr> Dames<br />&nbsp;&nbsp;GPM  +U30     GP de l'Auberge du Pied du Hoh
 neck</li><li>AMVM0661  Slalom Geant <nobr><i>(Courses Masters)</i></nobr> <
 nobr>Master A1 a A5 Hommes</nobr> Hommes<br />&nbsp;&nbsp;GPM  +U30     GP 
 de l'Auberge du Pied du Hohneck</li><li>AMVM0662  Slalom Geant <nobr><i>(Co
 urses Masters)</i></nobr> <nobr>Master B6 a B13 Hommes</nobr> Hommes<br />&
 nbsp;&nbsp;GPM  +U30     GP de l'Auberge du Pied du Hohneck</li></ul> <a hr
 ef="https://skivosges.net/agenda/export-synchronisation/detailevenement/370
 /-/gpm-u30-gp-de-lauberge-du-pied-du-hohneck?tmpl=component">Cet évènement 
 a été importé depuis :https://skivosges.net/agenda/export-synchronisation/d
 etailevenement/370/-/gpm-u30-gp-de-lauberge-du-pied-du-hohneck?tmpl=compone
 nt</a>DTSTAMP:20260420T221356
DTSTART;TZID=Europe/Paris:20150314T080000
DTEND;TZID=Europe/Paris:20150314T170000
SEQUENCE:0
TRANSP:OPAQUE
END:VEVENT
END:VCALENDAR