BEGIN:VCALENDAR
VERSION:2.0
PRODID:-//jEvents 2.0 for Joomla//EN
CALSCALE:GREGORIAN
METHOD:PUBLISH
BEGIN:VTIMEZONE
TZID:Europe/Paris
BEGIN:STANDARD
DTSTART:20140314T080000
RDATE:20140330T030000
TZOFFSETFROM:+0200
TZOFFSETTO:+0100
TZNAME:Europe/Paris CET
END:STANDARD
BEGIN:STANDARD
DTSTART:20141026T020000
RDATE:20150329T030000
TZOFFSETFROM:+0200
TZOFFSETTO:+0100
TZNAME:Europe/Paris CET
END:STANDARD
BEGIN:STANDARD
DTSTART:20151025T020000
RDATE:20160327T030000
TZOFFSETFROM:+0200
TZOFFSETTO:+0100
TZNAME:Europe/Paris CET
END:STANDARD
BEGIN:STANDARD
DTSTART:20161030T020000
RDATE:20170326T030000
TZOFFSETFROM:+0200
TZOFFSETTO:+0100
TZNAME:Europe/Paris CET
END:STANDARD
BEGIN:STANDARD
DTSTART:20171029T020000
RDATE:20180325T030000
TZOFFSETFROM:+0200
TZOFFSETTO:+0100
TZNAME:Europe/Paris CET
END:STANDARD
BEGIN:STANDARD
DTSTART:20181028T020000
RDATE:20190331T030000
TZOFFSETFROM:+0200
TZOFFSETTO:+0100
TZNAME:Europe/Paris CET
END:STANDARD
BEGIN:STANDARD
DTSTART:20191027T020000
RDATE:20200329T030000
TZOFFSETFROM:+0200
TZOFFSETTO:+0100
TZNAME:Europe/Paris CET
END:STANDARD
BEGIN:STANDARD
DTSTART:20201025T020000
RDATE:20210328T030000
TZOFFSETFROM:+0200
TZOFFSETTO:+0100
TZNAME:Europe/Paris CET
END:STANDARD
BEGIN:STANDARD
DTSTART:20211031T020000
RDATE:20220327T030000
TZOFFSETFROM:+0200
TZOFFSETTO:+0100
TZNAME:Europe/Paris CET
END:STANDARD
BEGIN:STANDARD
DTSTART:20221030T020000
RDATE:20230326T030000
TZOFFSETFROM:+0200
TZOFFSETTO:+0100
TZNAME:Europe/Paris CET
END:STANDARD
BEGIN:STANDARD
DTSTART:20231029T020000
RDATE:20240331T030000
TZOFFSETFROM:+0200
TZOFFSETTO:+0100
TZNAME:Europe/Paris CET
END:STANDARD
BEGIN:STANDARD
DTSTART:20241027T020000
RDATE:20250330T030000
TZOFFSETFROM:+0200
TZOFFSETTO:+0100
TZNAME:Europe/Paris CET
END:STANDARD
BEGIN:STANDARD
DTSTART:20251026T020000
RDATE:20260329T030000
TZOFFSETFROM:+0200
TZOFFSETTO:+0100
TZNAME:Europe/Paris CET
END:STANDARD
BEGIN:STANDARD
DTSTART:20261025T020000
RDATE:20270328T030000
TZOFFSETFROM:+0200
TZOFFSETTO:+0100
TZNAME:Europe/Paris CET
END:STANDARD
BEGIN:DAYLIGHT
DTSTART:20140330T030000
RDATE:20141026T020000
TZOFFSETFROM:+0100
TZOFFSETTO:+0200
TZNAME:Europe/Paris CEST
END:DAYLIGHT
BEGIN:DAYLIGHT
DTSTART:20150329T030000
RDATE:20151025T020000
TZOFFSETFROM:+0100
TZOFFSETTO:+0200
TZNAME:Europe/Paris CEST
END:DAYLIGHT
BEGIN:DAYLIGHT
DTSTART:20160327T030000
RDATE:20161030T020000
TZOFFSETFROM:+0100
TZOFFSETTO:+0200
TZNAME:Europe/Paris CEST
END:DAYLIGHT
BEGIN:DAYLIGHT
DTSTART:20170326T030000
RDATE:20171029T020000
TZOFFSETFROM:+0100
TZOFFSETTO:+0200
TZNAME:Europe/Paris CEST
END:DAYLIGHT
BEGIN:DAYLIGHT
DTSTART:20180325T030000
RDATE:20181028T020000
TZOFFSETFROM:+0100
TZOFFSETTO:+0200
TZNAME:Europe/Paris CEST
END:DAYLIGHT
BEGIN:DAYLIGHT
DTSTART:20190331T030000
RDATE:20191027T020000
TZOFFSETFROM:+0100
TZOFFSETTO:+0200
TZNAME:Europe/Paris CEST
END:DAYLIGHT
BEGIN:DAYLIGHT
DTSTART:20200329T030000
RDATE:20201025T020000
TZOFFSETFROM:+0100
TZOFFSETTO:+0200
TZNAME:Europe/Paris CEST
END:DAYLIGHT
BEGIN:DAYLIGHT
DTSTART:20210328T030000
RDATE:20211031T020000
TZOFFSETFROM:+0100
TZOFFSETTO:+0200
TZNAME:Europe/Paris CEST
END:DAYLIGHT
BEGIN:DAYLIGHT
DTSTART:20220327T030000
RDATE:20221030T020000
TZOFFSETFROM:+0100
TZOFFSETTO:+0200
TZNAME:Europe/Paris CEST
END:DAYLIGHT
BEGIN:DAYLIGHT
DTSTART:20230326T030000
RDATE:20231029T020000
TZOFFSETFROM:+0100
TZOFFSETTO:+0200
TZNAME:Europe/Paris CEST
END:DAYLIGHT
BEGIN:DAYLIGHT
DTSTART:20240331T030000
RDATE:20241027T020000
TZOFFSETFROM:+0100
TZOFFSETTO:+0200
TZNAME:Europe/Paris CEST
END:DAYLIGHT
BEGIN:DAYLIGHT
DTSTART:20250330T030000
RDATE:20251026T020000
TZOFFSETFROM:+0100
TZOFFSETTO:+0200
TZNAME:Europe/Paris CEST
END:DAYLIGHT
BEGIN:DAYLIGHT
DTSTART:20260329T030000
RDATE:20261025T020000
TZOFFSETFROM:+0100
TZOFFSETTO:+0200
TZNAME:Europe/Paris CEST
END:DAYLIGHT
END:VTIMEZONE
BEGIN:VEVENT
UID:11457e0d0189d92a57c1d886f1f1d67b
CATEGORIES:Circuit Massif Jeunes (alpin)
CREATED:20141127T000323
SUMMARY:GPJ  U12etU14     GP Bernadette Valroff
URL;VALUE=URI:https://skivosges.net/agenda/export-synchronisation/detailevenement/374/-/g
 pj-u12etu14-gp-bernadette-valroff?tmpl=component
DESCRIPTION:GPJ  U12etU14     GP Bernadette Valroff \n(Grand Prix Jeunes)\n\nLieu : FRE
 RE JOSEPH\nOrganisateur : U.S VENTRON (14083 U.S VENTRON)\nEmail : RegularL
 abs.EmailProtector.unCloak("ep_06963935");\n\nInscriptions closes, les list
 es de départ sont visualisables sur ce site\n - AMVF0681  Slalom Geant (Cou
 pe d'Argent) U12/U14 Filles\n  GPJ  U12etU14     GP Bernadette Valroff\n - 
 AMVM0681  Slalom Geant (Coupe d'Argent) U12/U14 Garçons\n  GPJ  U12etU14   
   GP Bernadette Valroff Cet évènement a été importé depuis :https://skivosg
 es.net/agenda/export-synchronisation/detailevenement/374/-/gpj-u12etu14-gp-
 bernadette-valroff?tmpl=component
X-ALT-DESC;FMTTYPE=text/html:<strong>GPJ  U12etU14     GP Bernadette Valroff</strong> <br /><i>(Grand Pr
 ix Jeunes)</i><br /><br />Lieu : FRERE JOSEPH<br />Organisateur : U.S VENTR
 ON <small>(14083 U.S VENTRON)</small><br />Email : <!-- Cette adresse élect
 ronique est protégée contre les robots spammeurs. --><span class="cloaked_e
 mail ep_06963935"><span data-ep-a="st&#101;ph" data-ep-b="&#108;&#101;&#46;
 &#102;&#114;"><span data-ep-b="r&#105;ca&#98;" data-ep-a="&#97;&#110;&#101;
 .&#103;"><span data-ep-b="&#64;&#110;&#117;&#109;e" data-ep-a="&#105;&#103;
 &#97;&#110;&#116;"></span></span></span></span><script>RegularLabs.EmailPro
 tector.unCloak("ep_06963935");</script><br /><br />Inscriptions closes, les
  listes de départ sont visualisables sur ce site<ul type="disc"><li>AMVF068
 1  Slalom Geant <nobr><i>(Coupe d'Argent)</i></nobr> <nobr>U12/U14</nobr> F
 illes<br />&nbsp;&nbsp;GPJ  U12etU14     GP Bernadette Valroff</li><li>AMVM
 0681  Slalom Geant <nobr><i>(Coupe d'Argent)</i></nobr> <nobr>U12/U14</nobr
 > Garçons<br />&nbsp;&nbsp;GPJ  U12etU14     GP Bernadette Valroff</li></ul
 > <a href="https://skivosges.net/agenda/export-synchronisation/detailevenem
 ent/374/-/gpj-u12etu14-gp-bernadette-valroff?tmpl=component">Cet évènement 
 a été importé depuis :https://skivosges.net/agenda/export-synchronisation/d
 etailevenement/374/-/gpj-u12etu14-gp-bernadette-valroff?tmpl=component</a>DTSTAMP:20260420T220919
DTSTART;TZID=Europe/Paris:20150315T080000
DTEND;TZID=Europe/Paris:20150315T170000
SEQUENCE:0
TRANSP:OPAQUE
END:VEVENT
END:VCALENDAR