BEGIN:VCALENDAR
VERSION:2.0
PRODID:-//jEvents 2.0 for Joomla//EN
CALSCALE:GREGORIAN
METHOD:PUBLISH
BEGIN:VTIMEZONE
TZID:Europe/Paris
BEGIN:STANDARD
DTSTART:20140314T080000
RDATE:20140330T030000
TZOFFSETFROM:+0200
TZOFFSETTO:+0100
TZNAME:Europe/Paris CET
END:STANDARD
BEGIN:STANDARD
DTSTART:20141026T020000
RDATE:20150329T030000
TZOFFSETFROM:+0200
TZOFFSETTO:+0100
TZNAME:Europe/Paris CET
END:STANDARD
BEGIN:STANDARD
DTSTART:20151025T020000
RDATE:20160327T030000
TZOFFSETFROM:+0200
TZOFFSETTO:+0100
TZNAME:Europe/Paris CET
END:STANDARD
BEGIN:STANDARD
DTSTART:20161030T020000
RDATE:20170326T030000
TZOFFSETFROM:+0200
TZOFFSETTO:+0100
TZNAME:Europe/Paris CET
END:STANDARD
BEGIN:STANDARD
DTSTART:20171029T020000
RDATE:20180325T030000
TZOFFSETFROM:+0200
TZOFFSETTO:+0100
TZNAME:Europe/Paris CET
END:STANDARD
BEGIN:STANDARD
DTSTART:20181028T020000
RDATE:20190331T030000
TZOFFSETFROM:+0200
TZOFFSETTO:+0100
TZNAME:Europe/Paris CET
END:STANDARD
BEGIN:STANDARD
DTSTART:20191027T020000
RDATE:20200329T030000
TZOFFSETFROM:+0200
TZOFFSETTO:+0100
TZNAME:Europe/Paris CET
END:STANDARD
BEGIN:STANDARD
DTSTART:20201025T020000
RDATE:20210328T030000
TZOFFSETFROM:+0200
TZOFFSETTO:+0100
TZNAME:Europe/Paris CET
END:STANDARD
BEGIN:STANDARD
DTSTART:20211031T020000
RDATE:20220327T030000
TZOFFSETFROM:+0200
TZOFFSETTO:+0100
TZNAME:Europe/Paris CET
END:STANDARD
BEGIN:STANDARD
DTSTART:20221030T020000
RDATE:20230326T030000
TZOFFSETFROM:+0200
TZOFFSETTO:+0100
TZNAME:Europe/Paris CET
END:STANDARD
BEGIN:STANDARD
DTSTART:20231029T020000
RDATE:20240331T030000
TZOFFSETFROM:+0200
TZOFFSETTO:+0100
TZNAME:Europe/Paris CET
END:STANDARD
BEGIN:STANDARD
DTSTART:20241027T020000
RDATE:20250330T030000
TZOFFSETFROM:+0200
TZOFFSETTO:+0100
TZNAME:Europe/Paris CET
END:STANDARD
BEGIN:STANDARD
DTSTART:20251026T020000
RDATE:20260329T030000
TZOFFSETFROM:+0200
TZOFFSETTO:+0100
TZNAME:Europe/Paris CET
END:STANDARD
BEGIN:STANDARD
DTSTART:20261025T020000
RDATE:20270328T030000
TZOFFSETFROM:+0200
TZOFFSETTO:+0100
TZNAME:Europe/Paris CET
END:STANDARD
BEGIN:DAYLIGHT
DTSTART:20140330T030000
RDATE:20141026T020000
TZOFFSETFROM:+0100
TZOFFSETTO:+0200
TZNAME:Europe/Paris CEST
END:DAYLIGHT
BEGIN:DAYLIGHT
DTSTART:20150329T030000
RDATE:20151025T020000
TZOFFSETFROM:+0100
TZOFFSETTO:+0200
TZNAME:Europe/Paris CEST
END:DAYLIGHT
BEGIN:DAYLIGHT
DTSTART:20160327T030000
RDATE:20161030T020000
TZOFFSETFROM:+0100
TZOFFSETTO:+0200
TZNAME:Europe/Paris CEST
END:DAYLIGHT
BEGIN:DAYLIGHT
DTSTART:20170326T030000
RDATE:20171029T020000
TZOFFSETFROM:+0100
TZOFFSETTO:+0200
TZNAME:Europe/Paris CEST
END:DAYLIGHT
BEGIN:DAYLIGHT
DTSTART:20180325T030000
RDATE:20181028T020000
TZOFFSETFROM:+0100
TZOFFSETTO:+0200
TZNAME:Europe/Paris CEST
END:DAYLIGHT
BEGIN:DAYLIGHT
DTSTART:20190331T030000
RDATE:20191027T020000
TZOFFSETFROM:+0100
TZOFFSETTO:+0200
TZNAME:Europe/Paris CEST
END:DAYLIGHT
BEGIN:DAYLIGHT
DTSTART:20200329T030000
RDATE:20201025T020000
TZOFFSETFROM:+0100
TZOFFSETTO:+0200
TZNAME:Europe/Paris CEST
END:DAYLIGHT
BEGIN:DAYLIGHT
DTSTART:20210328T030000
RDATE:20211031T020000
TZOFFSETFROM:+0100
TZOFFSETTO:+0200
TZNAME:Europe/Paris CEST
END:DAYLIGHT
BEGIN:DAYLIGHT
DTSTART:20220327T030000
RDATE:20221030T020000
TZOFFSETFROM:+0100
TZOFFSETTO:+0200
TZNAME:Europe/Paris CEST
END:DAYLIGHT
BEGIN:DAYLIGHT
DTSTART:20230326T030000
RDATE:20231029T020000
TZOFFSETFROM:+0100
TZOFFSETTO:+0200
TZNAME:Europe/Paris CEST
END:DAYLIGHT
BEGIN:DAYLIGHT
DTSTART:20240331T030000
RDATE:20241027T020000
TZOFFSETFROM:+0100
TZOFFSETTO:+0200
TZNAME:Europe/Paris CEST
END:DAYLIGHT
BEGIN:DAYLIGHT
DTSTART:20250330T030000
RDATE:20251026T020000
TZOFFSETFROM:+0100
TZOFFSETTO:+0200
TZNAME:Europe/Paris CEST
END:DAYLIGHT
BEGIN:DAYLIGHT
DTSTART:20260329T030000
RDATE:20261025T020000
TZOFFSETFROM:+0100
TZOFFSETTO:+0200
TZNAME:Europe/Paris CEST
END:DAYLIGHT
END:VTIMEZONE
BEGIN:VEVENT
UID:6a1f784ae1835140586a95aa023a582f
CATEGORIES:Autres Épreuves (alpin)
CREATED:20141127T000323
SUMMARY:CI2A  U16 à Masters     Prix Labellemontagne
URL;VALUE=URI:https://skivosges.net/agenda/export-synchronisation/detailevenement/375/-/c
 i2a-u16-a-masters-prix-labellemontagne?tmpl=component
DESCRIPTION:CI2A  U16 à Masters     Prix Labellemontagne\n\nLieu : LA BRESSE\nPiste : G
 aby Curien\nOrganisateur : LA BRESSAUDE SECTION SKI (14024 LA BRESSAUDE SEC
 TION SKI)\nEmail : RegularLabs.EmailProtector.unCloak("ep_d16fdad8");\nTele
 copie : 0608855252\n\nInscriptions closes, tirage des dossards en cours\n -
  AMVF0731  Slalom Geant U16 a Masters Dames\n  CI2A  U16 à Masters     Prix
  Labellemontagne\n - AMVM0731  Slalom Geant U16 a Masters Hommes\n  CI2A  U
 16 à Masters     Prix Labellemontagne Cet évènement a été importé depuis :h
 ttps://skivosges.net/agenda/export-synchronisation/detailevenement/375/-/ci
 2a-u16-a-masters-prix-labellemontagne?tmpl=component
X-ALT-DESC;FMTTYPE=text/html:<strong>CI2A  U16 à Masters     Prix Labellemontagne</strong><br /><br />Li
 eu : LA BRESSE<br />Piste : Gaby Curien<br />Organisateur : LA BRESSAUDE SE
 CTION SKI <small>(14024 LA BRESSAUDE SECTION SKI)</small><br />Email : <!--
  Cette adresse électronique est protégée contre les robots spammeurs. --><s
 pan class="cloaked_email ep_d16fdad8"><span data-ep-a="&#111;&#100;&#105;&#
 108;&#101;" data-ep-b="&#102;r"><span data-ep-b="&#97;&#110;ge&#46;" data-e
 p-a="&#46;m&#117;&#110;&#115;"><span data-ep-b="&#108;b&#64;&#111;&#114;" d
 ata-ep-a="&#99;&#104;&#46;&#115;&#99;"></span></span></span></span><script>
 RegularLabs.EmailProtector.unCloak("ep_d16fdad8");</script><br />Telecopie 
 : 0608855252<br /><br />Inscriptions closes, tirage des dossards en cours<u
 l type="disc"><li>AMVF0731  Slalom Geant <nobr>U16 a Masters</nobr> Dames<b
 r />&nbsp;&nbsp;CI2A  U16 à Masters     Prix Labellemontagne</li><li>AMVM07
 31  Slalom Geant <nobr>U16 a Masters</nobr> Hommes<br />&nbsp;&nbsp;CI2A  U
 16 à Masters     Prix Labellemontagne</li></ul> <a href="https://skivosges.
 net/agenda/export-synchronisation/detailevenement/375/-/ci2a-u16-a-masters-
 prix-labellemontagne?tmpl=component">Cet évènement a été importé depuis :ht
 tps://skivosges.net/agenda/export-synchronisation/detailevenement/375/-/ci2
 a-u16-a-masters-prix-labellemontagne?tmpl=component</a>DTSTAMP:20260421T014236
DTSTART;TZID=Europe/Paris:20150315T080000
DTEND;TZID=Europe/Paris:20150315T170000
SEQUENCE:0
TRANSP:OPAQUE
END:VEVENT
END:VCALENDAR