BEGIN:VCALENDAR
VERSION:2.0
PRODID:-//jEvents 2.0 for Joomla//EN
CALSCALE:GREGORIAN
METHOD:PUBLISH
BEGIN:VTIMEZONE
TZID:Europe/Paris
BEGIN:STANDARD
DTSTART:20140314T080000
RDATE:20140330T030000
TZOFFSETFROM:+0200
TZOFFSETTO:+0100
TZNAME:Europe/Paris CET
END:STANDARD
BEGIN:STANDARD
DTSTART:20141026T020000
RDATE:20150329T030000
TZOFFSETFROM:+0200
TZOFFSETTO:+0100
TZNAME:Europe/Paris CET
END:STANDARD
BEGIN:STANDARD
DTSTART:20151025T020000
RDATE:20160327T030000
TZOFFSETFROM:+0200
TZOFFSETTO:+0100
TZNAME:Europe/Paris CET
END:STANDARD
BEGIN:STANDARD
DTSTART:20161030T020000
RDATE:20170326T030000
TZOFFSETFROM:+0200
TZOFFSETTO:+0100
TZNAME:Europe/Paris CET
END:STANDARD
BEGIN:STANDARD
DTSTART:20171029T020000
RDATE:20180325T030000
TZOFFSETFROM:+0200
TZOFFSETTO:+0100
TZNAME:Europe/Paris CET
END:STANDARD
BEGIN:STANDARD
DTSTART:20181028T020000
RDATE:20190331T030000
TZOFFSETFROM:+0200
TZOFFSETTO:+0100
TZNAME:Europe/Paris CET
END:STANDARD
BEGIN:STANDARD
DTSTART:20191027T020000
RDATE:20200329T030000
TZOFFSETFROM:+0200
TZOFFSETTO:+0100
TZNAME:Europe/Paris CET
END:STANDARD
BEGIN:STANDARD
DTSTART:20201025T020000
RDATE:20210328T030000
TZOFFSETFROM:+0200
TZOFFSETTO:+0100
TZNAME:Europe/Paris CET
END:STANDARD
BEGIN:STANDARD
DTSTART:20211031T020000
RDATE:20220327T030000
TZOFFSETFROM:+0200
TZOFFSETTO:+0100
TZNAME:Europe/Paris CET
END:STANDARD
BEGIN:STANDARD
DTSTART:20221030T020000
RDATE:20230326T030000
TZOFFSETFROM:+0200
TZOFFSETTO:+0100
TZNAME:Europe/Paris CET
END:STANDARD
BEGIN:STANDARD
DTSTART:20231029T020000
RDATE:20240331T030000
TZOFFSETFROM:+0200
TZOFFSETTO:+0100
TZNAME:Europe/Paris CET
END:STANDARD
BEGIN:STANDARD
DTSTART:20241027T020000
RDATE:20250330T030000
TZOFFSETFROM:+0200
TZOFFSETTO:+0100
TZNAME:Europe/Paris CET
END:STANDARD
BEGIN:STANDARD
DTSTART:20251026T020000
RDATE:20260329T030000
TZOFFSETFROM:+0200
TZOFFSETTO:+0100
TZNAME:Europe/Paris CET
END:STANDARD
BEGIN:STANDARD
DTSTART:20261025T020000
RDATE:20270328T030000
TZOFFSETFROM:+0200
TZOFFSETTO:+0100
TZNAME:Europe/Paris CET
END:STANDARD
BEGIN:DAYLIGHT
DTSTART:20140330T030000
RDATE:20141026T020000
TZOFFSETFROM:+0100
TZOFFSETTO:+0200
TZNAME:Europe/Paris CEST
END:DAYLIGHT
BEGIN:DAYLIGHT
DTSTART:20150329T030000
RDATE:20151025T020000
TZOFFSETFROM:+0100
TZOFFSETTO:+0200
TZNAME:Europe/Paris CEST
END:DAYLIGHT
BEGIN:DAYLIGHT
DTSTART:20160327T030000
RDATE:20161030T020000
TZOFFSETFROM:+0100
TZOFFSETTO:+0200
TZNAME:Europe/Paris CEST
END:DAYLIGHT
BEGIN:DAYLIGHT
DTSTART:20170326T030000
RDATE:20171029T020000
TZOFFSETFROM:+0100
TZOFFSETTO:+0200
TZNAME:Europe/Paris CEST
END:DAYLIGHT
BEGIN:DAYLIGHT
DTSTART:20180325T030000
RDATE:20181028T020000
TZOFFSETFROM:+0100
TZOFFSETTO:+0200
TZNAME:Europe/Paris CEST
END:DAYLIGHT
BEGIN:DAYLIGHT
DTSTART:20190331T030000
RDATE:20191027T020000
TZOFFSETFROM:+0100
TZOFFSETTO:+0200
TZNAME:Europe/Paris CEST
END:DAYLIGHT
BEGIN:DAYLIGHT
DTSTART:20200329T030000
RDATE:20201025T020000
TZOFFSETFROM:+0100
TZOFFSETTO:+0200
TZNAME:Europe/Paris CEST
END:DAYLIGHT
BEGIN:DAYLIGHT
DTSTART:20210328T030000
RDATE:20211031T020000
TZOFFSETFROM:+0100
TZOFFSETTO:+0200
TZNAME:Europe/Paris CEST
END:DAYLIGHT
BEGIN:DAYLIGHT
DTSTART:20220327T030000
RDATE:20221030T020000
TZOFFSETFROM:+0100
TZOFFSETTO:+0200
TZNAME:Europe/Paris CEST
END:DAYLIGHT
BEGIN:DAYLIGHT
DTSTART:20230326T030000
RDATE:20231029T020000
TZOFFSETFROM:+0100
TZOFFSETTO:+0200
TZNAME:Europe/Paris CEST
END:DAYLIGHT
BEGIN:DAYLIGHT
DTSTART:20240331T030000
RDATE:20241027T020000
TZOFFSETFROM:+0100
TZOFFSETTO:+0200
TZNAME:Europe/Paris CEST
END:DAYLIGHT
BEGIN:DAYLIGHT
DTSTART:20250330T030000
RDATE:20251026T020000
TZOFFSETFROM:+0100
TZOFFSETTO:+0200
TZNAME:Europe/Paris CEST
END:DAYLIGHT
BEGIN:DAYLIGHT
DTSTART:20260329T030000
RDATE:20261025T020000
TZOFFSETFROM:+0100
TZOFFSETTO:+0200
TZNAME:Europe/Paris CEST
END:DAYLIGHT
END:VTIMEZONE
BEGIN:VEVENT
UID:4fb32afa9d7f103f6a3fcebc146ba5b7
CATEGORIES:Opens et Promos (alpin)
CREATED:20141127T000323
SUMMARY:OPEN  U8etU10-U12-U14    Prix de la Confiserie Bressaude
URL;VALUE=URI:https://skivosges.net/agenda/export-synchronisation/detailevenement/377/-/o
 pen-u8etu10-u12-u14-prix-de-la-confiserie-bressaude?tmpl=component
DESCRIPTION:<strong>OPEN  U8etU10-U12-U14    Prix de la Confiserie Bressaude</strong><b
 r /><br />Lieu : ROUGE GAZON<br />Organisateur : SKIEURS DE ST MAURICE/MOSE
 LLE <small>(14063 SKIEURS DE ST MAURICE/MOSELLE)</small><br />Email : <!-- 
 Cette adresse électronique est protégée contre les robots spammeurs. --><sp
 an class="cloaked_email ep_8e4ec80d"><span data-ep-b="" data-ep-a="&#100;&#
 97;&#110;&#105;e"><span data-ep-b="&#111;o.&#102;&#114;" data-ep-a="&#108;&
 #46;&#109;&#111;&#114;"><span data-ep-a="&#101;&#108;&#50;&#53;&#64;" data-
 ep-b="&#119;&#97;&#110;&#97;&#100;"></span></span></span></span><script>Reg
 ularLabs.EmailProtector.unCloak("ep_8e4ec80d");</script><br />Telecopie : 0
 780028040<br /><br />départ 14 h. Combi-race avec skis de slalom<br /><br /
 >Inscriptions en cours sur ce site<ul type="disc"><li>AMVF0711  Slalom <nob
 r>U14</nobr> Filles<br />&nbsp;&nbsp;OPEN  U8etU10-U12-U14    Prix de la Co
 nfiserie Bressaude</li><li>AMVM0711  Slalom <nobr>U14</nobr> Garçons<br />&
 nbsp;&nbsp;OPEN  U8etU10-U12-U14    Prix de la Confiserie Bressaude</li><li
 >AMVF0712  Slalom <nobr>U12</nobr> Filles<br />&nbsp;&nbsp;OPEN  U8etU10-U1
 2-U14    Prix de la Confiserie Bressaude</li><li>AMVM0712  Slalom <nobr>U12
 </nobr> Garçons<br />&nbsp;&nbsp;OPEN  U8etU10-U12-U14    Prix de la Confis
 erie Bressaude</li><li>AMVF0713  Slalom <nobr>U8/U10</nobr> Filles<br />&nb
 sp;&nbsp;OPEN  U8etU10-U12-U14    Prix de la Confiserie Bressaude</li><li>A
 MVM0713  Slalom <nobr>U8/U10</nobr> Garçons<br />&nbsp;&nbsp;OPEN  U8etU10-
 U12-U14    Prix de la Confiserie Bressaude</li></ul> <a href="https://skivo
 sges.net/agenda/export-synchronisation/detailevenement/377/-/open-u8etu10-u
 12-u14-prix-de-la-confiserie-bressaude?tmpl=component">Cet évènement a été 
 importé depuis :https://skivosges.net/agenda/export-synchronisation/detaile
 venement/377/-/open-u8etu10-u12-u14-prix-de-la-confiserie-bressaude?tmpl=co
 mponent</a>DTSTAMP:20260420T221352
DTSTART;TZID=Europe/Paris:20150315T080000
DTEND;TZID=Europe/Paris:20150315T170000
SEQUENCE:0
TRANSP:OPAQUE
END:VEVENT
END:VCALENDAR