BEGIN:VCALENDAR
VERSION:2.0
PRODID:-//jEvents 2.0 for Joomla//EN
CALSCALE:GREGORIAN
METHOD:PUBLISH
BEGIN:VTIMEZONE
TZID:Europe/Paris
BEGIN:STANDARD
DTSTART:20140314T080000
RDATE:20140330T030000
TZOFFSETFROM:+0200
TZOFFSETTO:+0100
TZNAME:Europe/Paris CET
END:STANDARD
BEGIN:STANDARD
DTSTART:20141026T020000
RDATE:20150329T030000
TZOFFSETFROM:+0200
TZOFFSETTO:+0100
TZNAME:Europe/Paris CET
END:STANDARD
BEGIN:STANDARD
DTSTART:20151025T020000
RDATE:20160327T030000
TZOFFSETFROM:+0200
TZOFFSETTO:+0100
TZNAME:Europe/Paris CET
END:STANDARD
BEGIN:STANDARD
DTSTART:20161030T020000
RDATE:20170326T030000
TZOFFSETFROM:+0200
TZOFFSETTO:+0100
TZNAME:Europe/Paris CET
END:STANDARD
BEGIN:STANDARD
DTSTART:20171029T020000
RDATE:20180325T030000
TZOFFSETFROM:+0200
TZOFFSETTO:+0100
TZNAME:Europe/Paris CET
END:STANDARD
BEGIN:STANDARD
DTSTART:20181028T020000
RDATE:20190331T030000
TZOFFSETFROM:+0200
TZOFFSETTO:+0100
TZNAME:Europe/Paris CET
END:STANDARD
BEGIN:STANDARD
DTSTART:20191027T020000
RDATE:20200329T030000
TZOFFSETFROM:+0200
TZOFFSETTO:+0100
TZNAME:Europe/Paris CET
END:STANDARD
BEGIN:STANDARD
DTSTART:20201025T020000
RDATE:20210328T030000
TZOFFSETFROM:+0200
TZOFFSETTO:+0100
TZNAME:Europe/Paris CET
END:STANDARD
BEGIN:STANDARD
DTSTART:20211031T020000
RDATE:20220327T030000
TZOFFSETFROM:+0200
TZOFFSETTO:+0100
TZNAME:Europe/Paris CET
END:STANDARD
BEGIN:STANDARD
DTSTART:20221030T020000
RDATE:20230326T030000
TZOFFSETFROM:+0200
TZOFFSETTO:+0100
TZNAME:Europe/Paris CET
END:STANDARD
BEGIN:STANDARD
DTSTART:20231029T020000
RDATE:20240331T030000
TZOFFSETFROM:+0200
TZOFFSETTO:+0100
TZNAME:Europe/Paris CET
END:STANDARD
BEGIN:STANDARD
DTSTART:20241027T020000
RDATE:20250330T030000
TZOFFSETFROM:+0200
TZOFFSETTO:+0100
TZNAME:Europe/Paris CET
END:STANDARD
BEGIN:STANDARD
DTSTART:20251026T020000
RDATE:20260329T030000
TZOFFSETFROM:+0200
TZOFFSETTO:+0100
TZNAME:Europe/Paris CET
END:STANDARD
BEGIN:STANDARD
DTSTART:20261025T020000
RDATE:20270328T030000
TZOFFSETFROM:+0200
TZOFFSETTO:+0100
TZNAME:Europe/Paris CET
END:STANDARD
BEGIN:DAYLIGHT
DTSTART:20140330T030000
RDATE:20141026T020000
TZOFFSETFROM:+0100
TZOFFSETTO:+0200
TZNAME:Europe/Paris CEST
END:DAYLIGHT
BEGIN:DAYLIGHT
DTSTART:20150329T030000
RDATE:20151025T020000
TZOFFSETFROM:+0100
TZOFFSETTO:+0200
TZNAME:Europe/Paris CEST
END:DAYLIGHT
BEGIN:DAYLIGHT
DTSTART:20160327T030000
RDATE:20161030T020000
TZOFFSETFROM:+0100
TZOFFSETTO:+0200
TZNAME:Europe/Paris CEST
END:DAYLIGHT
BEGIN:DAYLIGHT
DTSTART:20170326T030000
RDATE:20171029T020000
TZOFFSETFROM:+0100
TZOFFSETTO:+0200
TZNAME:Europe/Paris CEST
END:DAYLIGHT
BEGIN:DAYLIGHT
DTSTART:20180325T030000
RDATE:20181028T020000
TZOFFSETFROM:+0100
TZOFFSETTO:+0200
TZNAME:Europe/Paris CEST
END:DAYLIGHT
BEGIN:DAYLIGHT
DTSTART:20190331T030000
RDATE:20191027T020000
TZOFFSETFROM:+0100
TZOFFSETTO:+0200
TZNAME:Europe/Paris CEST
END:DAYLIGHT
BEGIN:DAYLIGHT
DTSTART:20200329T030000
RDATE:20201025T020000
TZOFFSETFROM:+0100
TZOFFSETTO:+0200
TZNAME:Europe/Paris CEST
END:DAYLIGHT
BEGIN:DAYLIGHT
DTSTART:20210328T030000
RDATE:20211031T020000
TZOFFSETFROM:+0100
TZOFFSETTO:+0200
TZNAME:Europe/Paris CEST
END:DAYLIGHT
BEGIN:DAYLIGHT
DTSTART:20220327T030000
RDATE:20221030T020000
TZOFFSETFROM:+0100
TZOFFSETTO:+0200
TZNAME:Europe/Paris CEST
END:DAYLIGHT
BEGIN:DAYLIGHT
DTSTART:20230326T030000
RDATE:20231029T020000
TZOFFSETFROM:+0100
TZOFFSETTO:+0200
TZNAME:Europe/Paris CEST
END:DAYLIGHT
BEGIN:DAYLIGHT
DTSTART:20240331T030000
RDATE:20241027T020000
TZOFFSETFROM:+0100
TZOFFSETTO:+0200
TZNAME:Europe/Paris CEST
END:DAYLIGHT
BEGIN:DAYLIGHT
DTSTART:20250330T030000
RDATE:20251026T020000
TZOFFSETFROM:+0100
TZOFFSETTO:+0200
TZNAME:Europe/Paris CEST
END:DAYLIGHT
BEGIN:DAYLIGHT
DTSTART:20260329T030000
RDATE:20261025T020000
TZOFFSETFROM:+0100
TZOFFSETTO:+0200
TZNAME:Europe/Paris CEST
END:DAYLIGHT
END:VTIMEZONE
BEGIN:VEVENT
UID:7d3c8a0dee493f2c4b92198b30769227
CATEGORIES:Opens et Promos (alpin)
CREATED:20141127T000323
SUMMARY:PROMO  U8 à U16     Prix de la Confiserie Bressaude
URL;VALUE=URI:https://skivosges.net/agenda/export-synchronisation/detailevenement/378/-/p
 romo-u8-a-u16-prix-de-la-confiserie-bressaude?tmpl=component
DESCRIPTION:PROMO  U8 à U16     Prix de la Confiserie Bressaude\n\nLieu : ROUGE GAZON\n
 Organisateur : SKIEURS DE ST MAURICE/MOSELLE (14063 SKIEURS DE ST MAURICE/M
 OSELLE)\nEmail : RegularLabs.EmailProtector.unCloak("ep_06f439a7");\nTeleco
 pie : 0780028040\n\ndépart 14 h. combi race\n\nRegularLabs.EmailProtector.u
 nCloak("ep_87039636");\n\nInscriptions en cours sur ce site\n - AMVF0701  S
 lalom Dames\n  PROMO  U8 à U16     Prix de la Confiserie Bressaude\n - AMVM
 0701  Slalom Hommes\n  PROMO  U8 à U16     Prix de la Confiserie Bressaude 
 Cet évènement a été importé depuis :https://skivosges.net/agenda/export-syn
 chronisation/detailevenement/378/-/promo-u8-a-u16-prix-de-la-confiserie-bre
 ssaude?tmpl=component
X-ALT-DESC;FMTTYPE=text/html:<strong>PROMO  U8 à U16     Prix de la Confiserie Bressaude</strong><br /><
 br />Lieu : ROUGE GAZON<br />Organisateur : SKIEURS DE ST MAURICE/MOSELLE <
 small>(14063 SKIEURS DE ST MAURICE/MOSELLE)</small><br />Email : <!-- Cette
  adresse électronique est protégée contre les robots spammeurs. --><span cl
 ass="cloaked_email ep_06f439a7"><span data-ep-b="" data-ep-a="&#100;&#97;ni
 &#101;"><span data-ep-b="&#111;&#111;.f&#114;" data-ep-a="l&#46;&#109;&#111
 ;r"><span data-ep-b="w&#97;&#110;&#97;d" data-ep-a="&#101;&#108;&#50;&#53;&
 #64;"></span></span></span></span><script>RegularLabs.EmailProtector.unCloa
 k("ep_06f439a7");</script><br />Telecopie : 0780028040<br /><br />départ 14
  h. combi race<br><br><!-- Cette adresse électronique est protégée contre l
 es robots spammeurs. --><span class="cloaked_email ep_87039636"><span data-
 ep-a="&#100;&#97;&#110;&#105;" data-ep-b=""><span data-ep-a="e&#108;.m" dat
 a-ep-b="r&#46;f&#114;"><span data-ep-b="&#53;&#64;&#115;&#102;" data-ep-a="
 o&#114;el"></span></span></span></span><script>RegularLabs.EmailProtector.u
 nCloak("ep_87039636");</script><br /><br />Inscriptions en cours sur ce sit
 e<ul type="disc"><li>AMVF0701  Slalom Dames<br />&nbsp;&nbsp;PROMO  U8 à U1
 6     Prix de la Confiserie Bressaude</li><li>AMVM0701  Slalom Hommes<br />
 &nbsp;&nbsp;PROMO  U8 à U16     Prix de la Confiserie Bressaude</li></ul> <
 a href="https://skivosges.net/agenda/export-synchronisation/detailevenement
 /378/-/promo-u8-a-u16-prix-de-la-confiserie-bressaude?tmpl=component">Cet é
 vènement a été importé depuis :https://skivosges.net/agenda/export-synchron
 isation/detailevenement/378/-/promo-u8-a-u16-prix-de-la-confiserie-bressaud
 e?tmpl=component</a>DTSTAMP:20260421T045913
DTSTART;TZID=Europe/Paris:20150315T080000
DTEND;TZID=Europe/Paris:20150315T170000
SEQUENCE:0
TRANSP:OPAQUE
END:VEVENT
END:VCALENDAR