BEGIN:VCALENDAR
VERSION:2.0
PRODID:-//jEvents 2.0 for Joomla//EN
CALSCALE:GREGORIAN
METHOD:PUBLISH
BEGIN:VTIMEZONE
TZID:Europe/Paris
BEGIN:STANDARD
DTSTART:20140314T080000
RDATE:20140330T030000
TZOFFSETFROM:+0200
TZOFFSETTO:+0100
TZNAME:Europe/Paris CET
END:STANDARD
BEGIN:STANDARD
DTSTART:20141026T020000
RDATE:20150329T030000
TZOFFSETFROM:+0200
TZOFFSETTO:+0100
TZNAME:Europe/Paris CET
END:STANDARD
BEGIN:STANDARD
DTSTART:20151025T020000
RDATE:20160327T030000
TZOFFSETFROM:+0200
TZOFFSETTO:+0100
TZNAME:Europe/Paris CET
END:STANDARD
BEGIN:STANDARD
DTSTART:20161030T020000
RDATE:20170326T030000
TZOFFSETFROM:+0200
TZOFFSETTO:+0100
TZNAME:Europe/Paris CET
END:STANDARD
BEGIN:STANDARD
DTSTART:20171029T020000
RDATE:20180325T030000
TZOFFSETFROM:+0200
TZOFFSETTO:+0100
TZNAME:Europe/Paris CET
END:STANDARD
BEGIN:STANDARD
DTSTART:20181028T020000
RDATE:20190331T030000
TZOFFSETFROM:+0200
TZOFFSETTO:+0100
TZNAME:Europe/Paris CET
END:STANDARD
BEGIN:STANDARD
DTSTART:20191027T020000
RDATE:20200329T030000
TZOFFSETFROM:+0200
TZOFFSETTO:+0100
TZNAME:Europe/Paris CET
END:STANDARD
BEGIN:STANDARD
DTSTART:20201025T020000
RDATE:20210328T030000
TZOFFSETFROM:+0200
TZOFFSETTO:+0100
TZNAME:Europe/Paris CET
END:STANDARD
BEGIN:STANDARD
DTSTART:20211031T020000
RDATE:20220327T030000
TZOFFSETFROM:+0200
TZOFFSETTO:+0100
TZNAME:Europe/Paris CET
END:STANDARD
BEGIN:STANDARD
DTSTART:20221030T020000
RDATE:20230326T030000
TZOFFSETFROM:+0200
TZOFFSETTO:+0100
TZNAME:Europe/Paris CET
END:STANDARD
BEGIN:STANDARD
DTSTART:20231029T020000
RDATE:20240331T030000
TZOFFSETFROM:+0200
TZOFFSETTO:+0100
TZNAME:Europe/Paris CET
END:STANDARD
BEGIN:STANDARD
DTSTART:20241027T020000
RDATE:20250330T030000
TZOFFSETFROM:+0200
TZOFFSETTO:+0100
TZNAME:Europe/Paris CET
END:STANDARD
BEGIN:STANDARD
DTSTART:20251026T020000
RDATE:20260329T030000
TZOFFSETFROM:+0200
TZOFFSETTO:+0100
TZNAME:Europe/Paris CET
END:STANDARD
BEGIN:STANDARD
DTSTART:20261025T020000
RDATE:20270328T030000
TZOFFSETFROM:+0200
TZOFFSETTO:+0100
TZNAME:Europe/Paris CET
END:STANDARD
BEGIN:DAYLIGHT
DTSTART:20140330T030000
RDATE:20141026T020000
TZOFFSETFROM:+0100
TZOFFSETTO:+0200
TZNAME:Europe/Paris CEST
END:DAYLIGHT
BEGIN:DAYLIGHT
DTSTART:20150329T030000
RDATE:20151025T020000
TZOFFSETFROM:+0100
TZOFFSETTO:+0200
TZNAME:Europe/Paris CEST
END:DAYLIGHT
BEGIN:DAYLIGHT
DTSTART:20160327T030000
RDATE:20161030T020000
TZOFFSETFROM:+0100
TZOFFSETTO:+0200
TZNAME:Europe/Paris CEST
END:DAYLIGHT
BEGIN:DAYLIGHT
DTSTART:20170326T030000
RDATE:20171029T020000
TZOFFSETFROM:+0100
TZOFFSETTO:+0200
TZNAME:Europe/Paris CEST
END:DAYLIGHT
BEGIN:DAYLIGHT
DTSTART:20180325T030000
RDATE:20181028T020000
TZOFFSETFROM:+0100
TZOFFSETTO:+0200
TZNAME:Europe/Paris CEST
END:DAYLIGHT
BEGIN:DAYLIGHT
DTSTART:20190331T030000
RDATE:20191027T020000
TZOFFSETFROM:+0100
TZOFFSETTO:+0200
TZNAME:Europe/Paris CEST
END:DAYLIGHT
BEGIN:DAYLIGHT
DTSTART:20200329T030000
RDATE:20201025T020000
TZOFFSETFROM:+0100
TZOFFSETTO:+0200
TZNAME:Europe/Paris CEST
END:DAYLIGHT
BEGIN:DAYLIGHT
DTSTART:20210328T030000
RDATE:20211031T020000
TZOFFSETFROM:+0100
TZOFFSETTO:+0200
TZNAME:Europe/Paris CEST
END:DAYLIGHT
BEGIN:DAYLIGHT
DTSTART:20220327T030000
RDATE:20221030T020000
TZOFFSETFROM:+0100
TZOFFSETTO:+0200
TZNAME:Europe/Paris CEST
END:DAYLIGHT
BEGIN:DAYLIGHT
DTSTART:20230326T030000
RDATE:20231029T020000
TZOFFSETFROM:+0100
TZOFFSETTO:+0200
TZNAME:Europe/Paris CEST
END:DAYLIGHT
BEGIN:DAYLIGHT
DTSTART:20240331T030000
RDATE:20241027T020000
TZOFFSETFROM:+0100
TZOFFSETTO:+0200
TZNAME:Europe/Paris CEST
END:DAYLIGHT
BEGIN:DAYLIGHT
DTSTART:20250330T030000
RDATE:20251026T020000
TZOFFSETFROM:+0100
TZOFFSETTO:+0200
TZNAME:Europe/Paris CEST
END:DAYLIGHT
BEGIN:DAYLIGHT
DTSTART:20260329T030000
RDATE:20261025T020000
TZOFFSETFROM:+0100
TZOFFSETTO:+0200
TZNAME:Europe/Paris CEST
END:DAYLIGHT
END:VTIMEZONE
BEGIN:VEVENT
UID:ebd7165b71d91e83d9f11e745b91a833
CATEGORIES:Opens et Promos (alpin)
CREATED:20141127T000323
SUMMARY:PROMO  U8 à U16     Les dimanches de la Glisse Challenge Raymond Wolkringer
URL;VALUE=URI:https://skivosges.net/agenda/export-synchronisation/detailevenement/379/-/p
 romo-u8-a-u16-les-dimanches-de-la-glisse-challenge-raymond-wolkringer?tmpl=
 component
DESCRIPTION:PROMO  U8 à U16     Les dimanches de la Glisse Challenge Raymond Wolkringer
 \n\nLieu : CHAMP DU FEU\nOrganisateur : SKI CLUB SAVERNE (14065 SKI CLUB SA
 VERNE)\nEmail : RegularLabs.EmailProtector.unCloak("ep_9356d6f1");\nTelecop
 ie : 03 88 91 12 22\n - AMVF0691 épreuve Dames\n  PROMO  U8 à U16     Les d
 imanches de la Glisse Challenge Raymond Wolkringer\n - AMVM0691 épreuve Hom
 mes\n  PROMO  U8 à U16     Les dimanches de la Glisse Challenge Raymond Wol
 kringer Cet évènement a été importé depuis :https://skivosges.net/agenda/ex
 port-synchronisation/detailevenement/379/-/promo-u8-a-u16-les-dimanches-de-
 la-glisse-challenge-raymond-wolkringer?tmpl=component
X-ALT-DESC;FMTTYPE=text/html:<strong>PROMO  U8 à U16     Les dimanches de la Glisse Challenge Raymond Wo
 lkringer</strong><br /><br />Lieu : CHAMP DU FEU<br />Organisateur : SKI CL
 UB SAVERNE <small>(14065 SKI CLUB SAVERNE)</small><br />Email : <!-- Cette 
 adresse électronique est protégée contre les robots spammeurs. --><span cla
 ss="cloaked_email ep_9356d6f1"><span data-ep-b="&#111;&#109;" data-ep-a="c&
 #111;nta"><span data-ep-a="&#99;&#116;&#115;&#64;s" data-ep-b="&#114;n&#101
 ;.&#99;"><span data-ep-a="k&#105;&#99;&#108;u" data-ep-b="bs&#97;v&#101;"><
 /span></span></span></span><script>RegularLabs.EmailProtector.unCloak("ep_9
 356d6f1");</script><br />Telecopie : 03 88 91 12 22<ul type="disc"><li>AMVF
 0691 épreuve Dames<br />&nbsp;&nbsp;PROMO  U8 à U16     Les dimanches de la
  Glisse Challenge Raymond Wolkringer</li><li>AMVM0691 épreuve Hommes<br />&
 nbsp;&nbsp;PROMO  U8 à U16     Les dimanches de la Glisse Challenge Raymond
  Wolkringer</li></ul> <a href="https://skivosges.net/agenda/export-synchron
 isation/detailevenement/379/-/promo-u8-a-u16-les-dimanches-de-la-glisse-cha
 llenge-raymond-wolkringer?tmpl=component">Cet évènement a été importé depui
 s :https://skivosges.net/agenda/export-synchronisation/detailevenement/379/
 -/promo-u8-a-u16-les-dimanches-de-la-glisse-challenge-raymond-wolkringer?tm
 pl=component</a>DTSTAMP:20260420T220653
DTSTART;TZID=Europe/Paris:20150315T080000
DTEND;TZID=Europe/Paris:20150315T170000
SEQUENCE:0
TRANSP:OPAQUE
END:VEVENT
END:VCALENDAR