BEGIN:VCALENDAR
VERSION:2.0
PRODID:-//jEvents 2.0 for Joomla//EN
CALSCALE:GREGORIAN
METHOD:PUBLISH
BEGIN:VTIMEZONE
TZID:Europe/Paris
BEGIN:STANDARD
DTSTART:20140320T080000
RDATE:20140330T030000
TZOFFSETFROM:+0200
TZOFFSETTO:+0100
TZNAME:Europe/Paris CET
END:STANDARD
BEGIN:STANDARD
DTSTART:20141026T020000
RDATE:20150329T030000
TZOFFSETFROM:+0200
TZOFFSETTO:+0100
TZNAME:Europe/Paris CET
END:STANDARD
BEGIN:STANDARD
DTSTART:20151025T020000
RDATE:20160327T030000
TZOFFSETFROM:+0200
TZOFFSETTO:+0100
TZNAME:Europe/Paris CET
END:STANDARD
BEGIN:STANDARD
DTSTART:20161030T020000
RDATE:20170326T030000
TZOFFSETFROM:+0200
TZOFFSETTO:+0100
TZNAME:Europe/Paris CET
END:STANDARD
BEGIN:STANDARD
DTSTART:20171029T020000
RDATE:20180325T030000
TZOFFSETFROM:+0200
TZOFFSETTO:+0100
TZNAME:Europe/Paris CET
END:STANDARD
BEGIN:STANDARD
DTSTART:20181028T020000
RDATE:20190331T030000
TZOFFSETFROM:+0200
TZOFFSETTO:+0100
TZNAME:Europe/Paris CET
END:STANDARD
BEGIN:STANDARD
DTSTART:20191027T020000
RDATE:20200329T030000
TZOFFSETFROM:+0200
TZOFFSETTO:+0100
TZNAME:Europe/Paris CET
END:STANDARD
BEGIN:STANDARD
DTSTART:20201025T020000
RDATE:20210328T030000
TZOFFSETFROM:+0200
TZOFFSETTO:+0100
TZNAME:Europe/Paris CET
END:STANDARD
BEGIN:STANDARD
DTSTART:20211031T020000
RDATE:20220327T030000
TZOFFSETFROM:+0200
TZOFFSETTO:+0100
TZNAME:Europe/Paris CET
END:STANDARD
BEGIN:STANDARD
DTSTART:20221030T020000
RDATE:20230326T030000
TZOFFSETFROM:+0200
TZOFFSETTO:+0100
TZNAME:Europe/Paris CET
END:STANDARD
BEGIN:STANDARD
DTSTART:20231029T020000
RDATE:20240331T030000
TZOFFSETFROM:+0200
TZOFFSETTO:+0100
TZNAME:Europe/Paris CET
END:STANDARD
BEGIN:STANDARD
DTSTART:20241027T020000
RDATE:20250330T030000
TZOFFSETFROM:+0200
TZOFFSETTO:+0100
TZNAME:Europe/Paris CET
END:STANDARD
BEGIN:STANDARD
DTSTART:20251026T020000
RDATE:20260329T030000
TZOFFSETFROM:+0200
TZOFFSETTO:+0100
TZNAME:Europe/Paris CET
END:STANDARD
BEGIN:STANDARD
DTSTART:20261025T020000
RDATE:20270328T030000
TZOFFSETFROM:+0200
TZOFFSETTO:+0100
TZNAME:Europe/Paris CET
END:STANDARD
BEGIN:DAYLIGHT
DTSTART:20140330T030000
RDATE:20141026T020000
TZOFFSETFROM:+0100
TZOFFSETTO:+0200
TZNAME:Europe/Paris CEST
END:DAYLIGHT
BEGIN:DAYLIGHT
DTSTART:20150329T030000
RDATE:20151025T020000
TZOFFSETFROM:+0100
TZOFFSETTO:+0200
TZNAME:Europe/Paris CEST
END:DAYLIGHT
BEGIN:DAYLIGHT
DTSTART:20160327T030000
RDATE:20161030T020000
TZOFFSETFROM:+0100
TZOFFSETTO:+0200
TZNAME:Europe/Paris CEST
END:DAYLIGHT
BEGIN:DAYLIGHT
DTSTART:20170326T030000
RDATE:20171029T020000
TZOFFSETFROM:+0100
TZOFFSETTO:+0200
TZNAME:Europe/Paris CEST
END:DAYLIGHT
BEGIN:DAYLIGHT
DTSTART:20180325T030000
RDATE:20181028T020000
TZOFFSETFROM:+0100
TZOFFSETTO:+0200
TZNAME:Europe/Paris CEST
END:DAYLIGHT
BEGIN:DAYLIGHT
DTSTART:20190331T030000
RDATE:20191027T020000
TZOFFSETFROM:+0100
TZOFFSETTO:+0200
TZNAME:Europe/Paris CEST
END:DAYLIGHT
BEGIN:DAYLIGHT
DTSTART:20200329T030000
RDATE:20201025T020000
TZOFFSETFROM:+0100
TZOFFSETTO:+0200
TZNAME:Europe/Paris CEST
END:DAYLIGHT
BEGIN:DAYLIGHT
DTSTART:20210328T030000
RDATE:20211031T020000
TZOFFSETFROM:+0100
TZOFFSETTO:+0200
TZNAME:Europe/Paris CEST
END:DAYLIGHT
BEGIN:DAYLIGHT
DTSTART:20220327T030000
RDATE:20221030T020000
TZOFFSETFROM:+0100
TZOFFSETTO:+0200
TZNAME:Europe/Paris CEST
END:DAYLIGHT
BEGIN:DAYLIGHT
DTSTART:20230326T030000
RDATE:20231029T020000
TZOFFSETFROM:+0100
TZOFFSETTO:+0200
TZNAME:Europe/Paris CEST
END:DAYLIGHT
BEGIN:DAYLIGHT
DTSTART:20240331T030000
RDATE:20241027T020000
TZOFFSETFROM:+0100
TZOFFSETTO:+0200
TZNAME:Europe/Paris CEST
END:DAYLIGHT
BEGIN:DAYLIGHT
DTSTART:20250330T030000
RDATE:20251026T020000
TZOFFSETFROM:+0100
TZOFFSETTO:+0200
TZNAME:Europe/Paris CEST
END:DAYLIGHT
BEGIN:DAYLIGHT
DTSTART:20260329T030000
RDATE:20261025T020000
TZOFFSETFROM:+0100
TZOFFSETTO:+0200
TZNAME:Europe/Paris CEST
END:DAYLIGHT
END:VTIMEZONE
BEGIN:VEVENT
UID:715b21da2bce24d126fa3d0a72e00af3
CATEGORIES:Circuit Massif Masters (alpin)
CREATED:20141127T000323
SUMMARY:GPM  +U30     GP du Caveau du Père Jules
URL;VALUE=URI:https://skivosges.net/agenda/export-synchronisation/detailevenement/381/-/g
 pm-u30-gp-du-caveau-du-pere-jules?tmpl=component
DESCRIPTION:GPM  +U30     GP du Caveau du Père Jules \n(Grand Prix Masters)\n\nLieu : G
 ERARDMER\nOrganisateur : GERARDMER SKI ALPIN (14089 GERARDMER SKI ALPIN)\nE
 mail : RegularLabs.EmailProtector.unCloak("ep_96556afc");\nTelecopie : 03 2
 9 60 98 04\nTelecopie : 03 29 60 98 04\n\nInscriptions closes, les listes d
 e départ sont visualisables sur ce site\n - AMVF0761  Slalom Geant (Courses
  Masters) Tous les Masters Dames Dames\n  GPM  +U30     GP du Caveau du Pèr
 e Jules\n - AMVM0761  Slalom Geant (Courses Masters) Master A1 a A5 Hommes 
 Hommes\n  GPM  +U30     GP du Caveau du Père Jules\n - AMVM0762  Slalom Gea
 nt (Courses Masters) Master B6 a B13 Hommes Hommes\n  GPM  +U30     GP du C
 aveau du Père Jules Cet évènement a été importé depuis :https://skivosges.n
 et/agenda/export-synchronisation/detailevenement/381/-/gpm-u30-gp-du-caveau
 -du-pere-jules?tmpl=component
X-ALT-DESC;FMTTYPE=text/html:<strong>GPM  +U30     GP du Caveau du Père Jules</strong> <br /><i>(Grand P
 rix Masters)</i><br /><br />Lieu : GERARDMER<br />Organisateur : GERARDMER 
 SKI ALPIN <small>(14089 GERARDMER SKI ALPIN)</small><br />Email : <!-- Cett
 e adresse électronique est protégée contre les robots spammeurs. --><span c
 lass="cloaked_email ep_96556afc"><span data-ep-a="g&#101;&#114;a&#114;" dat
 a-ep-b="e.f&#114;"><span data-ep-b="o&#114;&#97;&#110;&#103;" data-ep-a="&#
 100;m&#101;r-"><span data-ep-a="&#115;&#107;&#105;&#45;a" data-ep-b="l&#112
 ;i&#110;&#64;"></span></span></span></span><script>RegularLabs.EmailProtect
 or.unCloak("ep_96556afc");</script><br />Telecopie : 03 29 60 98 04<br />Te
 lecopie : 03 29 60 98 04<br /><br />Inscriptions closes, les listes de dépa
 rt sont visualisables sur ce site<ul type="disc"><li>AMVF0761  Slalom Geant
  <nobr><i>(Courses Masters)</i></nobr> <nobr>Tous les Masters Dames</nobr> 
 Dames<br />&nbsp;&nbsp;GPM  +U30     GP du Caveau du Père Jules</li><li>AMV
 M0761  Slalom Geant <nobr><i>(Courses Masters)</i></nobr> <nobr>Master A1 a
  A5 Hommes</nobr> Hommes<br />&nbsp;&nbsp;GPM  +U30     GP du Caveau du Pèr
 e Jules</li><li>AMVM0762  Slalom Geant <nobr><i>(Courses Masters)</i></nobr
 > <nobr>Master B6 a B13 Hommes</nobr> Hommes<br />&nbsp;&nbsp;GPM  +U30    
  GP du Caveau du Père Jules</li></ul> <a href="https://skivosges.net/agenda
 /export-synchronisation/detailevenement/381/-/gpm-u30-gp-du-caveau-du-pere-
 jules?tmpl=component">Cet évènement a été importé depuis :https://skivosges
 .net/agenda/export-synchronisation/detailevenement/381/-/gpm-u30-gp-du-cave
 au-du-pere-jules?tmpl=component</a>DTSTAMP:20260420T220459
DTSTART;TZID=Europe/Paris:20150321T080000
DTEND;TZID=Europe/Paris:20150321T170000
SEQUENCE:0
TRANSP:OPAQUE
END:VEVENT
END:VCALENDAR