BEGIN:VCALENDAR
VERSION:2.0
PRODID:-//jEvents 2.0 for Joomla//EN
CALSCALE:GREGORIAN
METHOD:PUBLISH
BEGIN:VTIMEZONE
TZID:Europe/Paris
BEGIN:STANDARD
DTSTART:20140320T080000
RDATE:20140330T030000
TZOFFSETFROM:+0200
TZOFFSETTO:+0100
TZNAME:Europe/Paris CET
END:STANDARD
BEGIN:STANDARD
DTSTART:20141026T020000
RDATE:20150329T030000
TZOFFSETFROM:+0200
TZOFFSETTO:+0100
TZNAME:Europe/Paris CET
END:STANDARD
BEGIN:STANDARD
DTSTART:20151025T020000
RDATE:20160327T030000
TZOFFSETFROM:+0200
TZOFFSETTO:+0100
TZNAME:Europe/Paris CET
END:STANDARD
BEGIN:STANDARD
DTSTART:20161030T020000
RDATE:20170326T030000
TZOFFSETFROM:+0200
TZOFFSETTO:+0100
TZNAME:Europe/Paris CET
END:STANDARD
BEGIN:STANDARD
DTSTART:20171029T020000
RDATE:20180325T030000
TZOFFSETFROM:+0200
TZOFFSETTO:+0100
TZNAME:Europe/Paris CET
END:STANDARD
BEGIN:STANDARD
DTSTART:20181028T020000
RDATE:20190331T030000
TZOFFSETFROM:+0200
TZOFFSETTO:+0100
TZNAME:Europe/Paris CET
END:STANDARD
BEGIN:STANDARD
DTSTART:20191027T020000
RDATE:20200329T030000
TZOFFSETFROM:+0200
TZOFFSETTO:+0100
TZNAME:Europe/Paris CET
END:STANDARD
BEGIN:STANDARD
DTSTART:20201025T020000
RDATE:20210328T030000
TZOFFSETFROM:+0200
TZOFFSETTO:+0100
TZNAME:Europe/Paris CET
END:STANDARD
BEGIN:STANDARD
DTSTART:20211031T020000
RDATE:20220327T030000
TZOFFSETFROM:+0200
TZOFFSETTO:+0100
TZNAME:Europe/Paris CET
END:STANDARD
BEGIN:STANDARD
DTSTART:20221030T020000
RDATE:20230326T030000
TZOFFSETFROM:+0200
TZOFFSETTO:+0100
TZNAME:Europe/Paris CET
END:STANDARD
BEGIN:STANDARD
DTSTART:20231029T020000
RDATE:20240331T030000
TZOFFSETFROM:+0200
TZOFFSETTO:+0100
TZNAME:Europe/Paris CET
END:STANDARD
BEGIN:STANDARD
DTSTART:20241027T020000
RDATE:20250330T030000
TZOFFSETFROM:+0200
TZOFFSETTO:+0100
TZNAME:Europe/Paris CET
END:STANDARD
BEGIN:STANDARD
DTSTART:20251026T020000
RDATE:20260329T030000
TZOFFSETFROM:+0200
TZOFFSETTO:+0100
TZNAME:Europe/Paris CET
END:STANDARD
BEGIN:STANDARD
DTSTART:20261025T020000
RDATE:20270328T030000
TZOFFSETFROM:+0200
TZOFFSETTO:+0100
TZNAME:Europe/Paris CET
END:STANDARD
BEGIN:DAYLIGHT
DTSTART:20140330T030000
RDATE:20141026T020000
TZOFFSETFROM:+0100
TZOFFSETTO:+0200
TZNAME:Europe/Paris CEST
END:DAYLIGHT
BEGIN:DAYLIGHT
DTSTART:20150329T030000
RDATE:20151025T020000
TZOFFSETFROM:+0100
TZOFFSETTO:+0200
TZNAME:Europe/Paris CEST
END:DAYLIGHT
BEGIN:DAYLIGHT
DTSTART:20160327T030000
RDATE:20161030T020000
TZOFFSETFROM:+0100
TZOFFSETTO:+0200
TZNAME:Europe/Paris CEST
END:DAYLIGHT
BEGIN:DAYLIGHT
DTSTART:20170326T030000
RDATE:20171029T020000
TZOFFSETFROM:+0100
TZOFFSETTO:+0200
TZNAME:Europe/Paris CEST
END:DAYLIGHT
BEGIN:DAYLIGHT
DTSTART:20180325T030000
RDATE:20181028T020000
TZOFFSETFROM:+0100
TZOFFSETTO:+0200
TZNAME:Europe/Paris CEST
END:DAYLIGHT
BEGIN:DAYLIGHT
DTSTART:20190331T030000
RDATE:20191027T020000
TZOFFSETFROM:+0100
TZOFFSETTO:+0200
TZNAME:Europe/Paris CEST
END:DAYLIGHT
BEGIN:DAYLIGHT
DTSTART:20200329T030000
RDATE:20201025T020000
TZOFFSETFROM:+0100
TZOFFSETTO:+0200
TZNAME:Europe/Paris CEST
END:DAYLIGHT
BEGIN:DAYLIGHT
DTSTART:20210328T030000
RDATE:20211031T020000
TZOFFSETFROM:+0100
TZOFFSETTO:+0200
TZNAME:Europe/Paris CEST
END:DAYLIGHT
BEGIN:DAYLIGHT
DTSTART:20220327T030000
RDATE:20221030T020000
TZOFFSETFROM:+0100
TZOFFSETTO:+0200
TZNAME:Europe/Paris CEST
END:DAYLIGHT
BEGIN:DAYLIGHT
DTSTART:20230326T030000
RDATE:20231029T020000
TZOFFSETFROM:+0100
TZOFFSETTO:+0200
TZNAME:Europe/Paris CEST
END:DAYLIGHT
BEGIN:DAYLIGHT
DTSTART:20240331T030000
RDATE:20241027T020000
TZOFFSETFROM:+0100
TZOFFSETTO:+0200
TZNAME:Europe/Paris CEST
END:DAYLIGHT
BEGIN:DAYLIGHT
DTSTART:20250330T030000
RDATE:20251026T020000
TZOFFSETFROM:+0100
TZOFFSETTO:+0200
TZNAME:Europe/Paris CEST
END:DAYLIGHT
BEGIN:DAYLIGHT
DTSTART:20260329T030000
RDATE:20261025T020000
TZOFFSETFROM:+0100
TZOFFSETTO:+0200
TZNAME:Europe/Paris CEST
END:DAYLIGHT
END:VTIMEZONE
BEGIN:VEVENT
UID:b9999505564f938a54c905bd4fe42162
CATEGORIES:Opens et Promos (alpin)
CREATED:20141127T000323
SUMMARY:OPEN U8etU10-U12etU14     Coupe de la Ville de St Dié des Vosges
URL;VALUE=URI:https://skivosges.net/agenda/export-synchronisation/detailevenement/382/-/o
 pen-u8etu10-u12etu14-coupe-de-la-ville-de-st-die-des-vosges?tmpl=component
DESCRIPTION:OPEN U8etU10-U12etU14     Coupe de la Ville de St Dié des Vosges\n\nLieu : 
 LA BRESSE\nOrganisateur : SKI RACING DEODATIEN (14454 SKI RACING DEODATIEN)
 \nEmail : RegularLabs.EmailProtector.unCloak("ep_7c738f32");\nTelecopie : 0
 608855252\n - AMVF0751  Slalom Geant U12/U14 Filles\n  OPEN U8etU10-U12etU1
 4     Coupe de la Ville de St Dié des Vosges\n - AMVM0751  Slalom Geant U12
 /U14 Garçons\n  OPEN U8etU10-U12etU14     Coupe de la Ville de St Dié des V
 osges\n - AMVF0752  Slalom Geant U8/U10 Filles\n  OPEN U8etU10-U12etU14    
  Coupe de la Ville de St Dié des Vosges\n - AMVM0752  Slalom Geant U8/U10 G
 arçons\n  OPEN U8etU10-U12etU14     Coupe de la Ville de St Dié des Vosges 
 Cet évènement a été importé depuis :https://skivosges.net/agenda/export-syn
 chronisation/detailevenement/382/-/open-u8etu10-u12etu14-coupe-de-la-ville-
 de-st-die-des-vosges?tmpl=component
X-ALT-DESC;FMTTYPE=text/html:<strong>OPEN U8etU10-U12etU14     Coupe de la Ville de St Dié des Vosges</s
 trong><br /><br />Lieu : LA BRESSE<br />Organisateur : SKI RACING DEODATIEN
  <small>(14454 SKI RACING DEODATIEN)</small><br />Email : <!-- Cette adress
 e électronique est protégée contre les robots spammeurs. --><span class="cl
 oaked_email ep_7c738f32"><span data-ep-a="&#111;&#100;&#105;&#108;&#101;" d
 ata-ep-b="&#102;r"><span data-ep-a="&#46;m&#117;&#110;&#115;" data-ep-b="&#
 97;n&#103;e."><span data-ep-a="ch.&#115;&#99;" data-ep-b="l&#98;&#64;&#111;
 &#114;"></span></span></span></span><script>RegularLabs.EmailProtector.unCl
 oak("ep_7c738f32");</script><br />Telecopie : 0608855252<ul type="disc"><li
 >AMVF0751  Slalom Geant <nobr>U12/U14</nobr> Filles<br />&nbsp;&nbsp;OPEN U
 8etU10-U12etU14     Coupe de la Ville de St Dié des Vosges</li><li>AMVM0751
   Slalom Geant <nobr>U12/U14</nobr> Garçons<br />&nbsp;&nbsp;OPEN U8etU10-U
 12etU14     Coupe de la Ville de St Dié des Vosges</li><li>AMVF0752  Slalom
  Geant <nobr>U8/U10</nobr> Filles<br />&nbsp;&nbsp;OPEN U8etU10-U12etU14   
   Coupe de la Ville de St Dié des Vosges</li><li>AMVM0752  Slalom Geant <no
 br>U8/U10</nobr> Garçons<br />&nbsp;&nbsp;OPEN U8etU10-U12etU14     Coupe d
 e la Ville de St Dié des Vosges</li></ul> <a href="https://skivosges.net/ag
 enda/export-synchronisation/detailevenement/382/-/open-u8etu10-u12etu14-cou
 pe-de-la-ville-de-st-die-des-vosges?tmpl=component">Cet évènement a été imp
 orté depuis :https://skivosges.net/agenda/export-synchronisation/detaileven
 ement/382/-/open-u8etu10-u12etu14-coupe-de-la-ville-de-st-die-des-vosges?tm
 pl=component</a>DTSTAMP:20260420T220743
DTSTART;TZID=Europe/Paris:20150321T080000
DTEND;TZID=Europe/Paris:20150321T170000
SEQUENCE:0
TRANSP:OPAQUE
END:VEVENT
END:VCALENDAR