BEGIN:VCALENDAR
VERSION:2.0
PRODID:-//jEvents 2.0 for Joomla//EN
CALSCALE:GREGORIAN
METHOD:PUBLISH
BEGIN:VTIMEZONE
TZID:Europe/Paris
BEGIN:STANDARD
DTSTART:20140206T080000
RDATE:20140330T030000
TZOFFSETFROM:+0200
TZOFFSETTO:+0100
TZNAME:Europe/Paris CET
END:STANDARD
BEGIN:STANDARD
DTSTART:20141026T020000
RDATE:20150329T030000
TZOFFSETFROM:+0200
TZOFFSETTO:+0100
TZNAME:Europe/Paris CET
END:STANDARD
BEGIN:STANDARD
DTSTART:20151025T020000
RDATE:20160327T030000
TZOFFSETFROM:+0200
TZOFFSETTO:+0100
TZNAME:Europe/Paris CET
END:STANDARD
BEGIN:STANDARD
DTSTART:20161030T020000
RDATE:20170326T030000
TZOFFSETFROM:+0200
TZOFFSETTO:+0100
TZNAME:Europe/Paris CET
END:STANDARD
BEGIN:STANDARD
DTSTART:20171029T020000
RDATE:20180325T030000
TZOFFSETFROM:+0200
TZOFFSETTO:+0100
TZNAME:Europe/Paris CET
END:STANDARD
BEGIN:STANDARD
DTSTART:20181028T020000
RDATE:20190331T030000
TZOFFSETFROM:+0200
TZOFFSETTO:+0100
TZNAME:Europe/Paris CET
END:STANDARD
BEGIN:STANDARD
DTSTART:20191027T020000
RDATE:20200329T030000
TZOFFSETFROM:+0200
TZOFFSETTO:+0100
TZNAME:Europe/Paris CET
END:STANDARD
BEGIN:STANDARD
DTSTART:20201025T020000
RDATE:20210328T030000
TZOFFSETFROM:+0200
TZOFFSETTO:+0100
TZNAME:Europe/Paris CET
END:STANDARD
BEGIN:STANDARD
DTSTART:20211031T020000
RDATE:20220327T030000
TZOFFSETFROM:+0200
TZOFFSETTO:+0100
TZNAME:Europe/Paris CET
END:STANDARD
BEGIN:STANDARD
DTSTART:20221030T020000
RDATE:20230326T030000
TZOFFSETFROM:+0200
TZOFFSETTO:+0100
TZNAME:Europe/Paris CET
END:STANDARD
BEGIN:STANDARD
DTSTART:20231029T020000
RDATE:20240331T030000
TZOFFSETFROM:+0200
TZOFFSETTO:+0100
TZNAME:Europe/Paris CET
END:STANDARD
BEGIN:STANDARD
DTSTART:20241027T020000
RDATE:20250330T030000
TZOFFSETFROM:+0200
TZOFFSETTO:+0100
TZNAME:Europe/Paris CET
END:STANDARD
BEGIN:STANDARD
DTSTART:20251026T020000
RDATE:20260329T030000
TZOFFSETFROM:+0200
TZOFFSETTO:+0100
TZNAME:Europe/Paris CET
END:STANDARD
BEGIN:STANDARD
DTSTART:20261025T020000
RDATE:20270328T030000
TZOFFSETFROM:+0200
TZOFFSETTO:+0100
TZNAME:Europe/Paris CET
END:STANDARD
BEGIN:DAYLIGHT
DTSTART:20140330T030000
RDATE:20141026T020000
TZOFFSETFROM:+0100
TZOFFSETTO:+0200
TZNAME:Europe/Paris CEST
END:DAYLIGHT
BEGIN:DAYLIGHT
DTSTART:20150329T030000
RDATE:20151025T020000
TZOFFSETFROM:+0100
TZOFFSETTO:+0200
TZNAME:Europe/Paris CEST
END:DAYLIGHT
BEGIN:DAYLIGHT
DTSTART:20160327T030000
RDATE:20161030T020000
TZOFFSETFROM:+0100
TZOFFSETTO:+0200
TZNAME:Europe/Paris CEST
END:DAYLIGHT
BEGIN:DAYLIGHT
DTSTART:20170326T030000
RDATE:20171029T020000
TZOFFSETFROM:+0100
TZOFFSETTO:+0200
TZNAME:Europe/Paris CEST
END:DAYLIGHT
BEGIN:DAYLIGHT
DTSTART:20180325T030000
RDATE:20181028T020000
TZOFFSETFROM:+0100
TZOFFSETTO:+0200
TZNAME:Europe/Paris CEST
END:DAYLIGHT
BEGIN:DAYLIGHT
DTSTART:20190331T030000
RDATE:20191027T020000
TZOFFSETFROM:+0100
TZOFFSETTO:+0200
TZNAME:Europe/Paris CEST
END:DAYLIGHT
BEGIN:DAYLIGHT
DTSTART:20200329T030000
RDATE:20201025T020000
TZOFFSETFROM:+0100
TZOFFSETTO:+0200
TZNAME:Europe/Paris CEST
END:DAYLIGHT
BEGIN:DAYLIGHT
DTSTART:20210328T030000
RDATE:20211031T020000
TZOFFSETFROM:+0100
TZOFFSETTO:+0200
TZNAME:Europe/Paris CEST
END:DAYLIGHT
BEGIN:DAYLIGHT
DTSTART:20220327T030000
RDATE:20221030T020000
TZOFFSETFROM:+0100
TZOFFSETTO:+0200
TZNAME:Europe/Paris CEST
END:DAYLIGHT
BEGIN:DAYLIGHT
DTSTART:20230326T030000
RDATE:20231029T020000
TZOFFSETFROM:+0100
TZOFFSETTO:+0200
TZNAME:Europe/Paris CEST
END:DAYLIGHT
BEGIN:DAYLIGHT
DTSTART:20240331T030000
RDATE:20241027T020000
TZOFFSETFROM:+0100
TZOFFSETTO:+0200
TZNAME:Europe/Paris CEST
END:DAYLIGHT
BEGIN:DAYLIGHT
DTSTART:20250330T030000
RDATE:20251026T020000
TZOFFSETFROM:+0100
TZOFFSETTO:+0200
TZNAME:Europe/Paris CEST
END:DAYLIGHT
BEGIN:DAYLIGHT
DTSTART:20260329T030000
RDATE:20261025T020000
TZOFFSETFROM:+0100
TZOFFSETTO:+0200
TZNAME:Europe/Paris CEST
END:DAYLIGHT
END:VTIMEZONE
BEGIN:VEVENT
UID:7764b5f15ed57989e5856047d629923b
CATEGORIES:Circuit Lorraine Jeunes (alpin)
CREATED:20141205T112739
SUMMARY:CLJ  U8etU10-U12-U14     Prix du CDHV
URL;VALUE=URI:https://skivosges.net/agenda/export-synchronisation/detailevenement/403/-/c
 lj-u8etu10-u12-u14-prix-du-cdhv?tmpl=component
DESCRIPTION:CLJ  U8etU10-U12-U14     Prix du CDHV \n(Coupe de Lorraine Jeunes)\n\nLieu 
 : GERARDMER\nOrganisateur : GERARDMER SKI ALPIN(14089)\nEmail : RegularLabs
 .EmailProtector.unCloak("ep_9ca88cf8");\nTelecopie : 0329609404\n\nSLALOM G
 EANT SUR LE STADE \nA GERARDMER\n\nInscriptions closes, les listes de dépar
 t sont visualisables sur ce site\n  Lieu:LE VALTIN\n - AMVF0931  Slalom Gea
 nt (Coupe de Bronze) U14 Filles\n  CLJ  U8etU10-U12-U14     Prix du Valtin\
 n  Lieu:LE VALTIN\n - AMVM0931  Slalom Geant (Coupe de Bronze) U14 Garçons\
 n  CLJ  U8etU10-U12-U14     Prix du Valtin\n  Lieu:LE VALTIN\n - AMVF0932  
 Slalom Geant (Coupe de Bronze) U12 Filles\n  CLJ  U8etU10-U12-U14     Prix 
 du Valtin\n  Lieu:LE VALTIN\n - AMVM0932  Slalom Geant (Coupe de Bronze) U1
 2 Garçons\n  CLJ  U8etU10-U12-U14     Prix du Valtin\n  Lieu:LE VALTIN\n - 
 AMVF0933  Slalom Geant (Coupe de Bronze) U8/U10 Filles\n  CLJ  U8etU10-U12-
 U14     Prix du Valtin\n  Lieu:LE VALTIN\n - AMVM0933  Slalom Geant (Coupe 
 de Bronze) U8/U10 Garçons\n  CLJ  U8etU10-U12-U14     Prix du Valtin Cet év
 ènement a été importé depuis :https://skivosges.net/agenda/export-synchroni
 sation/detailevenement/403/-/clj-u8etu10-u12-u14-prix-du-cdhv?tmpl=componen
 t
X-ALT-DESC;FMTTYPE=text/html:<strong>CLJ  U8etU10-U12-U14     Prix du CDHV</strong> <br /><i>(Coupe de L
 orraine Jeunes)</i><br /><br />Lieu : GERARDMER<br />Organisateur : GERARDM
 ER SKI ALPIN<small>(14089)</small><br />Email : <!-- Cette adresse électron
 ique est protégée contre les robots spammeurs. --><span class="cloaked_emai
 l ep_9ca88cf8"><span data-ep-b="&#114;" data-ep-a="&#97;&#115;g&#115;&#107;
 "><span data-ep-a="i&#46;ge&#114;" data-ep-b="a&#111;&#111;&#46;&#102;"><sp
 an data-ep-b="&#114;&#64;&#119;&#97;&#110;" data-ep-a="&#97;r&#100;&#109;&#
 101;"></span></span></span></span><script>RegularLabs.EmailProtector.unCloa
 k("ep_9ca88cf8");</script><br />Telecopie : 0329609404<br /><br />SLALOM GE
 ANT SUR LE STADE <br>A GERARDMER<br /><br />Inscriptions closes, les listes
  de départ sont visualisables sur ce site<ul type="disc"><br />&nbsp;&nbsp;
 Lieu:LE VALTIN<li>AMVF0931  Slalom Geant <nobr><i>(Coupe de Bronze)</i></no
 br> <nobr>U14</nobr> Filles<br />&nbsp;&nbsp;CLJ  U8etU10-U12-U14     Prix 
 du Valtin</li><br />&nbsp;&nbsp;Lieu:LE VALTIN<li>AMVM0931  Slalom Geant <n
 obr><i>(Coupe de Bronze)</i></nobr> <nobr>U14</nobr> Garçons<br />&nbsp;&nb
 sp;CLJ  U8etU10-U12-U14     Prix du Valtin</li><br />&nbsp;&nbsp;Lieu:LE VA
 LTIN<li>AMVF0932  Slalom Geant <nobr><i>(Coupe de Bronze)</i></nobr> <nobr>
 U12</nobr> Filles<br />&nbsp;&nbsp;CLJ  U8etU10-U12-U14     Prix du Valtin<
 /li><br />&nbsp;&nbsp;Lieu:LE VALTIN<li>AMVM0932  Slalom Geant <nobr><i>(Co
 upe de Bronze)</i></nobr> <nobr>U12</nobr> Garçons<br />&nbsp;&nbsp;CLJ  U8
 etU10-U12-U14     Prix du Valtin</li><br />&nbsp;&nbsp;Lieu:LE VALTIN<li>AM
 VF0933  Slalom Geant <nobr><i>(Coupe de Bronze)</i></nobr> <nobr>U8/U10</no
 br> Filles<br />&nbsp;&nbsp;CLJ  U8etU10-U12-U14     Prix du Valtin</li><br
  />&nbsp;&nbsp;Lieu:LE VALTIN<li>AMVM0933  Slalom Geant <nobr><i>(Coupe de 
 Bronze)</i></nobr> <nobr>U8/U10</nobr> Garçons<br />&nbsp;&nbsp;CLJ  U8etU1
 0-U12-U14     Prix du Valtin</li></ul> <a href="https://skivosges.net/agend
 a/export-synchronisation/detailevenement/403/-/clj-u8etu10-u12-u14-prix-du-
 cdhv?tmpl=component">Cet évènement a été importé depuis :https://skivosges.
 net/agenda/export-synchronisation/detailevenement/403/-/clj-u8etu10-u12-u14
 -prix-du-cdhv?tmpl=component</a>DTSTAMP:20260420T224952
DTSTART;TZID=Europe/Paris:20150207T080000
DTEND;TZID=Europe/Paris:20150207T170000
SEQUENCE:0
TRANSP:OPAQUE
END:VEVENT
END:VCALENDAR