BEGIN:VCALENDAR
VERSION:2.0
PRODID:-//jEvents 2.0 for Joomla//EN
CALSCALE:GREGORIAN
METHOD:PUBLISH
BEGIN:VTIMEZONE
TZID:Europe/Paris
BEGIN:STANDARD
DTSTART:20140103T080000
RDATE:20140330T030000
TZOFFSETFROM:+0200
TZOFFSETTO:+0100
TZNAME:Europe/Paris CET
END:STANDARD
BEGIN:STANDARD
DTSTART:20141026T020000
RDATE:20150329T030000
TZOFFSETFROM:+0200
TZOFFSETTO:+0100
TZNAME:Europe/Paris CET
END:STANDARD
BEGIN:STANDARD
DTSTART:20151025T020000
RDATE:20160327T030000
TZOFFSETFROM:+0200
TZOFFSETTO:+0100
TZNAME:Europe/Paris CET
END:STANDARD
BEGIN:STANDARD
DTSTART:20161030T020000
RDATE:20170326T030000
TZOFFSETFROM:+0200
TZOFFSETTO:+0100
TZNAME:Europe/Paris CET
END:STANDARD
BEGIN:STANDARD
DTSTART:20171029T020000
RDATE:20180325T030000
TZOFFSETFROM:+0200
TZOFFSETTO:+0100
TZNAME:Europe/Paris CET
END:STANDARD
BEGIN:STANDARD
DTSTART:20181028T020000
RDATE:20190331T030000
TZOFFSETFROM:+0200
TZOFFSETTO:+0100
TZNAME:Europe/Paris CET
END:STANDARD
BEGIN:STANDARD
DTSTART:20191027T020000
RDATE:20200329T030000
TZOFFSETFROM:+0200
TZOFFSETTO:+0100
TZNAME:Europe/Paris CET
END:STANDARD
BEGIN:STANDARD
DTSTART:20201025T020000
RDATE:20210328T030000
TZOFFSETFROM:+0200
TZOFFSETTO:+0100
TZNAME:Europe/Paris CET
END:STANDARD
BEGIN:STANDARD
DTSTART:20211031T020000
RDATE:20220327T030000
TZOFFSETFROM:+0200
TZOFFSETTO:+0100
TZNAME:Europe/Paris CET
END:STANDARD
BEGIN:STANDARD
DTSTART:20221030T020000
RDATE:20230326T030000
TZOFFSETFROM:+0200
TZOFFSETTO:+0100
TZNAME:Europe/Paris CET
END:STANDARD
BEGIN:STANDARD
DTSTART:20231029T020000
RDATE:20240331T030000
TZOFFSETFROM:+0200
TZOFFSETTO:+0100
TZNAME:Europe/Paris CET
END:STANDARD
BEGIN:STANDARD
DTSTART:20241027T020000
RDATE:20250330T030000
TZOFFSETFROM:+0200
TZOFFSETTO:+0100
TZNAME:Europe/Paris CET
END:STANDARD
BEGIN:STANDARD
DTSTART:20251026T020000
RDATE:20260329T030000
TZOFFSETFROM:+0200
TZOFFSETTO:+0100
TZNAME:Europe/Paris CET
END:STANDARD
BEGIN:STANDARD
DTSTART:20261025T020000
RDATE:20270328T030000
TZOFFSETFROM:+0200
TZOFFSETTO:+0100
TZNAME:Europe/Paris CET
END:STANDARD
BEGIN:DAYLIGHT
DTSTART:20140330T030000
RDATE:20141026T020000
TZOFFSETFROM:+0100
TZOFFSETTO:+0200
TZNAME:Europe/Paris CEST
END:DAYLIGHT
BEGIN:DAYLIGHT
DTSTART:20150329T030000
RDATE:20151025T020000
TZOFFSETFROM:+0100
TZOFFSETTO:+0200
TZNAME:Europe/Paris CEST
END:DAYLIGHT
BEGIN:DAYLIGHT
DTSTART:20160327T030000
RDATE:20161030T020000
TZOFFSETFROM:+0100
TZOFFSETTO:+0200
TZNAME:Europe/Paris CEST
END:DAYLIGHT
BEGIN:DAYLIGHT
DTSTART:20170326T030000
RDATE:20171029T020000
TZOFFSETFROM:+0100
TZOFFSETTO:+0200
TZNAME:Europe/Paris CEST
END:DAYLIGHT
BEGIN:DAYLIGHT
DTSTART:20180325T030000
RDATE:20181028T020000
TZOFFSETFROM:+0100
TZOFFSETTO:+0200
TZNAME:Europe/Paris CEST
END:DAYLIGHT
BEGIN:DAYLIGHT
DTSTART:20190331T030000
RDATE:20191027T020000
TZOFFSETFROM:+0100
TZOFFSETTO:+0200
TZNAME:Europe/Paris CEST
END:DAYLIGHT
BEGIN:DAYLIGHT
DTSTART:20200329T030000
RDATE:20201025T020000
TZOFFSETFROM:+0100
TZOFFSETTO:+0200
TZNAME:Europe/Paris CEST
END:DAYLIGHT
BEGIN:DAYLIGHT
DTSTART:20210328T030000
RDATE:20211031T020000
TZOFFSETFROM:+0100
TZOFFSETTO:+0200
TZNAME:Europe/Paris CEST
END:DAYLIGHT
BEGIN:DAYLIGHT
DTSTART:20220327T030000
RDATE:20221030T020000
TZOFFSETFROM:+0100
TZOFFSETTO:+0200
TZNAME:Europe/Paris CEST
END:DAYLIGHT
BEGIN:DAYLIGHT
DTSTART:20230326T030000
RDATE:20231029T020000
TZOFFSETFROM:+0100
TZOFFSETTO:+0200
TZNAME:Europe/Paris CEST
END:DAYLIGHT
BEGIN:DAYLIGHT
DTSTART:20240331T030000
RDATE:20241027T020000
TZOFFSETFROM:+0100
TZOFFSETTO:+0200
TZNAME:Europe/Paris CEST
END:DAYLIGHT
BEGIN:DAYLIGHT
DTSTART:20250330T030000
RDATE:20251026T020000
TZOFFSETFROM:+0100
TZOFFSETTO:+0200
TZNAME:Europe/Paris CEST
END:DAYLIGHT
BEGIN:DAYLIGHT
DTSTART:20260329T030000
RDATE:20261025T020000
TZOFFSETFROM:+0100
TZOFFSETTO:+0200
TZNAME:Europe/Paris CEST
END:DAYLIGHT
END:VTIMEZONE
BEGIN:VEVENT
UID:4d7b48bfb0d8e0423ff837b2a39a83af
CATEGORIES:Circuit Lorraine Jeunes (alpin)
CREATED:20150112T174332
SUMMARY:CLJ  U8-U2etU14     Coupe du Crédit Mutuel Géradmer
URL;VALUE=URI:https://skivosges.net/agenda/export-synchronisation/detailevenement/406/-/c
 lj-u8-u2etu14-coupe-du-credit-mutuel-geradmer?tmpl=component
DESCRIPTION:CLJ  U8-U2etU14     Coupe du Crédit Mutuel Géradmer \n(Coupe de Lorraine Je
 unes)\n\nLieu : GERARDMER\nOrganisateur : GERARDMER SKI ALPIN (14089 GERARD
 MER SKI ALPIN)\nTelecopie : 03 29 60 98 04\nTelecopie : 03 29 60 98 04\n\nI
 nscription des U8 possible\n - AMVF0201  Slalom Geant (Coupe de Bronze) U12
 /U14 Filles\n  CLJ  U10-U2etU14     Coupe du Crédit Mutuel Géradmer\n - AMV
 M0201  Slalom Geant (Coupe de Bronze) U12/U14 Garçons\n  CLJ  U10-U2etU14  
    Coupe du Crédit Mutuel Géradmer\n - AMVF0202  Slalom Geant (Coupe de Bro
 nze) U8/U10 Filles\n  CLJ  U10-U2etU14     Coupe du Crédit Mutuel Géradmer\
 n - AMVM0202  Slalom Geant (Coupe de Bronze) U8/U10 Garçons\n  CLJ  U10-U2e
 tU14     Coupe du Crédit Mutuel Géradmer Cet évènement a été importé depuis
  :https://skivosges.net/agenda/export-synchronisation/detailevenement/406/-
 /clj-u8-u2etu14-coupe-du-credit-mutuel-geradmer?tmpl=component
X-ALT-DESC;FMTTYPE=text/html:<strong>CLJ  U8-U2etU14     Coupe du Crédit Mutuel Géradmer</strong> <br />
 <i>(Coupe de Lorraine Jeunes)</i><br /><br />Lieu : GERARDMER<br />Organisa
 teur : GERARDMER SKI ALPIN <small>(14089 GERARDMER SKI ALPIN)</small><br />
 Telecopie : 03 29 60 98 04<br />Telecopie : 03 29 60 98 04<br /><br />Inscr
 iption des U8 possible<ul type="disc"><li>AMVF0201  Slalom Geant <nobr><i>(
 Coupe de Bronze)</i></nobr> <nobr>U12/U14</nobr> Filles<br />&nbsp;&nbsp;CL
 J  U10-U2etU14     Coupe du Crédit Mutuel Géradmer</li><li>AMVM0201  Slalom
  Geant <nobr><i>(Coupe de Bronze)</i></nobr> <nobr>U12/U14</nobr> Garçons<b
 r />&nbsp;&nbsp;CLJ  U10-U2etU14     Coupe du Crédit Mutuel Géradmer</li><l
 i>AMVF0202  Slalom Geant <nobr><i>(Coupe de Bronze)</i></nobr> <nobr>U8/U10
 </nobr> Filles<br />&nbsp;&nbsp;CLJ  U10-U2etU14     Coupe du Crédit Mutuel
  Géradmer</li><li>AMVM0202  Slalom Geant <nobr><i>(Coupe de Bronze)</i></no
 br> <nobr>U8/U10</nobr> Garçons<br />&nbsp;&nbsp;CLJ  U10-U2etU14     Coupe
  du Crédit Mutuel Géradmer</li></ul> <a href="https://skivosges.net/agenda/
 export-synchronisation/detailevenement/406/-/clj-u8-u2etu14-coupe-du-credit
 -mutuel-geradmer?tmpl=component">Cet évènement a été importé depuis :https:
 //skivosges.net/agenda/export-synchronisation/detailevenement/406/-/clj-u8-
 u2etu14-coupe-du-credit-mutuel-geradmer?tmpl=component</a>DTSTAMP:20260420T220744
DTSTART;TZID=Europe/Paris:20150104T080000
DTEND;TZID=Europe/Paris:20150104T170000
SEQUENCE:0
TRANSP:OPAQUE
END:VEVENT
END:VCALENDAR