BEGIN:VCALENDAR
VERSION:2.0
PRODID:-//jEvents 2.0 for Joomla//EN
CALSCALE:GREGORIAN
METHOD:PUBLISH
BEGIN:VTIMEZONE
TZID:Europe/Paris
BEGIN:STANDARD
DTSTART:20140117T080000
RDATE:20140330T030000
TZOFFSETFROM:+0200
TZOFFSETTO:+0100
TZNAME:Europe/Paris CET
END:STANDARD
BEGIN:STANDARD
DTSTART:20141026T020000
RDATE:20150329T030000
TZOFFSETFROM:+0200
TZOFFSETTO:+0100
TZNAME:Europe/Paris CET
END:STANDARD
BEGIN:STANDARD
DTSTART:20151025T020000
RDATE:20160327T030000
TZOFFSETFROM:+0200
TZOFFSETTO:+0100
TZNAME:Europe/Paris CET
END:STANDARD
BEGIN:STANDARD
DTSTART:20161030T020000
RDATE:20170326T030000
TZOFFSETFROM:+0200
TZOFFSETTO:+0100
TZNAME:Europe/Paris CET
END:STANDARD
BEGIN:STANDARD
DTSTART:20171029T020000
RDATE:20180325T030000
TZOFFSETFROM:+0200
TZOFFSETTO:+0100
TZNAME:Europe/Paris CET
END:STANDARD
BEGIN:STANDARD
DTSTART:20181028T020000
RDATE:20190331T030000
TZOFFSETFROM:+0200
TZOFFSETTO:+0100
TZNAME:Europe/Paris CET
END:STANDARD
BEGIN:STANDARD
DTSTART:20191027T020000
RDATE:20200329T030000
TZOFFSETFROM:+0200
TZOFFSETTO:+0100
TZNAME:Europe/Paris CET
END:STANDARD
BEGIN:STANDARD
DTSTART:20201025T020000
RDATE:20210328T030000
TZOFFSETFROM:+0200
TZOFFSETTO:+0100
TZNAME:Europe/Paris CET
END:STANDARD
BEGIN:STANDARD
DTSTART:20211031T020000
RDATE:20220327T030000
TZOFFSETFROM:+0200
TZOFFSETTO:+0100
TZNAME:Europe/Paris CET
END:STANDARD
BEGIN:STANDARD
DTSTART:20221030T020000
RDATE:20230326T030000
TZOFFSETFROM:+0200
TZOFFSETTO:+0100
TZNAME:Europe/Paris CET
END:STANDARD
BEGIN:STANDARD
DTSTART:20231029T020000
RDATE:20240331T030000
TZOFFSETFROM:+0200
TZOFFSETTO:+0100
TZNAME:Europe/Paris CET
END:STANDARD
BEGIN:STANDARD
DTSTART:20241027T020000
RDATE:20250330T030000
TZOFFSETFROM:+0200
TZOFFSETTO:+0100
TZNAME:Europe/Paris CET
END:STANDARD
BEGIN:STANDARD
DTSTART:20251026T020000
RDATE:20260329T030000
TZOFFSETFROM:+0200
TZOFFSETTO:+0100
TZNAME:Europe/Paris CET
END:STANDARD
BEGIN:STANDARD
DTSTART:20261025T020000
RDATE:20270328T030000
TZOFFSETFROM:+0200
TZOFFSETTO:+0100
TZNAME:Europe/Paris CET
END:STANDARD
BEGIN:DAYLIGHT
DTSTART:20140330T030000
RDATE:20141026T020000
TZOFFSETFROM:+0100
TZOFFSETTO:+0200
TZNAME:Europe/Paris CEST
END:DAYLIGHT
BEGIN:DAYLIGHT
DTSTART:20150329T030000
RDATE:20151025T020000
TZOFFSETFROM:+0100
TZOFFSETTO:+0200
TZNAME:Europe/Paris CEST
END:DAYLIGHT
BEGIN:DAYLIGHT
DTSTART:20160327T030000
RDATE:20161030T020000
TZOFFSETFROM:+0100
TZOFFSETTO:+0200
TZNAME:Europe/Paris CEST
END:DAYLIGHT
BEGIN:DAYLIGHT
DTSTART:20170326T030000
RDATE:20171029T020000
TZOFFSETFROM:+0100
TZOFFSETTO:+0200
TZNAME:Europe/Paris CEST
END:DAYLIGHT
BEGIN:DAYLIGHT
DTSTART:20180325T030000
RDATE:20181028T020000
TZOFFSETFROM:+0100
TZOFFSETTO:+0200
TZNAME:Europe/Paris CEST
END:DAYLIGHT
BEGIN:DAYLIGHT
DTSTART:20190331T030000
RDATE:20191027T020000
TZOFFSETFROM:+0100
TZOFFSETTO:+0200
TZNAME:Europe/Paris CEST
END:DAYLIGHT
BEGIN:DAYLIGHT
DTSTART:20200329T030000
RDATE:20201025T020000
TZOFFSETFROM:+0100
TZOFFSETTO:+0200
TZNAME:Europe/Paris CEST
END:DAYLIGHT
BEGIN:DAYLIGHT
DTSTART:20210328T030000
RDATE:20211031T020000
TZOFFSETFROM:+0100
TZOFFSETTO:+0200
TZNAME:Europe/Paris CEST
END:DAYLIGHT
BEGIN:DAYLIGHT
DTSTART:20220327T030000
RDATE:20221030T020000
TZOFFSETFROM:+0100
TZOFFSETTO:+0200
TZNAME:Europe/Paris CEST
END:DAYLIGHT
BEGIN:DAYLIGHT
DTSTART:20230326T030000
RDATE:20231029T020000
TZOFFSETFROM:+0100
TZOFFSETTO:+0200
TZNAME:Europe/Paris CEST
END:DAYLIGHT
BEGIN:DAYLIGHT
DTSTART:20240331T030000
RDATE:20241027T020000
TZOFFSETFROM:+0100
TZOFFSETTO:+0200
TZNAME:Europe/Paris CEST
END:DAYLIGHT
BEGIN:DAYLIGHT
DTSTART:20250330T030000
RDATE:20251026T020000
TZOFFSETFROM:+0100
TZOFFSETTO:+0200
TZNAME:Europe/Paris CEST
END:DAYLIGHT
BEGIN:DAYLIGHT
DTSTART:20260329T030000
RDATE:20261025T020000
TZOFFSETFROM:+0100
TZOFFSETTO:+0200
TZNAME:Europe/Paris CEST
END:DAYLIGHT
END:VTIMEZONE
BEGIN:VEVENT
UID:360a1ead1bbe348b6055104282d74738
CATEGORIES:Autres Épreuves (alpin)
CREATED:20150119T174845
SUMMARY:Coupe du CDVS U8àU12 - U14
URL;VALUE=URI:https://skivosges.net/agenda/export-synchronisation/detailevenement/410/-/c
 oupe-du-cdvs-u8au12-u14?tmpl=component
DESCRIPTION:Coupe du CDVS U8àU12 - U14\n\nLieu : FRERE JOSEPH\nOrganisateur : U.S VENTR
 ON (14083 U.S VENTRON)\nEmail : RegularLabs.EmailProtector.unCloak("ep_4eae
 a8ab");\nTelecopie : 03 55 23 28 11\n - AMVM0951  Slalom U14 Garçons\n  Cou
 pe du CDVS U8àU12 - U14\n - AMVF0951  Slalom U14 Filles\n  Coupe du CDVS U8
 àU12 - U14\n - AMVF0952  Slalom U12 Filles\n  Coupe du CDVS U8àU12 - U14\n 
 - AMVM0952  Slalom U12 Garçons\n  Coupe du CDVS U8àU12 - U14\n - AMVM0953  
 Slalom U8/U10 Garçons\n  Coupe du CDVS U8àU12 - U14\n - AMVF0953  Slalom U8
 /U10 Filles\n  Coupe du CDVS U8àU12 - U14 Cet évènement a été importé depui
 s :https://skivosges.net/agenda/export-synchronisation/detailevenement/410/
 -/coupe-du-cdvs-u8au12-u14?tmpl=component
X-ALT-DESC;FMTTYPE=text/html:<strong>Coupe du CDVS U8àU12 - U14</strong><br /><br />Lieu : FRERE JOSEPH<
 br />Organisateur : U.S VENTRON <small>(14083 U.S VENTRON)</small><br />Ema
 il : <!-- Cette adresse électronique est protégée contre les robots spammeu
 rs. --><span class="cloaked_email ep_4eaea8ab"><span data-ep-a="c&#97;t&#10
 4;" data-ep-b="&#111;&#109;"><span data-ep-b="il&#46;&#99;" data-ep-a="e&#1
 14;&#105;n"><span data-ep-a="&#101;&#117;s&#118;" data-ep-b="&#64;&#103;&#1
 09;&#97;"></span></span></span></span><script>RegularLabs.EmailProtector.un
 Cloak("ep_4eaea8ab");</script><br />Telecopie : 03 55 23 28 11<ul type="dis
 c"><li>AMVM0951  Slalom <nobr>U14</nobr> Garçons<br />&nbsp;&nbsp;Coupe du 
 CDVS U8àU12 - U14</li><li>AMVF0951  Slalom <nobr>U14</nobr> Filles<br />&nb
 sp;&nbsp;Coupe du CDVS U8àU12 - U14</li><li>AMVF0952  Slalom <nobr>U12</nob
 r> Filles<br />&nbsp;&nbsp;Coupe du CDVS U8àU12 - U14</li><li>AMVM0952  Sla
 lom <nobr>U12</nobr> Garçons<br />&nbsp;&nbsp;Coupe du CDVS U8àU12 - U14</l
 i><li>AMVM0953  Slalom <nobr>U8/U10</nobr> Garçons<br />&nbsp;&nbsp;Coupe d
 u CDVS U8àU12 - U14</li><li>AMVF0953  Slalom <nobr>U8/U10</nobr> Filles<br 
 />&nbsp;&nbsp;Coupe du CDVS U8àU12 - U14</li></ul> <a href="https://skivosg
 es.net/agenda/export-synchronisation/detailevenement/410/-/coupe-du-cdvs-u8
 au12-u14?tmpl=component">Cet évènement a été importé depuis :https://skivos
 ges.net/agenda/export-synchronisation/detailevenement/410/-/coupe-du-cdvs-u
 8au12-u14?tmpl=component</a>DTSTAMP:20260420T220826
DTSTART;TZID=Europe/Paris:20150118T080000
DTEND;TZID=Europe/Paris:20150118T170000
SEQUENCE:0
TRANSP:OPAQUE
END:VEVENT
END:VCALENDAR