BEGIN:VCALENDAR
VERSION:2.0
PRODID:-//jEvents 2.0 for Joomla//EN
CALSCALE:GREGORIAN
METHOD:PUBLISH
BEGIN:VTIMEZONE
TZID:Europe/Paris
BEGIN:STANDARD
DTSTART:20140205T080000
RDATE:20140330T030000
TZOFFSETFROM:+0200
TZOFFSETTO:+0100
TZNAME:Europe/Paris CET
END:STANDARD
BEGIN:STANDARD
DTSTART:20141026T020000
RDATE:20150329T030000
TZOFFSETFROM:+0200
TZOFFSETTO:+0100
TZNAME:Europe/Paris CET
END:STANDARD
BEGIN:STANDARD
DTSTART:20151025T020000
RDATE:20160327T030000
TZOFFSETFROM:+0200
TZOFFSETTO:+0100
TZNAME:Europe/Paris CET
END:STANDARD
BEGIN:STANDARD
DTSTART:20161030T020000
RDATE:20170326T030000
TZOFFSETFROM:+0200
TZOFFSETTO:+0100
TZNAME:Europe/Paris CET
END:STANDARD
BEGIN:STANDARD
DTSTART:20171029T020000
RDATE:20180325T030000
TZOFFSETFROM:+0200
TZOFFSETTO:+0100
TZNAME:Europe/Paris CET
END:STANDARD
BEGIN:STANDARD
DTSTART:20181028T020000
RDATE:20190331T030000
TZOFFSETFROM:+0200
TZOFFSETTO:+0100
TZNAME:Europe/Paris CET
END:STANDARD
BEGIN:STANDARD
DTSTART:20191027T020000
RDATE:20200329T030000
TZOFFSETFROM:+0200
TZOFFSETTO:+0100
TZNAME:Europe/Paris CET
END:STANDARD
BEGIN:STANDARD
DTSTART:20201025T020000
RDATE:20210328T030000
TZOFFSETFROM:+0200
TZOFFSETTO:+0100
TZNAME:Europe/Paris CET
END:STANDARD
BEGIN:STANDARD
DTSTART:20211031T020000
RDATE:20220327T030000
TZOFFSETFROM:+0200
TZOFFSETTO:+0100
TZNAME:Europe/Paris CET
END:STANDARD
BEGIN:STANDARD
DTSTART:20221030T020000
RDATE:20230326T030000
TZOFFSETFROM:+0200
TZOFFSETTO:+0100
TZNAME:Europe/Paris CET
END:STANDARD
BEGIN:STANDARD
DTSTART:20231029T020000
RDATE:20240331T030000
TZOFFSETFROM:+0200
TZOFFSETTO:+0100
TZNAME:Europe/Paris CET
END:STANDARD
BEGIN:STANDARD
DTSTART:20241027T020000
RDATE:20250330T030000
TZOFFSETFROM:+0200
TZOFFSETTO:+0100
TZNAME:Europe/Paris CET
END:STANDARD
BEGIN:STANDARD
DTSTART:20251026T020000
RDATE:20260329T030000
TZOFFSETFROM:+0200
TZOFFSETTO:+0100
TZNAME:Europe/Paris CET
END:STANDARD
BEGIN:STANDARD
DTSTART:20261025T020000
RDATE:20270328T030000
TZOFFSETFROM:+0200
TZOFFSETTO:+0100
TZNAME:Europe/Paris CET
END:STANDARD
BEGIN:DAYLIGHT
DTSTART:20140330T030000
RDATE:20141026T020000
TZOFFSETFROM:+0100
TZOFFSETTO:+0200
TZNAME:Europe/Paris CEST
END:DAYLIGHT
BEGIN:DAYLIGHT
DTSTART:20150329T030000
RDATE:20151025T020000
TZOFFSETFROM:+0100
TZOFFSETTO:+0200
TZNAME:Europe/Paris CEST
END:DAYLIGHT
BEGIN:DAYLIGHT
DTSTART:20160327T030000
RDATE:20161030T020000
TZOFFSETFROM:+0100
TZOFFSETTO:+0200
TZNAME:Europe/Paris CEST
END:DAYLIGHT
BEGIN:DAYLIGHT
DTSTART:20170326T030000
RDATE:20171029T020000
TZOFFSETFROM:+0100
TZOFFSETTO:+0200
TZNAME:Europe/Paris CEST
END:DAYLIGHT
BEGIN:DAYLIGHT
DTSTART:20180325T030000
RDATE:20181028T020000
TZOFFSETFROM:+0100
TZOFFSETTO:+0200
TZNAME:Europe/Paris CEST
END:DAYLIGHT
BEGIN:DAYLIGHT
DTSTART:20190331T030000
RDATE:20191027T020000
TZOFFSETFROM:+0100
TZOFFSETTO:+0200
TZNAME:Europe/Paris CEST
END:DAYLIGHT
BEGIN:DAYLIGHT
DTSTART:20200329T030000
RDATE:20201025T020000
TZOFFSETFROM:+0100
TZOFFSETTO:+0200
TZNAME:Europe/Paris CEST
END:DAYLIGHT
BEGIN:DAYLIGHT
DTSTART:20210328T030000
RDATE:20211031T020000
TZOFFSETFROM:+0100
TZOFFSETTO:+0200
TZNAME:Europe/Paris CEST
END:DAYLIGHT
BEGIN:DAYLIGHT
DTSTART:20220327T030000
RDATE:20221030T020000
TZOFFSETFROM:+0100
TZOFFSETTO:+0200
TZNAME:Europe/Paris CEST
END:DAYLIGHT
BEGIN:DAYLIGHT
DTSTART:20230326T030000
RDATE:20231029T020000
TZOFFSETFROM:+0100
TZOFFSETTO:+0200
TZNAME:Europe/Paris CEST
END:DAYLIGHT
BEGIN:DAYLIGHT
DTSTART:20240331T030000
RDATE:20241027T020000
TZOFFSETFROM:+0100
TZOFFSETTO:+0200
TZNAME:Europe/Paris CEST
END:DAYLIGHT
BEGIN:DAYLIGHT
DTSTART:20250330T030000
RDATE:20251026T020000
TZOFFSETFROM:+0100
TZOFFSETTO:+0200
TZNAME:Europe/Paris CEST
END:DAYLIGHT
BEGIN:DAYLIGHT
DTSTART:20260329T030000
RDATE:20261025T020000
TZOFFSETFROM:+0100
TZOFFSETTO:+0200
TZNAME:Europe/Paris CEST
END:DAYLIGHT
END:VTIMEZONE
BEGIN:VEVENT
UID:7db5149010561dc521f7d43ab0e198f1
CATEGORIES:Autres Épreuves (alpin)
CREATED:20150119T174845
SUMMARY:U16         Mémorial Roger Kurtzemann **REPORTE**
URL;VALUE=URI:https://skivosges.net/agenda/export-synchronisation/detailevenement/413/-/u
 16-memorial-roger-kurtzemann-reporte?tmpl=component
DESCRIPTION:U16         Mémorial Roger Kurtzemann (Epreuve reportée)\n\nLieu : MARKSTEI
 N\nOrganisateur : SKI CLUB KRUTH (14145 SKI CLUB KRUTH)\nEmail : RegularLab
 s.EmailProtector.unCloak("ep_cc051906");\nTelecopie : 03 89 38 26 79\n\n...
 sur invitation d´un master! (voir article sur skivosges)\n\nInscriptions cl
 oses, les listes de départ sont visualisables sur ce site\n - AMVF0981  Sla
 lom U16 Filles\n  U16         Mémorial Roger Kurtzemann\n - AMVM0981  Slalo
 m U16 Garçons\n  U16         Mémorial Roger Kurtzemann Cet évènement a été 
 importé depuis :https://skivosges.net/agenda/export-synchronisation/detaile
 venement/413/-/u16-memorial-roger-kurtzemann-reporte?tmpl=component
X-ALT-DESC;FMTTYPE=text/html:<strong>U16         Mémorial Roger Kurtzemann</strong> <font class="attenti
 on4">(Epreuve reportée)</font><br /><br />Lieu : MARKSTEIN<br />Organisateu
 r : SKI CLUB KRUTH <small>(14145 SKI CLUB KRUTH)</small><br />Email : <!-- 
 Cette adresse électronique est protégée contre les robots spammeurs. --><sp
 an class="cloaked_email ep_cc051906"><span data-ep-b="&#111;m" data-ep-a="&
 #106;&#108;b&#64;"><span data-ep-b="&#116;&#104;&#46;&#99;" data-ep-a="s&#1
 07;&#105;-"><span data-ep-a="cl&#117;&#98;" data-ep-b="&#45;&#107;&#114;&#1
 17;"></span></span></span></span><script>RegularLabs.EmailProtector.unCloak
 ("ep_cc051906");</script><br />Telecopie : 03 89 38 26 79<br /><br />...sur
  invitation d´un master! (voir article sur skivosges)<br /><br />Inscriptio
 ns closes, les listes de départ sont visualisables sur ce site<ul type="dis
 c"><li>AMVF0981  Slalom <nobr>U16</nobr> Filles<br />&nbsp;&nbsp;U16       
   Mémorial Roger Kurtzemann</li><li>AMVM0981  Slalom <nobr>U16</nobr> Garço
 ns<br />&nbsp;&nbsp;U16         Mémorial Roger Kurtzemann</li></ul> <a href
 ="https://skivosges.net/agenda/export-synchronisation/detailevenement/413/-
 /u16-memorial-roger-kurtzemann-reporte?tmpl=component">Cet évènement a été 
 importé depuis :https://skivosges.net/agenda/export-synchronisation/detaile
 venement/413/-/u16-memorial-roger-kurtzemann-reporte?tmpl=component</a>DTSTAMP:20260420T220325
DTSTART;TZID=Europe/Paris:20150206T080000
DTEND;TZID=Europe/Paris:20150206T170000
SEQUENCE:0
TRANSP:OPAQUE
END:VEVENT
END:VCALENDAR