BEGIN:VCALENDAR
VERSION:2.0
PRODID:-//jEvents 2.0 for Joomla//EN
CALSCALE:GREGORIAN
METHOD:PUBLISH
BEGIN:VTIMEZONE
TZID:Europe/Paris
BEGIN:STANDARD
DTSTART:20140124T080000
RDATE:20140330T030000
TZOFFSETFROM:+0200
TZOFFSETTO:+0100
TZNAME:Europe/Paris CET
END:STANDARD
BEGIN:STANDARD
DTSTART:20141026T020000
RDATE:20150329T030000
TZOFFSETFROM:+0200
TZOFFSETTO:+0100
TZNAME:Europe/Paris CET
END:STANDARD
BEGIN:STANDARD
DTSTART:20151025T020000
RDATE:20160327T030000
TZOFFSETFROM:+0200
TZOFFSETTO:+0100
TZNAME:Europe/Paris CET
END:STANDARD
BEGIN:STANDARD
DTSTART:20161030T020000
RDATE:20170326T030000
TZOFFSETFROM:+0200
TZOFFSETTO:+0100
TZNAME:Europe/Paris CET
END:STANDARD
BEGIN:STANDARD
DTSTART:20171029T020000
RDATE:20180325T030000
TZOFFSETFROM:+0200
TZOFFSETTO:+0100
TZNAME:Europe/Paris CET
END:STANDARD
BEGIN:STANDARD
DTSTART:20181028T020000
RDATE:20190331T030000
TZOFFSETFROM:+0200
TZOFFSETTO:+0100
TZNAME:Europe/Paris CET
END:STANDARD
BEGIN:STANDARD
DTSTART:20191027T020000
RDATE:20200329T030000
TZOFFSETFROM:+0200
TZOFFSETTO:+0100
TZNAME:Europe/Paris CET
END:STANDARD
BEGIN:STANDARD
DTSTART:20201025T020000
RDATE:20210328T030000
TZOFFSETFROM:+0200
TZOFFSETTO:+0100
TZNAME:Europe/Paris CET
END:STANDARD
BEGIN:STANDARD
DTSTART:20211031T020000
RDATE:20220327T030000
TZOFFSETFROM:+0200
TZOFFSETTO:+0100
TZNAME:Europe/Paris CET
END:STANDARD
BEGIN:STANDARD
DTSTART:20221030T020000
RDATE:20230326T030000
TZOFFSETFROM:+0200
TZOFFSETTO:+0100
TZNAME:Europe/Paris CET
END:STANDARD
BEGIN:STANDARD
DTSTART:20231029T020000
RDATE:20240331T030000
TZOFFSETFROM:+0200
TZOFFSETTO:+0100
TZNAME:Europe/Paris CET
END:STANDARD
BEGIN:STANDARD
DTSTART:20241027T020000
RDATE:20250330T030000
TZOFFSETFROM:+0200
TZOFFSETTO:+0100
TZNAME:Europe/Paris CET
END:STANDARD
BEGIN:STANDARD
DTSTART:20251026T020000
RDATE:20260329T030000
TZOFFSETFROM:+0200
TZOFFSETTO:+0100
TZNAME:Europe/Paris CET
END:STANDARD
BEGIN:STANDARD
DTSTART:20261025T020000
RDATE:20270328T030000
TZOFFSETFROM:+0200
TZOFFSETTO:+0100
TZNAME:Europe/Paris CET
END:STANDARD
BEGIN:DAYLIGHT
DTSTART:20140330T030000
RDATE:20141026T020000
TZOFFSETFROM:+0100
TZOFFSETTO:+0200
TZNAME:Europe/Paris CEST
END:DAYLIGHT
BEGIN:DAYLIGHT
DTSTART:20150329T030000
RDATE:20151025T020000
TZOFFSETFROM:+0100
TZOFFSETTO:+0200
TZNAME:Europe/Paris CEST
END:DAYLIGHT
BEGIN:DAYLIGHT
DTSTART:20160327T030000
RDATE:20161030T020000
TZOFFSETFROM:+0100
TZOFFSETTO:+0200
TZNAME:Europe/Paris CEST
END:DAYLIGHT
BEGIN:DAYLIGHT
DTSTART:20170326T030000
RDATE:20171029T020000
TZOFFSETFROM:+0100
TZOFFSETTO:+0200
TZNAME:Europe/Paris CEST
END:DAYLIGHT
BEGIN:DAYLIGHT
DTSTART:20180325T030000
RDATE:20181028T020000
TZOFFSETFROM:+0100
TZOFFSETTO:+0200
TZNAME:Europe/Paris CEST
END:DAYLIGHT
BEGIN:DAYLIGHT
DTSTART:20190331T030000
RDATE:20191027T020000
TZOFFSETFROM:+0100
TZOFFSETTO:+0200
TZNAME:Europe/Paris CEST
END:DAYLIGHT
BEGIN:DAYLIGHT
DTSTART:20200329T030000
RDATE:20201025T020000
TZOFFSETFROM:+0100
TZOFFSETTO:+0200
TZNAME:Europe/Paris CEST
END:DAYLIGHT
BEGIN:DAYLIGHT
DTSTART:20210328T030000
RDATE:20211031T020000
TZOFFSETFROM:+0100
TZOFFSETTO:+0200
TZNAME:Europe/Paris CEST
END:DAYLIGHT
BEGIN:DAYLIGHT
DTSTART:20220327T030000
RDATE:20221030T020000
TZOFFSETFROM:+0100
TZOFFSETTO:+0200
TZNAME:Europe/Paris CEST
END:DAYLIGHT
BEGIN:DAYLIGHT
DTSTART:20230326T030000
RDATE:20231029T020000
TZOFFSETFROM:+0100
TZOFFSETTO:+0200
TZNAME:Europe/Paris CEST
END:DAYLIGHT
BEGIN:DAYLIGHT
DTSTART:20240331T030000
RDATE:20241027T020000
TZOFFSETFROM:+0100
TZOFFSETTO:+0200
TZNAME:Europe/Paris CEST
END:DAYLIGHT
BEGIN:DAYLIGHT
DTSTART:20250330T030000
RDATE:20251026T020000
TZOFFSETFROM:+0100
TZOFFSETTO:+0200
TZNAME:Europe/Paris CEST
END:DAYLIGHT
BEGIN:DAYLIGHT
DTSTART:20260329T030000
RDATE:20261025T020000
TZOFFSETFROM:+0100
TZOFFSETTO:+0200
TZNAME:Europe/Paris CEST
END:DAYLIGHT
END:VTIMEZONE
BEGIN:VEVENT
UID:cf0b8579a2ea9bac8fe825a8d238ca6a
CATEGORIES:Circuit Lorraine Adultes (alpin)
CREATED:20150121T185023
SUMMARY:CLA  U16 à Masters      Prix du Valtin
URL;VALUE=URI:https://skivosges.net/agenda/export-synchronisation/detailevenement/417/-/c
 la-u16-a-masters-prix-du-valtin?tmpl=component
DESCRIPTION:CLA  U16 à Masters      Prix du Valtin \n(Coupe de Lorraine Adultes)\n\nLie
 u : GERARDMER\nOrganisateur : A.S DU VALTIN (14409 A.S DU VALTIN)\nTelecopi
 e : 03829609404\n\n \n\nInscriptions closes, les listes de départ sont visu
 alisables sur ce site\n  Lieu:LE VALTIN\n - AMVF0921  Slalom (Courses FFS) 
 U16 a Masters Dames\n  CLA  U16 à Masters      Prix du Valtin\n  Lieu:LE VA
 LTIN\n - AMVM0921  Slalom (Courses FFS) U16 a Masters Hommes\n  CLA  U16 à 
 Masters      Prix du Valtin Cet évènement a été importé depuis :https://ski
 vosges.net/agenda/export-synchronisation/detailevenement/417/-/cla-u16-a-ma
 sters-prix-du-valtin?tmpl=component
X-ALT-DESC;FMTTYPE=text/html:<strong>CLA  U16 à Masters      Prix du Valtin</strong> <br /><i>(Coupe de 
 Lorraine Adultes)</i><br /><br />Lieu : GERARDMER<br />Organisateur : A.S D
 U VALTIN <small>(14409 A.S DU VALTIN)</small><br />Telecopie : 03829609404<
 br /><br /> <br /><br />Inscriptions closes, les listes de départ sont visu
 alisables sur ce site<ul type="disc"><br />&nbsp;&nbsp;Lieu:LE VALTIN<li>AM
 VF0921  Slalom <nobr><i>(Courses FFS)</i></nobr> <nobr>U16 a Masters</nobr>
  Dames<br />&nbsp;&nbsp;CLA  U16 à Masters      Prix du Valtin</li><br />&n
 bsp;&nbsp;Lieu:LE VALTIN<li>AMVM0921  Slalom <nobr><i>(Courses FFS)</i></no
 br> <nobr>U16 a Masters</nobr> Hommes<br />&nbsp;&nbsp;CLA  U16 à Masters  
     Prix du Valtin</li></ul> <a href="https://skivosges.net/agenda/export-s
 ynchronisation/detailevenement/417/-/cla-u16-a-masters-prix-du-valtin?tmpl=
 component">Cet évènement a été importé depuis :https://skivosges.net/agenda
 /export-synchronisation/detailevenement/417/-/cla-u16-a-masters-prix-du-val
 tin?tmpl=component</a>DTSTAMP:20260421T050011
DTSTART;TZID=Europe/Paris:20150125T080000
DTEND;TZID=Europe/Paris:20150125T170000
SEQUENCE:0
TRANSP:OPAQUE
END:VEVENT
END:VCALENDAR