BEGIN:VCALENDAR
VERSION:2.0
PRODID:-//jEvents 2.0 for Joomla//EN
CALSCALE:GREGORIAN
METHOD:PUBLISH
BEGIN:VTIMEZONE
TZID:Europe/Paris
BEGIN:STANDARD
DTSTART:20140120T080000
RDATE:20140330T030000
TZOFFSETFROM:+0200
TZOFFSETTO:+0100
TZNAME:Europe/Paris CET
END:STANDARD
BEGIN:STANDARD
DTSTART:20141026T020000
RDATE:20150329T030000
TZOFFSETFROM:+0200
TZOFFSETTO:+0100
TZNAME:Europe/Paris CET
END:STANDARD
BEGIN:STANDARD
DTSTART:20151025T020000
RDATE:20160327T030000
TZOFFSETFROM:+0200
TZOFFSETTO:+0100
TZNAME:Europe/Paris CET
END:STANDARD
BEGIN:STANDARD
DTSTART:20161030T020000
RDATE:20170326T030000
TZOFFSETFROM:+0200
TZOFFSETTO:+0100
TZNAME:Europe/Paris CET
END:STANDARD
BEGIN:STANDARD
DTSTART:20171029T020000
RDATE:20180325T030000
TZOFFSETFROM:+0200
TZOFFSETTO:+0100
TZNAME:Europe/Paris CET
END:STANDARD
BEGIN:STANDARD
DTSTART:20181028T020000
RDATE:20190331T030000
TZOFFSETFROM:+0200
TZOFFSETTO:+0100
TZNAME:Europe/Paris CET
END:STANDARD
BEGIN:STANDARD
DTSTART:20191027T020000
RDATE:20200329T030000
TZOFFSETFROM:+0200
TZOFFSETTO:+0100
TZNAME:Europe/Paris CET
END:STANDARD
BEGIN:STANDARD
DTSTART:20201025T020000
RDATE:20210328T030000
TZOFFSETFROM:+0200
TZOFFSETTO:+0100
TZNAME:Europe/Paris CET
END:STANDARD
BEGIN:STANDARD
DTSTART:20211031T020000
RDATE:20220327T030000
TZOFFSETFROM:+0200
TZOFFSETTO:+0100
TZNAME:Europe/Paris CET
END:STANDARD
BEGIN:STANDARD
DTSTART:20221030T020000
RDATE:20230326T030000
TZOFFSETFROM:+0200
TZOFFSETTO:+0100
TZNAME:Europe/Paris CET
END:STANDARD
BEGIN:STANDARD
DTSTART:20231029T020000
RDATE:20240331T030000
TZOFFSETFROM:+0200
TZOFFSETTO:+0100
TZNAME:Europe/Paris CET
END:STANDARD
BEGIN:STANDARD
DTSTART:20241027T020000
RDATE:20250330T030000
TZOFFSETFROM:+0200
TZOFFSETTO:+0100
TZNAME:Europe/Paris CET
END:STANDARD
BEGIN:STANDARD
DTSTART:20251026T020000
RDATE:20260329T030000
TZOFFSETFROM:+0200
TZOFFSETTO:+0100
TZNAME:Europe/Paris CET
END:STANDARD
BEGIN:STANDARD
DTSTART:20261025T020000
RDATE:20270328T030000
TZOFFSETFROM:+0200
TZOFFSETTO:+0100
TZNAME:Europe/Paris CET
END:STANDARD
BEGIN:DAYLIGHT
DTSTART:20140330T030000
RDATE:20141026T020000
TZOFFSETFROM:+0100
TZOFFSETTO:+0200
TZNAME:Europe/Paris CEST
END:DAYLIGHT
BEGIN:DAYLIGHT
DTSTART:20150329T030000
RDATE:20151025T020000
TZOFFSETFROM:+0100
TZOFFSETTO:+0200
TZNAME:Europe/Paris CEST
END:DAYLIGHT
BEGIN:DAYLIGHT
DTSTART:20160327T030000
RDATE:20161030T020000
TZOFFSETFROM:+0100
TZOFFSETTO:+0200
TZNAME:Europe/Paris CEST
END:DAYLIGHT
BEGIN:DAYLIGHT
DTSTART:20170326T030000
RDATE:20171029T020000
TZOFFSETFROM:+0100
TZOFFSETTO:+0200
TZNAME:Europe/Paris CEST
END:DAYLIGHT
BEGIN:DAYLIGHT
DTSTART:20180325T030000
RDATE:20181028T020000
TZOFFSETFROM:+0100
TZOFFSETTO:+0200
TZNAME:Europe/Paris CEST
END:DAYLIGHT
BEGIN:DAYLIGHT
DTSTART:20190331T030000
RDATE:20191027T020000
TZOFFSETFROM:+0100
TZOFFSETTO:+0200
TZNAME:Europe/Paris CEST
END:DAYLIGHT
BEGIN:DAYLIGHT
DTSTART:20200329T030000
RDATE:20201025T020000
TZOFFSETFROM:+0100
TZOFFSETTO:+0200
TZNAME:Europe/Paris CEST
END:DAYLIGHT
BEGIN:DAYLIGHT
DTSTART:20210328T030000
RDATE:20211031T020000
TZOFFSETFROM:+0100
TZOFFSETTO:+0200
TZNAME:Europe/Paris CEST
END:DAYLIGHT
BEGIN:DAYLIGHT
DTSTART:20220327T030000
RDATE:20221030T020000
TZOFFSETFROM:+0100
TZOFFSETTO:+0200
TZNAME:Europe/Paris CEST
END:DAYLIGHT
BEGIN:DAYLIGHT
DTSTART:20230326T030000
RDATE:20231029T020000
TZOFFSETFROM:+0100
TZOFFSETTO:+0200
TZNAME:Europe/Paris CEST
END:DAYLIGHT
BEGIN:DAYLIGHT
DTSTART:20240331T030000
RDATE:20241027T020000
TZOFFSETFROM:+0100
TZOFFSETTO:+0200
TZNAME:Europe/Paris CEST
END:DAYLIGHT
BEGIN:DAYLIGHT
DTSTART:20250330T030000
RDATE:20251026T020000
TZOFFSETFROM:+0100
TZOFFSETTO:+0200
TZNAME:Europe/Paris CEST
END:DAYLIGHT
BEGIN:DAYLIGHT
DTSTART:20260329T030000
RDATE:20261025T020000
TZOFFSETFROM:+0100
TZOFFSETTO:+0200
TZNAME:Europe/Paris CEST
END:DAYLIGHT
END:VTIMEZONE
BEGIN:VEVENT
UID:401d2883c00c51c45ef965b698329213
CATEGORIES:Circuit Massif Adultes (alpin)
CREATED:20150303T120215
SUMMARY:GPA     GP Challenge Gaby Curien / Qualif CFFS **REPORTE**
URL;VALUE=URI:https://skivosges.net/agenda/export-synchronisation/detailevenement/422/-/g
 pa-gp-challenge-gaby-curien-qualif-cffs-reporte?tmpl=component
DESCRIPTION:GPA     GP Challenge Gaby Curien / Qualif CFFS (Epreuve reportée) \n(Grand 
 Prix Adultes)\n\nLieu : LA BRESSE\nPiste : Gaby CURIEN\nOrganisateur : LA B
 RESSAUDE SECTION SKI (14024 LA BRESSAUDE SECTION SKI)\nTelecopie : 06088552
 52\n\nLe GP Challenge Gaby Curien est reportée au 21/03/2015\n\nInscription
 s prévues sur le site (dès début de période d´inscription)\n - AMVF0311  Sl
 alom Geant (Coupe de la Federation) U16 a Masters Dames\n  GPA     GP Chall
 enge Gaby Curien / Qualif CFFS\n - AMVM0311  Slalom Geant (Coupe de la Fede
 ration) U16 a Masters Hommes\n  GPA     GP Challenge Gaby Curien / Qualif C
 FFS Cet évènement a été importé depuis :https://skivosges.net/agenda/export
 -synchronisation/detailevenement/422/-/gpa-gp-challenge-gaby-curien-qualif-
 cffs-reporte?tmpl=component (https://skivosges.net/agenda/export-synchronis
 ation/detailevenement/422/-/gpa-gp-challenge-gaby-curien-qualif-cffs-report
 e?tmpl=component)
X-ALT-DESC;FMTTYPE=text/html:<strong>GPA     GP Challenge Gaby Curien / Qualif CFFS</strong> <font class
 ="attention4">(Epreuve reportée)</font> <br /><i>(Grand Prix Adultes)</i><b
 r /><br />Lieu : LA BRESSE<br />Piste : Gaby CURIEN<br />Organisateur : LA 
 BRESSAUDE SECTION SKI <small>(14024 LA BRESSAUDE SECTION SKI)</small><br />
 Telecopie : 0608855252<br /><br />Le GP Challenge Gaby Curien est reportée 
 au 21/03/2015<br /><br />Inscriptions prévues sur le site <small>(dès début
  de période d´inscription)</small><ul type="disc"><li>AMVF0311  Slalom Gean
 t <nobr><i>(Coupe de la Federation)</i></nobr> <nobr>U16 a Masters</nobr> D
 ames<br />&nbsp;&nbsp;GPA     GP Challenge Gaby Curien / Qualif CFFS</li><l
 i>AMVM0311  Slalom Geant <nobr><i>(Coupe de la Federation)</i></nobr> <nobr
 >U16 a Masters</nobr> Hommes<br />&nbsp;&nbsp;GPA     GP Challenge Gaby Cur
 ien / Qualif CFFS</li></ul> <a href="https://skivosges.net/agenda/export-sy
 nchronisation/detailevenement/422/-/gpa-gp-challenge-gaby-curien-qualif-cff
 s-reporte?tmpl=component">Cet évènement a été importé depuis :https://skivo
 sges.net/agenda/export-synchronisation/detailevenement/422/-/gpa-gp-challen
 ge-gaby-curien-qualif-cffs-reporte?tmpl=component</a>DTSTAMP:20260420T220750
DTSTART;TZID=Europe/Paris:20150121T080000
DTEND;TZID=Europe/Paris:20150121T170000
SEQUENCE:0
TRANSP:OPAQUE
END:VEVENT
END:VCALENDAR