BEGIN:VCALENDAR
VERSION:2.0
PRODID:-//jEvents 2.0 for Joomla//EN
CALSCALE:GREGORIAN
METHOD:PUBLISH
BEGIN:VTIMEZONE
TZID:Europe/Paris
BEGIN:STANDARD
DTSTART:20140310T080000
RDATE:20140330T030000
TZOFFSETFROM:+0200
TZOFFSETTO:+0100
TZNAME:Europe/Paris CET
END:STANDARD
BEGIN:STANDARD
DTSTART:20141026T020000
RDATE:20150329T030000
TZOFFSETFROM:+0200
TZOFFSETTO:+0100
TZNAME:Europe/Paris CET
END:STANDARD
BEGIN:STANDARD
DTSTART:20151025T020000
RDATE:20160327T030000
TZOFFSETFROM:+0200
TZOFFSETTO:+0100
TZNAME:Europe/Paris CET
END:STANDARD
BEGIN:STANDARD
DTSTART:20161030T020000
RDATE:20170326T030000
TZOFFSETFROM:+0200
TZOFFSETTO:+0100
TZNAME:Europe/Paris CET
END:STANDARD
BEGIN:STANDARD
DTSTART:20171029T020000
RDATE:20180325T030000
TZOFFSETFROM:+0200
TZOFFSETTO:+0100
TZNAME:Europe/Paris CET
END:STANDARD
BEGIN:STANDARD
DTSTART:20181028T020000
RDATE:20190331T030000
TZOFFSETFROM:+0200
TZOFFSETTO:+0100
TZNAME:Europe/Paris CET
END:STANDARD
BEGIN:STANDARD
DTSTART:20191027T020000
RDATE:20200329T030000
TZOFFSETFROM:+0200
TZOFFSETTO:+0100
TZNAME:Europe/Paris CET
END:STANDARD
BEGIN:STANDARD
DTSTART:20201025T020000
RDATE:20210328T030000
TZOFFSETFROM:+0200
TZOFFSETTO:+0100
TZNAME:Europe/Paris CET
END:STANDARD
BEGIN:STANDARD
DTSTART:20211031T020000
RDATE:20220327T030000
TZOFFSETFROM:+0200
TZOFFSETTO:+0100
TZNAME:Europe/Paris CET
END:STANDARD
BEGIN:STANDARD
DTSTART:20221030T020000
RDATE:20230326T030000
TZOFFSETFROM:+0200
TZOFFSETTO:+0100
TZNAME:Europe/Paris CET
END:STANDARD
BEGIN:STANDARD
DTSTART:20231029T020000
RDATE:20240331T030000
TZOFFSETFROM:+0200
TZOFFSETTO:+0100
TZNAME:Europe/Paris CET
END:STANDARD
BEGIN:STANDARD
DTSTART:20241027T020000
RDATE:20250330T030000
TZOFFSETFROM:+0200
TZOFFSETTO:+0100
TZNAME:Europe/Paris CET
END:STANDARD
BEGIN:STANDARD
DTSTART:20251026T020000
RDATE:20260329T030000
TZOFFSETFROM:+0200
TZOFFSETTO:+0100
TZNAME:Europe/Paris CET
END:STANDARD
BEGIN:STANDARD
DTSTART:20261025T020000
RDATE:20270328T030000
TZOFFSETFROM:+0200
TZOFFSETTO:+0100
TZNAME:Europe/Paris CET
END:STANDARD
BEGIN:DAYLIGHT
DTSTART:20140330T030000
RDATE:20141026T020000
TZOFFSETFROM:+0100
TZOFFSETTO:+0200
TZNAME:Europe/Paris CEST
END:DAYLIGHT
BEGIN:DAYLIGHT
DTSTART:20150329T030000
RDATE:20151025T020000
TZOFFSETFROM:+0100
TZOFFSETTO:+0200
TZNAME:Europe/Paris CEST
END:DAYLIGHT
BEGIN:DAYLIGHT
DTSTART:20160327T030000
RDATE:20161030T020000
TZOFFSETFROM:+0100
TZOFFSETTO:+0200
TZNAME:Europe/Paris CEST
END:DAYLIGHT
BEGIN:DAYLIGHT
DTSTART:20170326T030000
RDATE:20171029T020000
TZOFFSETFROM:+0100
TZOFFSETTO:+0200
TZNAME:Europe/Paris CEST
END:DAYLIGHT
BEGIN:DAYLIGHT
DTSTART:20180325T030000
RDATE:20181028T020000
TZOFFSETFROM:+0100
TZOFFSETTO:+0200
TZNAME:Europe/Paris CEST
END:DAYLIGHT
BEGIN:DAYLIGHT
DTSTART:20190331T030000
RDATE:20191027T020000
TZOFFSETFROM:+0100
TZOFFSETTO:+0200
TZNAME:Europe/Paris CEST
END:DAYLIGHT
BEGIN:DAYLIGHT
DTSTART:20200329T030000
RDATE:20201025T020000
TZOFFSETFROM:+0100
TZOFFSETTO:+0200
TZNAME:Europe/Paris CEST
END:DAYLIGHT
BEGIN:DAYLIGHT
DTSTART:20210328T030000
RDATE:20211031T020000
TZOFFSETFROM:+0100
TZOFFSETTO:+0200
TZNAME:Europe/Paris CEST
END:DAYLIGHT
BEGIN:DAYLIGHT
DTSTART:20220327T030000
RDATE:20221030T020000
TZOFFSETFROM:+0100
TZOFFSETTO:+0200
TZNAME:Europe/Paris CEST
END:DAYLIGHT
BEGIN:DAYLIGHT
DTSTART:20230326T030000
RDATE:20231029T020000
TZOFFSETFROM:+0100
TZOFFSETTO:+0200
TZNAME:Europe/Paris CEST
END:DAYLIGHT
BEGIN:DAYLIGHT
DTSTART:20240331T030000
RDATE:20241027T020000
TZOFFSETFROM:+0100
TZOFFSETTO:+0200
TZNAME:Europe/Paris CEST
END:DAYLIGHT
BEGIN:DAYLIGHT
DTSTART:20250330T030000
RDATE:20251026T020000
TZOFFSETFROM:+0100
TZOFFSETTO:+0200
TZNAME:Europe/Paris CEST
END:DAYLIGHT
BEGIN:DAYLIGHT
DTSTART:20260329T030000
RDATE:20261025T020000
TZOFFSETFROM:+0100
TZOFFSETTO:+0200
TZNAME:Europe/Paris CEST
END:DAYLIGHT
END:VTIMEZONE
BEGIN:VEVENT
UID:dbbdb0457a560a125c91cdbf0dd30d66
CATEGORIES:Autres Épreuves (alpin)
CREATED:20150307T102304
SUMMARY:Promo  U8 à U14     Finale des Clubs de Lorraine
URL;VALUE=URI:https://skivosges.net/agenda/export-synchronisation/detailevenement/435/-/p
 romo-u8-a-u14-finale-des-clubs-de-lorraine?tmpl=component
DESCRIPTION:Promo  U8 à U14     Finale des Clubs de Lorraine\n\nLieu : ROUGE GAZON\nOrg
 anisateur : Skieurs St Maurice / Moselle (14063 SKIEURS DE ST MAURICE/MOSEL
 LE)\nTelecopie : 0780028040\n\nRegularLabs.EmailProtector.unCloak("ep_feb78
 320");\n\nInscriptions en cours sur ce site\n - AMVF0671  Slalom Geant U12/
 U14 Filles\n  Finale  U8 à U16     Finale des Clubs de Lorraine\n - AMVM067
 1  Slalom Geant U12/U14 Garçons\n  Finale  U8 à U16     Finale des Clubs de
  Lorraine\n - AMVF0672  Slalom Geant U8/U10 Filles\n  Finale  U8 à U16     
 Finale des Clubs de Lorraine\n - AMVM0672  Slalom Geant U8/U10 Garçons\n  F
 inale  U8 à U16     Finale des Clubs de Lorraine Cet évènement a été import
 é depuis :https://skivosges.net/agenda/export-synchronisation/detaileveneme
 nt/435/-/promo-u8-a-u14-finale-des-clubs-de-lorraine?tmpl=component
X-ALT-DESC;FMTTYPE=text/html:<strong>Promo  U8 à U14     Finale des Clubs de Lorraine</strong><br /><br 
 />Lieu : ROUGE GAZON<br />Organisateur : Skieurs St Maurice / Moselle <smal
 l>(14063 SKIEURS DE ST MAURICE/MOSELLE)</small><br />Telecopie : 0780028040
 <br /><br /><!-- Cette adresse électronique est protégée contre les robots 
 spammeurs. --><span class="cloaked_email ep_feb78320"><span data-ep-b="" da
 ta-ep-a="da&#110;i"><span data-ep-b="r.&#102;r" data-ep-a="e&#108;.m"><span
  data-ep-a="&#111;&#114;&#101;l" data-ep-b="&#53;&#64;&#115;&#102;"></span>
 </span></span></span><script>RegularLabs.EmailProtector.unCloak("ep_feb7832
 0");</script><br /><br />Inscriptions en cours sur ce site<ul type="disc"><
 li>AMVF0671  Slalom Geant <nobr>U12/U14</nobr> Filles<br />&nbsp;&nbsp;Fina
 le  U8 à U16     Finale des Clubs de Lorraine</li><li>AMVM0671  Slalom Gean
 t <nobr>U12/U14</nobr> Garçons<br />&nbsp;&nbsp;Finale  U8 à U16     Finale
  des Clubs de Lorraine</li><li>AMVF0672  Slalom Geant <nobr>U8/U10</nobr> F
 illes<br />&nbsp;&nbsp;Finale  U8 à U16     Finale des Clubs de Lorraine</l
 i><li>AMVM0672  Slalom Geant <nobr>U8/U10</nobr> Garçons<br />&nbsp;&nbsp;F
 inale  U8 à U16     Finale des Clubs de Lorraine</li></ul> <a href="https:/
 /skivosges.net/agenda/export-synchronisation/detailevenement/435/-/promo-u8
 -a-u14-finale-des-clubs-de-lorraine?tmpl=component">Cet évènement a été imp
 orté depuis :https://skivosges.net/agenda/export-synchronisation/detaileven
 ement/435/-/promo-u8-a-u14-finale-des-clubs-de-lorraine?tmpl=component</a>DTSTAMP:20260420T220502
DTSTART;TZID=Europe/Paris:20150311T080000
DTEND;TZID=Europe/Paris:20150311T170000
SEQUENCE:0
TRANSP:OPAQUE
END:VEVENT
END:VCALENDAR