BEGIN:VCALENDAR
VERSION:2.0
PRODID:-//jEvents 2.0 for Joomla//EN
CALSCALE:GREGORIAN
METHOD:PUBLISH
BEGIN:VTIMEZONE
TZID:Europe/Paris
BEGIN:STANDARD
DTSTART:20141120T100000
RDATE:20150329T030000
TZOFFSETFROM:+0200
TZOFFSETTO:+0100
TZNAME:Europe/Paris CET
END:STANDARD
BEGIN:STANDARD
DTSTART:20151025T020000
RDATE:20160327T030000
TZOFFSETFROM:+0200
TZOFFSETTO:+0100
TZNAME:Europe/Paris CET
END:STANDARD
BEGIN:STANDARD
DTSTART:20161030T020000
RDATE:20170326T030000
TZOFFSETFROM:+0200
TZOFFSETTO:+0100
TZNAME:Europe/Paris CET
END:STANDARD
BEGIN:STANDARD
DTSTART:20171029T020000
RDATE:20180325T030000
TZOFFSETFROM:+0200
TZOFFSETTO:+0100
TZNAME:Europe/Paris CET
END:STANDARD
BEGIN:STANDARD
DTSTART:20181028T020000
RDATE:20190331T030000
TZOFFSETFROM:+0200
TZOFFSETTO:+0100
TZNAME:Europe/Paris CET
END:STANDARD
BEGIN:STANDARD
DTSTART:20191027T020000
RDATE:20200329T030000
TZOFFSETFROM:+0200
TZOFFSETTO:+0100
TZNAME:Europe/Paris CET
END:STANDARD
BEGIN:STANDARD
DTSTART:20201025T020000
RDATE:20210328T030000
TZOFFSETFROM:+0200
TZOFFSETTO:+0100
TZNAME:Europe/Paris CET
END:STANDARD
BEGIN:STANDARD
DTSTART:20211031T020000
RDATE:20220327T030000
TZOFFSETFROM:+0200
TZOFFSETTO:+0100
TZNAME:Europe/Paris CET
END:STANDARD
BEGIN:STANDARD
DTSTART:20221030T020000
RDATE:20230326T030000
TZOFFSETFROM:+0200
TZOFFSETTO:+0100
TZNAME:Europe/Paris CET
END:STANDARD
BEGIN:STANDARD
DTSTART:20231029T020000
RDATE:20240331T030000
TZOFFSETFROM:+0200
TZOFFSETTO:+0100
TZNAME:Europe/Paris CET
END:STANDARD
BEGIN:STANDARD
DTSTART:20241027T020000
RDATE:20250330T030000
TZOFFSETFROM:+0200
TZOFFSETTO:+0100
TZNAME:Europe/Paris CET
END:STANDARD
BEGIN:STANDARD
DTSTART:20251026T020000
RDATE:20260329T030000
TZOFFSETFROM:+0200
TZOFFSETTO:+0100
TZNAME:Europe/Paris CET
END:STANDARD
BEGIN:STANDARD
DTSTART:20261025T020000
RDATE:20270328T030000
TZOFFSETFROM:+0200
TZOFFSETTO:+0100
TZNAME:Europe/Paris CET
END:STANDARD
BEGIN:DAYLIGHT
DTSTART:20150329T030000
RDATE:20151025T020000
TZOFFSETFROM:+0100
TZOFFSETTO:+0200
TZNAME:Europe/Paris CEST
END:DAYLIGHT
BEGIN:DAYLIGHT
DTSTART:20160327T030000
RDATE:20161030T020000
TZOFFSETFROM:+0100
TZOFFSETTO:+0200
TZNAME:Europe/Paris CEST
END:DAYLIGHT
BEGIN:DAYLIGHT
DTSTART:20170326T030000
RDATE:20171029T020000
TZOFFSETFROM:+0100
TZOFFSETTO:+0200
TZNAME:Europe/Paris CEST
END:DAYLIGHT
BEGIN:DAYLIGHT
DTSTART:20180325T030000
RDATE:20181028T020000
TZOFFSETFROM:+0100
TZOFFSETTO:+0200
TZNAME:Europe/Paris CEST
END:DAYLIGHT
BEGIN:DAYLIGHT
DTSTART:20190331T030000
RDATE:20191027T020000
TZOFFSETFROM:+0100
TZOFFSETTO:+0200
TZNAME:Europe/Paris CEST
END:DAYLIGHT
BEGIN:DAYLIGHT
DTSTART:20200329T030000
RDATE:20201025T020000
TZOFFSETFROM:+0100
TZOFFSETTO:+0200
TZNAME:Europe/Paris CEST
END:DAYLIGHT
BEGIN:DAYLIGHT
DTSTART:20210328T030000
RDATE:20211031T020000
TZOFFSETFROM:+0100
TZOFFSETTO:+0200
TZNAME:Europe/Paris CEST
END:DAYLIGHT
BEGIN:DAYLIGHT
DTSTART:20220327T030000
RDATE:20221030T020000
TZOFFSETFROM:+0100
TZOFFSETTO:+0200
TZNAME:Europe/Paris CEST
END:DAYLIGHT
BEGIN:DAYLIGHT
DTSTART:20230326T030000
RDATE:20231029T020000
TZOFFSETFROM:+0100
TZOFFSETTO:+0200
TZNAME:Europe/Paris CEST
END:DAYLIGHT
BEGIN:DAYLIGHT
DTSTART:20240331T030000
RDATE:20241027T020000
TZOFFSETFROM:+0100
TZOFFSETTO:+0200
TZNAME:Europe/Paris CEST
END:DAYLIGHT
BEGIN:DAYLIGHT
DTSTART:20250330T030000
RDATE:20251026T020000
TZOFFSETFROM:+0100
TZOFFSETTO:+0200
TZNAME:Europe/Paris CEST
END:DAYLIGHT
BEGIN:DAYLIGHT
DTSTART:20260329T030000
RDATE:20261025T020000
TZOFFSETFROM:+0100
TZOFFSETTO:+0200
TZNAME:Europe/Paris CEST
END:DAYLIGHT
END:VTIMEZONE
BEGIN:VEVENT
UID:216da07717ff1b37d419da524a8a69f9
CATEGORIES:Formation Officiels - Chronos - Gestionnaires
CREATED:20151109T095204
SUMMARY:Journée Technique Régionale (Sessions de Formation Initiales Juges)
LOCATION:La Bresse / Hotel des Valées 
URL;VALUE=URI:https://skivosges.net/agenda/export-synchronisation/detailevenement/439/-/j
 ournee-technique-regionale-sessions-de-formation-initiales-juges?tmpl=compo
 nent
DESCRIPTION:Sessions de formations initiales Juges de Compétition (Alpin et Nordique) o
 rganisées dans le cadre de la Journée Technique Régionale.\n(Mais independa
 ntes des session de l'après-midi, dont la participation est facultative).\n
 Horaires de formation : 10H00 à 12H\n\n \nRemarque :\nIl est fortement reco
 mmandé de vous identifier sur le site (index.php?option=com_users&amp;view=
 login&amp;Itemid=204) avant de vous inscrire à un evenement.\nLe fait d'êtr
 e inscrit et identifié sur skivosges permet d'avoir accès à vos inscription
 s, de les modifier, voire les supprimer selon l'evenement.\n \n Cet évèneme
 nt a été importé depuis :https://skivosges.net/agenda/export-synchronisatio
 n/detailevenement/439/-/journee-technique-regionale-sessions-de-formation-i
 nitiales-juges?tmpl=component (https://skivosges.net/agenda/export-synchron
 isation/detailevenement/439/-/journee-technique-regionale-sessions-de-forma
 tion-initiales-juges?tmpl=component)
X-ALT-DESC;FMTTYPE=text/html:<p>Sessions de formations initiales Juges de Compétition (Alpin et Nordique
 ) organisées dans le cadre de la Journée Technique Régionale.<br />(Mais in
 dependantes des session de l'après-midi, dont la participation est facultat
 ive).</p><p>Horaires de formation : 10H00 à 12H</p><p><br /> </p><p><em><sp
 an class="attention">Remarque :<br />Il est fortement recommandé de <a href
 ="https://skivosges.net/index.php?option=com_users&view=login&Itemid=204" t
 arget="_parent">vous identifier sur le site</a> avant de vous inscrire à un
  evenement.<br />Le fait d'être inscrit et identifié sur skivosges permet d
 'avoir accès à vos inscriptions, de les modifier, voire les supprimer selon
  l'evenement.</span></em></p><p> </p> <a href="https://skivosges.net/agenda
 /export-synchronisation/detailevenement/439/-/journee-technique-regionale-s
 essions-de-formation-initiales-juges?tmpl=component">Cet évènement a été im
 porté depuis :https://skivosges.net/agenda/export-synchronisation/detaileve
 nement/439/-/journee-technique-regionale-sessions-de-formation-initiales-ju
 ges?tmpl=component</a>CONTACT:RegularLabs.EmailProtector.unCloak("ep_9f9cf6b3");
DTSTAMP:20260420T220504
DTSTART;TZID=Europe/Paris:20151121T100000
DTEND;TZID=Europe/Paris:20151121T120000
SEQUENCE:0
TRANSP:OPAQUE
END:VEVENT
END:VCALENDAR