BEGIN:VCALENDAR
VERSION:2.0
PRODID:-//jEvents 2.0 for Joomla//EN
CALSCALE:GREGORIAN
METHOD:PUBLISH
BEGIN:VTIMEZONE
TZID:Europe/Paris
BEGIN:STANDARD
DTSTART:20141219T080000
RDATE:20150329T030000
TZOFFSETFROM:+0200
TZOFFSETTO:+0100
TZNAME:Europe/Paris CET
END:STANDARD
BEGIN:STANDARD
DTSTART:20151025T020000
RDATE:20160327T030000
TZOFFSETFROM:+0200
TZOFFSETTO:+0100
TZNAME:Europe/Paris CET
END:STANDARD
BEGIN:STANDARD
DTSTART:20161030T020000
RDATE:20170326T030000
TZOFFSETFROM:+0200
TZOFFSETTO:+0100
TZNAME:Europe/Paris CET
END:STANDARD
BEGIN:STANDARD
DTSTART:20171029T020000
RDATE:20180325T030000
TZOFFSETFROM:+0200
TZOFFSETTO:+0100
TZNAME:Europe/Paris CET
END:STANDARD
BEGIN:STANDARD
DTSTART:20181028T020000
RDATE:20190331T030000
TZOFFSETFROM:+0200
TZOFFSETTO:+0100
TZNAME:Europe/Paris CET
END:STANDARD
BEGIN:STANDARD
DTSTART:20191027T020000
RDATE:20200329T030000
TZOFFSETFROM:+0200
TZOFFSETTO:+0100
TZNAME:Europe/Paris CET
END:STANDARD
BEGIN:STANDARD
DTSTART:20201025T020000
RDATE:20210328T030000
TZOFFSETFROM:+0200
TZOFFSETTO:+0100
TZNAME:Europe/Paris CET
END:STANDARD
BEGIN:STANDARD
DTSTART:20211031T020000
RDATE:20220327T030000
TZOFFSETFROM:+0200
TZOFFSETTO:+0100
TZNAME:Europe/Paris CET
END:STANDARD
BEGIN:STANDARD
DTSTART:20221030T020000
RDATE:20230326T030000
TZOFFSETFROM:+0200
TZOFFSETTO:+0100
TZNAME:Europe/Paris CET
END:STANDARD
BEGIN:STANDARD
DTSTART:20231029T020000
RDATE:20240331T030000
TZOFFSETFROM:+0200
TZOFFSETTO:+0100
TZNAME:Europe/Paris CET
END:STANDARD
BEGIN:STANDARD
DTSTART:20241027T020000
RDATE:20250330T030000
TZOFFSETFROM:+0200
TZOFFSETTO:+0100
TZNAME:Europe/Paris CET
END:STANDARD
BEGIN:STANDARD
DTSTART:20251026T020000
RDATE:20260329T030000
TZOFFSETFROM:+0200
TZOFFSETTO:+0100
TZNAME:Europe/Paris CET
END:STANDARD
BEGIN:STANDARD
DTSTART:20261025T020000
RDATE:20270328T030000
TZOFFSETFROM:+0200
TZOFFSETTO:+0100
TZNAME:Europe/Paris CET
END:STANDARD
BEGIN:DAYLIGHT
DTSTART:20150329T030000
RDATE:20151025T020000
TZOFFSETFROM:+0100
TZOFFSETTO:+0200
TZNAME:Europe/Paris CEST
END:DAYLIGHT
BEGIN:DAYLIGHT
DTSTART:20160327T030000
RDATE:20161030T020000
TZOFFSETFROM:+0100
TZOFFSETTO:+0200
TZNAME:Europe/Paris CEST
END:DAYLIGHT
BEGIN:DAYLIGHT
DTSTART:20170326T030000
RDATE:20171029T020000
TZOFFSETFROM:+0100
TZOFFSETTO:+0200
TZNAME:Europe/Paris CEST
END:DAYLIGHT
BEGIN:DAYLIGHT
DTSTART:20180325T030000
RDATE:20181028T020000
TZOFFSETFROM:+0100
TZOFFSETTO:+0200
TZNAME:Europe/Paris CEST
END:DAYLIGHT
BEGIN:DAYLIGHT
DTSTART:20190331T030000
RDATE:20191027T020000
TZOFFSETFROM:+0100
TZOFFSETTO:+0200
TZNAME:Europe/Paris CEST
END:DAYLIGHT
BEGIN:DAYLIGHT
DTSTART:20200329T030000
RDATE:20201025T020000
TZOFFSETFROM:+0100
TZOFFSETTO:+0200
TZNAME:Europe/Paris CEST
END:DAYLIGHT
BEGIN:DAYLIGHT
DTSTART:20210328T030000
RDATE:20211031T020000
TZOFFSETFROM:+0100
TZOFFSETTO:+0200
TZNAME:Europe/Paris CEST
END:DAYLIGHT
BEGIN:DAYLIGHT
DTSTART:20220327T030000
RDATE:20221030T020000
TZOFFSETFROM:+0100
TZOFFSETTO:+0200
TZNAME:Europe/Paris CEST
END:DAYLIGHT
BEGIN:DAYLIGHT
DTSTART:20230326T030000
RDATE:20231029T020000
TZOFFSETFROM:+0100
TZOFFSETTO:+0200
TZNAME:Europe/Paris CEST
END:DAYLIGHT
BEGIN:DAYLIGHT
DTSTART:20240331T030000
RDATE:20241027T020000
TZOFFSETFROM:+0100
TZOFFSETTO:+0200
TZNAME:Europe/Paris CEST
END:DAYLIGHT
BEGIN:DAYLIGHT
DTSTART:20250330T030000
RDATE:20251026T020000
TZOFFSETFROM:+0100
TZOFFSETTO:+0200
TZNAME:Europe/Paris CEST
END:DAYLIGHT
BEGIN:DAYLIGHT
DTSTART:20260329T030000
RDATE:20261025T020000
TZOFFSETFROM:+0100
TZOFFSETTO:+0200
TZNAME:Europe/Paris CEST
END:DAYLIGHT
END:VTIMEZONE
BEGIN:VEVENT
UID:71c89463069c5b722c3ba1de59d370da
CATEGORIES:Circuit Alsace Adultes (alpin)
CREATED:20151110T133951
SUMMARY:CAA  U16 à Masters      Coupe WGS CESA Markstein **REPORTE**
URL;VALUE=URI:https://skivosges.net/agenda/export-synchronisation/detailevenement/447/-/c
 aa-u16-a-masters-coupe-wgs-cesa-markstein-reporte?tmpl=component
DESCRIPTION:CAA  U16 à Masters      Coupe WGS CESA Markstein (Epreuve reportée, date à 
 determiner) \n(Coupe d'Alsace Adultes)\n\nLieu : MARKSTEIN\nOrganisateur : 
 S.C VALLEE DE WESSERLING (14186 S.C VALLEE DE WESSERLING)\nEmail : RegularL
 abs.EmailProtector.unCloak("ep_599ec2a5");\nTelecopie : 03 89 82 78 08\n - 
 AMVM0061  Slalom (Courses FFS) U16 a Masters Hommes\n  CAA  U16 à Masters  
     Coupe WGS CESA Markstein\n - AMVF0061  Slalom (Courses FFS) U16 a Maste
 rs Dames\n  CAA  U16 à Masters      Coupe WGS CESA Markstein Cet évènement 
 a été importé depuis :https://skivosges.net/agenda/export-synchronisation/d
 etailevenement/447/-/caa-u16-a-masters-coupe-wgs-cesa-markstein-reporte?tmp
 l=component
X-ALT-DESC;FMTTYPE=text/html:<strong>CAA  U16 à Masters      Coupe WGS CESA Markstein</strong> <font cla
 ss="attention4">(Epreuve reportée, date à determiner)</font> <br /><i>(Coup
 e d'Alsace Adultes)</i><br /><br />Lieu : MARKSTEIN<br />Organisateur : S.C
  VALLEE DE WESSERLING <small>(14186 S.C VALLEE DE WESSERLING)</small><br />
 Email : <!-- Cette adresse électronique est protégée contre les robots spam
 meurs. --><span class="cloaked_email ep_599ec2a5"><span data-ep-a="s&#99;&#
 118;w" data-ep-b="&#109;"><span data-ep-a="&#101;s&#115;&#101;" data-ep-b="
 &#108;.c&#111;"><span data-ep-b="&#103;&#64;&#97;&#111;" data-ep-a="&#114;&
 #108;i&#110;"></span></span></span></span><script>RegularLabs.EmailProtecto
 r.unCloak("ep_599ec2a5");</script><br />Telecopie : 03 89 82 78 08<ul type=
 "disc"><li>AMVM0061  Slalom <nobr><i>(Courses FFS)</i></nobr> <nobr>U16 a M
 asters</nobr> Hommes<br />&nbsp;&nbsp;CAA  U16 à Masters      Coupe WGS CES
 A Markstein</li><li>AMVF0061  Slalom <nobr><i>(Courses FFS)</i></nobr> <nob
 r>U16 a Masters</nobr> Dames<br />&nbsp;&nbsp;CAA  U16 à Masters      Coupe
  WGS CESA Markstein</li></ul> <a href="https://skivosges.net/agenda/export-
 synchronisation/detailevenement/447/-/caa-u16-a-masters-coupe-wgs-cesa-mark
 stein-reporte?tmpl=component">Cet évènement a été importé depuis :https://s
 kivosges.net/agenda/export-synchronisation/detailevenement/447/-/caa-u16-a-
 masters-coupe-wgs-cesa-markstein-reporte?tmpl=component</a>DTSTAMP:20260421T050011
DTSTART;TZID=Europe/Paris:20151220T080000
DTEND;TZID=Europe/Paris:20151220T170000
SEQUENCE:0
TRANSP:OPAQUE
END:VEVENT
END:VCALENDAR