BEGIN:VCALENDAR
VERSION:2.0
PRODID:-//jEvents 2.0 for Joomla//EN
CALSCALE:GREGORIAN
METHOD:PUBLISH
BEGIN:VTIMEZONE
TZID:Europe/Paris
BEGIN:STANDARD
DTSTART:20141219T080000
RDATE:20150329T030000
TZOFFSETFROM:+0200
TZOFFSETTO:+0100
TZNAME:Europe/Paris CET
END:STANDARD
BEGIN:STANDARD
DTSTART:20151025T020000
RDATE:20160327T030000
TZOFFSETFROM:+0200
TZOFFSETTO:+0100
TZNAME:Europe/Paris CET
END:STANDARD
BEGIN:STANDARD
DTSTART:20161030T020000
RDATE:20170326T030000
TZOFFSETFROM:+0200
TZOFFSETTO:+0100
TZNAME:Europe/Paris CET
END:STANDARD
BEGIN:STANDARD
DTSTART:20171029T020000
RDATE:20180325T030000
TZOFFSETFROM:+0200
TZOFFSETTO:+0100
TZNAME:Europe/Paris CET
END:STANDARD
BEGIN:STANDARD
DTSTART:20181028T020000
RDATE:20190331T030000
TZOFFSETFROM:+0200
TZOFFSETTO:+0100
TZNAME:Europe/Paris CET
END:STANDARD
BEGIN:STANDARD
DTSTART:20191027T020000
RDATE:20200329T030000
TZOFFSETFROM:+0200
TZOFFSETTO:+0100
TZNAME:Europe/Paris CET
END:STANDARD
BEGIN:STANDARD
DTSTART:20201025T020000
RDATE:20210328T030000
TZOFFSETFROM:+0200
TZOFFSETTO:+0100
TZNAME:Europe/Paris CET
END:STANDARD
BEGIN:STANDARD
DTSTART:20211031T020000
RDATE:20220327T030000
TZOFFSETFROM:+0200
TZOFFSETTO:+0100
TZNAME:Europe/Paris CET
END:STANDARD
BEGIN:STANDARD
DTSTART:20221030T020000
RDATE:20230326T030000
TZOFFSETFROM:+0200
TZOFFSETTO:+0100
TZNAME:Europe/Paris CET
END:STANDARD
BEGIN:STANDARD
DTSTART:20231029T020000
RDATE:20240331T030000
TZOFFSETFROM:+0200
TZOFFSETTO:+0100
TZNAME:Europe/Paris CET
END:STANDARD
BEGIN:STANDARD
DTSTART:20241027T020000
RDATE:20250330T030000
TZOFFSETFROM:+0200
TZOFFSETTO:+0100
TZNAME:Europe/Paris CET
END:STANDARD
BEGIN:STANDARD
DTSTART:20251026T020000
RDATE:20260329T030000
TZOFFSETFROM:+0200
TZOFFSETTO:+0100
TZNAME:Europe/Paris CET
END:STANDARD
BEGIN:STANDARD
DTSTART:20261025T020000
RDATE:20270328T030000
TZOFFSETFROM:+0200
TZOFFSETTO:+0100
TZNAME:Europe/Paris CET
END:STANDARD
BEGIN:DAYLIGHT
DTSTART:20150329T030000
RDATE:20151025T020000
TZOFFSETFROM:+0100
TZOFFSETTO:+0200
TZNAME:Europe/Paris CEST
END:DAYLIGHT
BEGIN:DAYLIGHT
DTSTART:20160327T030000
RDATE:20161030T020000
TZOFFSETFROM:+0100
TZOFFSETTO:+0200
TZNAME:Europe/Paris CEST
END:DAYLIGHT
BEGIN:DAYLIGHT
DTSTART:20170326T030000
RDATE:20171029T020000
TZOFFSETFROM:+0100
TZOFFSETTO:+0200
TZNAME:Europe/Paris CEST
END:DAYLIGHT
BEGIN:DAYLIGHT
DTSTART:20180325T030000
RDATE:20181028T020000
TZOFFSETFROM:+0100
TZOFFSETTO:+0200
TZNAME:Europe/Paris CEST
END:DAYLIGHT
BEGIN:DAYLIGHT
DTSTART:20190331T030000
RDATE:20191027T020000
TZOFFSETFROM:+0100
TZOFFSETTO:+0200
TZNAME:Europe/Paris CEST
END:DAYLIGHT
BEGIN:DAYLIGHT
DTSTART:20200329T030000
RDATE:20201025T020000
TZOFFSETFROM:+0100
TZOFFSETTO:+0200
TZNAME:Europe/Paris CEST
END:DAYLIGHT
BEGIN:DAYLIGHT
DTSTART:20210328T030000
RDATE:20211031T020000
TZOFFSETFROM:+0100
TZOFFSETTO:+0200
TZNAME:Europe/Paris CEST
END:DAYLIGHT
BEGIN:DAYLIGHT
DTSTART:20220327T030000
RDATE:20221030T020000
TZOFFSETFROM:+0100
TZOFFSETTO:+0200
TZNAME:Europe/Paris CEST
END:DAYLIGHT
BEGIN:DAYLIGHT
DTSTART:20230326T030000
RDATE:20231029T020000
TZOFFSETFROM:+0100
TZOFFSETTO:+0200
TZNAME:Europe/Paris CEST
END:DAYLIGHT
BEGIN:DAYLIGHT
DTSTART:20240331T030000
RDATE:20241027T020000
TZOFFSETFROM:+0100
TZOFFSETTO:+0200
TZNAME:Europe/Paris CEST
END:DAYLIGHT
BEGIN:DAYLIGHT
DTSTART:20250330T030000
RDATE:20251026T020000
TZOFFSETFROM:+0100
TZOFFSETTO:+0200
TZNAME:Europe/Paris CEST
END:DAYLIGHT
BEGIN:DAYLIGHT
DTSTART:20260329T030000
RDATE:20261025T020000
TZOFFSETFROM:+0100
TZOFFSETTO:+0200
TZNAME:Europe/Paris CEST
END:DAYLIGHT
END:VTIMEZONE
BEGIN:VEVENT
UID:6e032be7a68204f9b5cf677a41c1a539
CATEGORIES:Compétition Ski de Fond
CREATED:20151110T133951
SUMMARY:Grand Prix de La Bresse   Crédit Mutuel n°2 BigMat **REPORTE**
URL;VALUE=URI:https://skivosges.net/agenda/export-synchronisation/detailevenement/448/-/g
 rand-prix-de-la-bresse-credit-mutuel-n-2-bigmat-reporte?tmpl=component
DESCRIPTION:Grand Prix de La Bresse   Crédit Mutuel n°2 BigMat (Epreuve reportée)\n\nLi
 eu : LA BRESSE LISPACH\nPiste : Tour des Roches\nOrganisateur : LA BRESSAUD
 E SECTION SKI (14024 LA BRESSAUDE SECTION SKI)\nTelecopie : 06.08.69.23.57\
 n\nInscriptions en cours sur ce site\n - FMVF0021  Depart Individuel U14 (M
 inime) Filles\n  Grand Prix de La Bresse   Crédit Mutuel n°2 BigMat\n - FMV
 F0022  Depart Individuel U16 (Cadet) Filles\n  Grand Prix de La Bresse   Cr
 édit Mutuel n°2 BigMat\n - FMVF0023  Depart Individuel Dames\n  Grand Prix 
 de La Bresse   Crédit Mutuel n°2 BigMat\n - FMVF0024  Depart Individuel Sen
 ior Dames\n  Grand Prix de La Bresse   Crédit Mutuel n°2 BigMat\n - FMVM002
 1  Depart Individuel U14 (Minime) Garçons\n  Grand Prix de La Bresse   Créd
 it Mutuel n°2 BigMat\n - FMVM0022  Depart Individuel U16 (Cadet) Garçons\n 
  Grand Prix de La Bresse   Crédit Mutuel n°2 BigMat\n - FMVM0023  Depart In
 dividuel Hommes\n  Grand Prix de La Bresse   Crédit Mutuel n°2 BigMat\n - F
 MVM0024  Depart Individuel Senior Hommes\n  Grand Prix de La Bresse   Crédi
 t Mutuel n°2 BigMat Cet évènement a été importé depuis :https://skivosges.n
 et/agenda/export-synchronisation/detailevenement/448/-/grand-prix-de-la-bre
 sse-credit-mutuel-n-2-bigmat-reporte?tmpl=component (https://skivosges.net/
 agenda/export-synchronisation/detailevenement/448/-/grand-prix-de-la-bresse
 -credit-mutuel-n-2-bigmat-reporte?tmpl=component)
X-ALT-DESC;FMTTYPE=text/html:<strong>Grand Prix de La Bresse   Crédit Mutuel n°2 BigMat</strong> <font c
 lass="attention4">(Epreuve reportée)</font><br /><br />Lieu : LA BRESSE LIS
 PACH<br />Piste : Tour des Roches<br />Organisateur : LA BRESSAUDE SECTION 
 SKI <small>(14024 LA BRESSAUDE SECTION SKI)</small><br />Telecopie : 06.08.
 69.23.57<br /><br />Inscriptions en cours sur ce site<ul type="disc"><li>FM
 VF0021  Depart Individuel <nobr>U14 (Minime)</nobr> Filles<br />&nbsp;&nbsp
 ;Grand Prix de La Bresse   Crédit Mutuel n°2 BigMat</li><li>FMVF0022  Depar
 t Individuel <nobr>U16 (Cadet)</nobr> Filles<br />&nbsp;&nbsp;Grand Prix de
  La Bresse   Crédit Mutuel n°2 BigMat</li><li>FMVF0023  Depart Individuel D
 ames<br />&nbsp;&nbsp;Grand Prix de La Bresse   Crédit Mutuel n°2 BigMat</l
 i><li>FMVF0024  Depart Individuel <nobr>Senior</nobr> Dames<br />&nbsp;&nbs
 p;Grand Prix de La Bresse   Crédit Mutuel n°2 BigMat</li><li>FMVM0021  Depa
 rt Individuel <nobr>U14 (Minime)</nobr> Garçons<br />&nbsp;&nbsp;Grand Prix
  de La Bresse   Crédit Mutuel n°2 BigMat</li><li>FMVM0022  Depart Individue
 l <nobr>U16 (Cadet)</nobr> Garçons<br />&nbsp;&nbsp;Grand Prix de La Bresse
    Crédit Mutuel n°2 BigMat</li><li>FMVM0023  Depart Individuel Hommes<br /
 >&nbsp;&nbsp;Grand Prix de La Bresse   Crédit Mutuel n°2 BigMat</li><li>FMV
 M0024  Depart Individuel <nobr>Senior</nobr> Hommes<br />&nbsp;&nbsp;Grand 
 Prix de La Bresse   Crédit Mutuel n°2 BigMat</li></ul> <a href="https://ski
 vosges.net/agenda/export-synchronisation/detailevenement/448/-/grand-prix-d
 e-la-bresse-credit-mutuel-n-2-bigmat-reporte?tmpl=component">Cet évènement 
 a été importé depuis :https://skivosges.net/agenda/export-synchronisation/d
 etailevenement/448/-/grand-prix-de-la-bresse-credit-mutuel-n-2-bigmat-repor
 te?tmpl=component</a>DTSTAMP:20260421T014234
DTSTART;TZID=Europe/Paris:20151220T080000
DTEND;TZID=Europe/Paris:20151220T170000
SEQUENCE:0
TRANSP:OPAQUE
END:VEVENT
END:VCALENDAR