BEGIN:VCALENDAR
VERSION:2.0
PRODID:-//jEvents 2.0 for Joomla//EN
CALSCALE:GREGORIAN
METHOD:PUBLISH
BEGIN:VTIMEZONE
TZID:Europe/Paris
BEGIN:STANDARD
DTSTART:20141229T080000
RDATE:20150329T030000
TZOFFSETFROM:+0200
TZOFFSETTO:+0100
TZNAME:Europe/Paris CET
END:STANDARD
BEGIN:STANDARD
DTSTART:20151025T020000
RDATE:20160327T030000
TZOFFSETFROM:+0200
TZOFFSETTO:+0100
TZNAME:Europe/Paris CET
END:STANDARD
BEGIN:STANDARD
DTSTART:20161030T020000
RDATE:20170326T030000
TZOFFSETFROM:+0200
TZOFFSETTO:+0100
TZNAME:Europe/Paris CET
END:STANDARD
BEGIN:STANDARD
DTSTART:20171029T020000
RDATE:20180325T030000
TZOFFSETFROM:+0200
TZOFFSETTO:+0100
TZNAME:Europe/Paris CET
END:STANDARD
BEGIN:STANDARD
DTSTART:20181028T020000
RDATE:20190331T030000
TZOFFSETFROM:+0200
TZOFFSETTO:+0100
TZNAME:Europe/Paris CET
END:STANDARD
BEGIN:STANDARD
DTSTART:20191027T020000
RDATE:20200329T030000
TZOFFSETFROM:+0200
TZOFFSETTO:+0100
TZNAME:Europe/Paris CET
END:STANDARD
BEGIN:STANDARD
DTSTART:20201025T020000
RDATE:20210328T030000
TZOFFSETFROM:+0200
TZOFFSETTO:+0100
TZNAME:Europe/Paris CET
END:STANDARD
BEGIN:STANDARD
DTSTART:20211031T020000
RDATE:20220327T030000
TZOFFSETFROM:+0200
TZOFFSETTO:+0100
TZNAME:Europe/Paris CET
END:STANDARD
BEGIN:STANDARD
DTSTART:20221030T020000
RDATE:20230326T030000
TZOFFSETFROM:+0200
TZOFFSETTO:+0100
TZNAME:Europe/Paris CET
END:STANDARD
BEGIN:STANDARD
DTSTART:20231029T020000
RDATE:20240331T030000
TZOFFSETFROM:+0200
TZOFFSETTO:+0100
TZNAME:Europe/Paris CET
END:STANDARD
BEGIN:STANDARD
DTSTART:20241027T020000
RDATE:20250330T030000
TZOFFSETFROM:+0200
TZOFFSETTO:+0100
TZNAME:Europe/Paris CET
END:STANDARD
BEGIN:STANDARD
DTSTART:20251026T020000
RDATE:20260329T030000
TZOFFSETFROM:+0200
TZOFFSETTO:+0100
TZNAME:Europe/Paris CET
END:STANDARD
BEGIN:STANDARD
DTSTART:20261025T020000
RDATE:20270328T030000
TZOFFSETFROM:+0200
TZOFFSETTO:+0100
TZNAME:Europe/Paris CET
END:STANDARD
BEGIN:DAYLIGHT
DTSTART:20150329T030000
RDATE:20151025T020000
TZOFFSETFROM:+0100
TZOFFSETTO:+0200
TZNAME:Europe/Paris CEST
END:DAYLIGHT
BEGIN:DAYLIGHT
DTSTART:20160327T030000
RDATE:20161030T020000
TZOFFSETFROM:+0100
TZOFFSETTO:+0200
TZNAME:Europe/Paris CEST
END:DAYLIGHT
BEGIN:DAYLIGHT
DTSTART:20170326T030000
RDATE:20171029T020000
TZOFFSETFROM:+0100
TZOFFSETTO:+0200
TZNAME:Europe/Paris CEST
END:DAYLIGHT
BEGIN:DAYLIGHT
DTSTART:20180325T030000
RDATE:20181028T020000
TZOFFSETFROM:+0100
TZOFFSETTO:+0200
TZNAME:Europe/Paris CEST
END:DAYLIGHT
BEGIN:DAYLIGHT
DTSTART:20190331T030000
RDATE:20191027T020000
TZOFFSETFROM:+0100
TZOFFSETTO:+0200
TZNAME:Europe/Paris CEST
END:DAYLIGHT
BEGIN:DAYLIGHT
DTSTART:20200329T030000
RDATE:20201025T020000
TZOFFSETFROM:+0100
TZOFFSETTO:+0200
TZNAME:Europe/Paris CEST
END:DAYLIGHT
BEGIN:DAYLIGHT
DTSTART:20210328T030000
RDATE:20211031T020000
TZOFFSETFROM:+0100
TZOFFSETTO:+0200
TZNAME:Europe/Paris CEST
END:DAYLIGHT
BEGIN:DAYLIGHT
DTSTART:20220327T030000
RDATE:20221030T020000
TZOFFSETFROM:+0100
TZOFFSETTO:+0200
TZNAME:Europe/Paris CEST
END:DAYLIGHT
BEGIN:DAYLIGHT
DTSTART:20230326T030000
RDATE:20231029T020000
TZOFFSETFROM:+0100
TZOFFSETTO:+0200
TZNAME:Europe/Paris CEST
END:DAYLIGHT
BEGIN:DAYLIGHT
DTSTART:20240331T030000
RDATE:20241027T020000
TZOFFSETFROM:+0100
TZOFFSETTO:+0200
TZNAME:Europe/Paris CEST
END:DAYLIGHT
BEGIN:DAYLIGHT
DTSTART:20250330T030000
RDATE:20251026T020000
TZOFFSETFROM:+0100
TZOFFSETTO:+0200
TZNAME:Europe/Paris CEST
END:DAYLIGHT
BEGIN:DAYLIGHT
DTSTART:20260329T030000
RDATE:20261025T020000
TZOFFSETFROM:+0100
TZOFFSETTO:+0200
TZNAME:Europe/Paris CEST
END:DAYLIGHT
END:VTIMEZONE
BEGIN:VEVENT
UID:dde201107c115a224df05ad61fac5933
CATEGORIES:Compétition Saut
CREATED:20151110T133951
SUMMARY:Coupe des Vosges n°1 Bussang Larcenaire
URL;VALUE=URI:https://skivosges.net/agenda/export-synchronisation/detailevenement/454/-/c
 oupe-des-vosges-n-1-bussang-larcenaire?tmpl=component
DESCRIPTION:Coupe des Vosges n°1 Bussang Larcenaire\n\nLieu : BUSSANG LARCENAIRE\nOrgan
 isateur : UNION SPORTIVE BUSSANG (14007 UNION SPORTIVE BUSSANG)\n - TMVF001
 1 épreuve U9 (Microbe) Filles\n  Coupe des Vosges n°1 Bussang Larcenaire\n 
 - TMVM0011 épreuve U9 (Microbe) Garçons\n  Coupe des Vosges n°1 Bussang Lar
 cenaire\n - TMVF0012 épreuve U9 (Microbe) Filles\n  Coupe des Vosges n°1 Bu
 ssang Larcenaire\n - TMVM0012 épreuve U9 (Microbe) Garçons\n  Coupe des Vos
 ges n°1 Bussang Larcenaire Cet évènement a été importé depuis :https://skiv
 osges.net/agenda/export-synchronisation/detailevenement/454/-/coupe-des-vos
 ges-n-1-bussang-larcenaire?tmpl=component
X-ALT-DESC;FMTTYPE=text/html:<strong>Coupe des Vosges n°1 Bussang Larcenaire</strong><br /><br />Lieu : 
 BUSSANG LARCENAIRE<br />Organisateur : UNION SPORTIVE BUSSANG <small>(14007
  UNION SPORTIVE BUSSANG)</small><ul type="disc"><li>TMVF0011 épreuve <nobr>
 U9 (Microbe)</nobr> Filles<br />&nbsp;&nbsp;Coupe des Vosges n°1 Bussang La
 rcenaire</li><li>TMVM0011 épreuve <nobr>U9 (Microbe)</nobr> Garçons<br />&n
 bsp;&nbsp;Coupe des Vosges n°1 Bussang Larcenaire</li><li>TMVF0012 épreuve 
 <nobr>U9 (Microbe)</nobr> Filles<br />&nbsp;&nbsp;Coupe des Vosges n°1 Buss
 ang Larcenaire</li><li>TMVM0012 épreuve <nobr>U9 (Microbe)</nobr> Garçons<b
 r />&nbsp;&nbsp;Coupe des Vosges n°1 Bussang Larcenaire</li></ul> <a href="
 https://skivosges.net/agenda/export-synchronisation/detailevenement/454/-/c
 oupe-des-vosges-n-1-bussang-larcenaire?tmpl=component">Cet évènement a été 
 importé depuis :https://skivosges.net/agenda/export-synchronisation/detaile
 venement/454/-/coupe-des-vosges-n-1-bussang-larcenaire?tmpl=component</a>DTSTAMP:20260421T050645
DTSTART;TZID=Europe/Paris:20151230T080000
DTEND;TZID=Europe/Paris:20151230T170000
SEQUENCE:0
TRANSP:OPAQUE
END:VEVENT
END:VCALENDAR