BEGIN:VCALENDAR
VERSION:2.0
PRODID:-//jEvents 2.0 for Joomla//EN
CALSCALE:GREGORIAN
METHOD:PUBLISH
BEGIN:VTIMEZONE
TZID:Europe/Paris
BEGIN:STANDARD
DTSTART:20150102T080000
RDATE:20150329T030000
TZOFFSETFROM:+0200
TZOFFSETTO:+0100
TZNAME:Europe/Paris CET
END:STANDARD
BEGIN:STANDARD
DTSTART:20151025T020000
RDATE:20160327T030000
TZOFFSETFROM:+0200
TZOFFSETTO:+0100
TZNAME:Europe/Paris CET
END:STANDARD
BEGIN:STANDARD
DTSTART:20161030T020000
RDATE:20170326T030000
TZOFFSETFROM:+0200
TZOFFSETTO:+0100
TZNAME:Europe/Paris CET
END:STANDARD
BEGIN:STANDARD
DTSTART:20171029T020000
RDATE:20180325T030000
TZOFFSETFROM:+0200
TZOFFSETTO:+0100
TZNAME:Europe/Paris CET
END:STANDARD
BEGIN:STANDARD
DTSTART:20181028T020000
RDATE:20190331T030000
TZOFFSETFROM:+0200
TZOFFSETTO:+0100
TZNAME:Europe/Paris CET
END:STANDARD
BEGIN:STANDARD
DTSTART:20191027T020000
RDATE:20200329T030000
TZOFFSETFROM:+0200
TZOFFSETTO:+0100
TZNAME:Europe/Paris CET
END:STANDARD
BEGIN:STANDARD
DTSTART:20201025T020000
RDATE:20210328T030000
TZOFFSETFROM:+0200
TZOFFSETTO:+0100
TZNAME:Europe/Paris CET
END:STANDARD
BEGIN:STANDARD
DTSTART:20211031T020000
RDATE:20220327T030000
TZOFFSETFROM:+0200
TZOFFSETTO:+0100
TZNAME:Europe/Paris CET
END:STANDARD
BEGIN:STANDARD
DTSTART:20221030T020000
RDATE:20230326T030000
TZOFFSETFROM:+0200
TZOFFSETTO:+0100
TZNAME:Europe/Paris CET
END:STANDARD
BEGIN:STANDARD
DTSTART:20231029T020000
RDATE:20240331T030000
TZOFFSETFROM:+0200
TZOFFSETTO:+0100
TZNAME:Europe/Paris CET
END:STANDARD
BEGIN:STANDARD
DTSTART:20241027T020000
RDATE:20250330T030000
TZOFFSETFROM:+0200
TZOFFSETTO:+0100
TZNAME:Europe/Paris CET
END:STANDARD
BEGIN:STANDARD
DTSTART:20251026T020000
RDATE:20260329T030000
TZOFFSETFROM:+0200
TZOFFSETTO:+0100
TZNAME:Europe/Paris CET
END:STANDARD
BEGIN:STANDARD
DTSTART:20261025T020000
RDATE:20270328T030000
TZOFFSETFROM:+0200
TZOFFSETTO:+0100
TZNAME:Europe/Paris CET
END:STANDARD
BEGIN:DAYLIGHT
DTSTART:20150329T030000
RDATE:20151025T020000
TZOFFSETFROM:+0100
TZOFFSETTO:+0200
TZNAME:Europe/Paris CEST
END:DAYLIGHT
BEGIN:DAYLIGHT
DTSTART:20160327T030000
RDATE:20161030T020000
TZOFFSETFROM:+0100
TZOFFSETTO:+0200
TZNAME:Europe/Paris CEST
END:DAYLIGHT
BEGIN:DAYLIGHT
DTSTART:20170326T030000
RDATE:20171029T020000
TZOFFSETFROM:+0100
TZOFFSETTO:+0200
TZNAME:Europe/Paris CEST
END:DAYLIGHT
BEGIN:DAYLIGHT
DTSTART:20180325T030000
RDATE:20181028T020000
TZOFFSETFROM:+0100
TZOFFSETTO:+0200
TZNAME:Europe/Paris CEST
END:DAYLIGHT
BEGIN:DAYLIGHT
DTSTART:20190331T030000
RDATE:20191027T020000
TZOFFSETFROM:+0100
TZOFFSETTO:+0200
TZNAME:Europe/Paris CEST
END:DAYLIGHT
BEGIN:DAYLIGHT
DTSTART:20200329T030000
RDATE:20201025T020000
TZOFFSETFROM:+0100
TZOFFSETTO:+0200
TZNAME:Europe/Paris CEST
END:DAYLIGHT
BEGIN:DAYLIGHT
DTSTART:20210328T030000
RDATE:20211031T020000
TZOFFSETFROM:+0100
TZOFFSETTO:+0200
TZNAME:Europe/Paris CEST
END:DAYLIGHT
BEGIN:DAYLIGHT
DTSTART:20220327T030000
RDATE:20221030T020000
TZOFFSETFROM:+0100
TZOFFSETTO:+0200
TZNAME:Europe/Paris CEST
END:DAYLIGHT
BEGIN:DAYLIGHT
DTSTART:20230326T030000
RDATE:20231029T020000
TZOFFSETFROM:+0100
TZOFFSETTO:+0200
TZNAME:Europe/Paris CEST
END:DAYLIGHT
BEGIN:DAYLIGHT
DTSTART:20240331T030000
RDATE:20241027T020000
TZOFFSETFROM:+0100
TZOFFSETTO:+0200
TZNAME:Europe/Paris CEST
END:DAYLIGHT
BEGIN:DAYLIGHT
DTSTART:20250330T030000
RDATE:20251026T020000
TZOFFSETFROM:+0100
TZOFFSETTO:+0200
TZNAME:Europe/Paris CEST
END:DAYLIGHT
BEGIN:DAYLIGHT
DTSTART:20260329T030000
RDATE:20261025T020000
TZOFFSETFROM:+0100
TZOFFSETTO:+0200
TZNAME:Europe/Paris CEST
END:DAYLIGHT
END:VTIMEZONE
BEGIN:VEVENT
UID:45051512d05919af498630c45c20afe0
CATEGORIES:Circuit Massif Adultes (alpin)
CREATED:20151110T133951
SUMMARY:GPA   U16 à Masters Challenge Thérèse Leduc **REPORTE**
URL;VALUE=URI:https://skivosges.net/agenda/export-synchronisation/detailevenement/457/-/g
 pa-u16-a-masters-challenge-therese-leduc-reporte?tmpl=component
DESCRIPTION:GPA   U16 à Masters Challenge Thérèse Leduc (Epreuve reportée) \n(Grand Pri
 x Adultes)\n\nLieu : FRERE JOSEPH\nOrganisateur : U.S VENTRON (14083 U.S VE
 NTRON)\nEmail : RegularLabs.EmailProtector.unCloak("ep_a95dd7d8");\n - AMVM
 0131 épreuve (Courses FFS) U16 a Masters Hommes\n  GPA   U16 à Masters Chal
 lenge Thérèse Leduc\n - AMVF0131 épreuve (Courses FFS) U16 a Masters Dames\
 n  GPA   U16 à Masters Challenge Thérèse Leduc Cet évènement a été importé 
 depuis :https://skivosges.net/agenda/export-synchronisation/detailevenement
 /457/-/gpa-u16-a-masters-challenge-therese-leduc-reporte?tmpl=component
X-ALT-DESC;FMTTYPE=text/html:<strong>GPA   U16 à Masters Challenge Thérèse Leduc</strong> <font class="a
 ttention4">(Epreuve reportée)</font> <br /><i>(Grand Prix Adultes)</i><br /
 ><br />Lieu : FRERE JOSEPH<br />Organisateur : U.S VENTRON <small>(14083 U.
 S VENTRON)</small><br />Email : <!-- Cette adresse électronique est protégé
 e contre les robots spammeurs. --><span class="cloaked_email ep_a95dd7d8"><
 span data-ep-b="&#108;&#101;&#46;f&#114;" data-ep-a="&#115;&#116;e&#112;h">
 <span data-ep-a="&#97;&#110;&#101;&#46;g" data-ep-b="&#114;&#105;&#99;a&#98
 ;"><span data-ep-a="i&#103;&#97;&#110;t" data-ep-b="&#64;&#110;&#117;m&#101
 ;"></span></span></span></span><script>RegularLabs.EmailProtector.unCloak("
 ep_a95dd7d8");</script><ul type="disc"><li>AMVM0131 épreuve <nobr><i>(Cours
 es FFS)</i></nobr> <nobr>U16 a Masters</nobr> Hommes<br />&nbsp;&nbsp;GPA  
  U16 à Masters Challenge Thérèse Leduc</li><li>AMVF0131 épreuve <nobr><i>(C
 ourses FFS)</i></nobr> <nobr>U16 a Masters</nobr> Dames<br />&nbsp;&nbsp;GP
 A   U16 à Masters Challenge Thérèse Leduc</li></ul> <a href="https://skivos
 ges.net/agenda/export-synchronisation/detailevenement/457/-/gpa-u16-a-maste
 rs-challenge-therese-leduc-reporte?tmpl=component">Cet évènement a été impo
 rté depuis :https://skivosges.net/agenda/export-synchronisation/detailevene
 ment/457/-/gpa-u16-a-masters-challenge-therese-leduc-reporte?tmpl=component
 </a>DTSTAMP:20260420T220745
DTSTART;TZID=Europe/Paris:20160103T080000
DTEND;TZID=Europe/Paris:20160103T170000
SEQUENCE:0
TRANSP:OPAQUE
END:VEVENT
END:VCALENDAR