BEGIN:VCALENDAR
VERSION:2.0
PRODID:-//jEvents 2.0 for Joomla//EN
CALSCALE:GREGORIAN
METHOD:PUBLISH
BEGIN:VTIMEZONE
TZID:Europe/Paris
BEGIN:STANDARD
DTSTART:20150102T080000
RDATE:20150329T030000
TZOFFSETFROM:+0200
TZOFFSETTO:+0100
TZNAME:Europe/Paris CET
END:STANDARD
BEGIN:STANDARD
DTSTART:20151025T020000
RDATE:20160327T030000
TZOFFSETFROM:+0200
TZOFFSETTO:+0100
TZNAME:Europe/Paris CET
END:STANDARD
BEGIN:STANDARD
DTSTART:20161030T020000
RDATE:20170326T030000
TZOFFSETFROM:+0200
TZOFFSETTO:+0100
TZNAME:Europe/Paris CET
END:STANDARD
BEGIN:STANDARD
DTSTART:20171029T020000
RDATE:20180325T030000
TZOFFSETFROM:+0200
TZOFFSETTO:+0100
TZNAME:Europe/Paris CET
END:STANDARD
BEGIN:STANDARD
DTSTART:20181028T020000
RDATE:20190331T030000
TZOFFSETFROM:+0200
TZOFFSETTO:+0100
TZNAME:Europe/Paris CET
END:STANDARD
BEGIN:STANDARD
DTSTART:20191027T020000
RDATE:20200329T030000
TZOFFSETFROM:+0200
TZOFFSETTO:+0100
TZNAME:Europe/Paris CET
END:STANDARD
BEGIN:STANDARD
DTSTART:20201025T020000
RDATE:20210328T030000
TZOFFSETFROM:+0200
TZOFFSETTO:+0100
TZNAME:Europe/Paris CET
END:STANDARD
BEGIN:STANDARD
DTSTART:20211031T020000
RDATE:20220327T030000
TZOFFSETFROM:+0200
TZOFFSETTO:+0100
TZNAME:Europe/Paris CET
END:STANDARD
BEGIN:STANDARD
DTSTART:20221030T020000
RDATE:20230326T030000
TZOFFSETFROM:+0200
TZOFFSETTO:+0100
TZNAME:Europe/Paris CET
END:STANDARD
BEGIN:STANDARD
DTSTART:20231029T020000
RDATE:20240331T030000
TZOFFSETFROM:+0200
TZOFFSETTO:+0100
TZNAME:Europe/Paris CET
END:STANDARD
BEGIN:STANDARD
DTSTART:20241027T020000
RDATE:20250330T030000
TZOFFSETFROM:+0200
TZOFFSETTO:+0100
TZNAME:Europe/Paris CET
END:STANDARD
BEGIN:STANDARD
DTSTART:20251026T020000
RDATE:20260329T030000
TZOFFSETFROM:+0200
TZOFFSETTO:+0100
TZNAME:Europe/Paris CET
END:STANDARD
BEGIN:STANDARD
DTSTART:20261025T020000
RDATE:20270328T030000
TZOFFSETFROM:+0200
TZOFFSETTO:+0100
TZNAME:Europe/Paris CET
END:STANDARD
BEGIN:DAYLIGHT
DTSTART:20150329T030000
RDATE:20151025T020000
TZOFFSETFROM:+0100
TZOFFSETTO:+0200
TZNAME:Europe/Paris CEST
END:DAYLIGHT
BEGIN:DAYLIGHT
DTSTART:20160327T030000
RDATE:20161030T020000
TZOFFSETFROM:+0100
TZOFFSETTO:+0200
TZNAME:Europe/Paris CEST
END:DAYLIGHT
BEGIN:DAYLIGHT
DTSTART:20170326T030000
RDATE:20171029T020000
TZOFFSETFROM:+0100
TZOFFSETTO:+0200
TZNAME:Europe/Paris CEST
END:DAYLIGHT
BEGIN:DAYLIGHT
DTSTART:20180325T030000
RDATE:20181028T020000
TZOFFSETFROM:+0100
TZOFFSETTO:+0200
TZNAME:Europe/Paris CEST
END:DAYLIGHT
BEGIN:DAYLIGHT
DTSTART:20190331T030000
RDATE:20191027T020000
TZOFFSETFROM:+0100
TZOFFSETTO:+0200
TZNAME:Europe/Paris CEST
END:DAYLIGHT
BEGIN:DAYLIGHT
DTSTART:20200329T030000
RDATE:20201025T020000
TZOFFSETFROM:+0100
TZOFFSETTO:+0200
TZNAME:Europe/Paris CEST
END:DAYLIGHT
BEGIN:DAYLIGHT
DTSTART:20210328T030000
RDATE:20211031T020000
TZOFFSETFROM:+0100
TZOFFSETTO:+0200
TZNAME:Europe/Paris CEST
END:DAYLIGHT
BEGIN:DAYLIGHT
DTSTART:20220327T030000
RDATE:20221030T020000
TZOFFSETFROM:+0100
TZOFFSETTO:+0200
TZNAME:Europe/Paris CEST
END:DAYLIGHT
BEGIN:DAYLIGHT
DTSTART:20230326T030000
RDATE:20231029T020000
TZOFFSETFROM:+0100
TZOFFSETTO:+0200
TZNAME:Europe/Paris CEST
END:DAYLIGHT
BEGIN:DAYLIGHT
DTSTART:20240331T030000
RDATE:20241027T020000
TZOFFSETFROM:+0100
TZOFFSETTO:+0200
TZNAME:Europe/Paris CEST
END:DAYLIGHT
BEGIN:DAYLIGHT
DTSTART:20250330T030000
RDATE:20251026T020000
TZOFFSETFROM:+0100
TZOFFSETTO:+0200
TZNAME:Europe/Paris CEST
END:DAYLIGHT
BEGIN:DAYLIGHT
DTSTART:20260329T030000
RDATE:20261025T020000
TZOFFSETFROM:+0100
TZOFFSETTO:+0200
TZNAME:Europe/Paris CEST
END:DAYLIGHT
END:VTIMEZONE
BEGIN:VEVENT
UID:b19209b8f64542a71d62146be7708a6a
CATEGORIES:Opens et Promos (alpin)
CREATED:20151110T133951
SUMMARY:CD2   U16 à Masters  Coupe Larcenaire **REPORTE**
URL;VALUE=URI:https://skivosges.net/agenda/export-synchronisation/detailevenement/458/-/c
 d2-u16-a-masters-coupe-larcenaire-reporte?tmpl=component
DESCRIPTION:CD2   U16 à Masters  Coupe Larcenaire (Epreuve reportée, date à determiner)
 \n\nLieu : BUSSANG LARCENAIRE\nOrganisateur : UNION SPORTIVE BUSSANG (14007
  UNION SPORTIVE BUSSANG)\nEmail : RegularLabs.EmailProtector.unCloak("ep_b6
 3894e3");\n - AMVM0121  Slalom U16 a Masters Hommes\n  CD2   U16 à Masters 
  Coupe Larcenaire\n - AMVF0121  Slalom U16 a Masters Dames\n  CD2   U16 à M
 asters  Coupe Larcenaire Cet évènement a été importé depuis :https://skivos
 ges.net/agenda/export-synchronisation/detailevenement/458/-/cd2-u16-a-maste
 rs-coupe-larcenaire-reporte?tmpl=component
X-ALT-DESC;FMTTYPE=text/html:<strong>CD2   U16 à Masters  Coupe Larcenaire</strong> <font class="attenti
 on4">(Epreuve reportée, date à determiner)</font><br /><br />Lieu : BUSSANG
  LARCENAIRE<br />Organisateur : UNION SPORTIVE BUSSANG <small>(14007 UNION 
 SPORTIVE BUSSANG)</small><br />Email : <!-- Cette adresse électronique est 
 protégée contre les robots spammeurs. --><span class="cloaked_email ep_b638
 94e3"><span data-ep-a="d&#97;&#110;&#105;e" data-ep-b=""><span data-ep-b="o
 o&#46;fr" data-ep-a="l.m&#111;&#114;"><span data-ep-b="&#119;&#97;n&#97;&#1
 00;" data-ep-a="&#101;&#108;&#50;&#53;&#64;"></span></span></span></span><s
 cript>RegularLabs.EmailProtector.unCloak("ep_b63894e3");</script><ul type="
 disc"><li>AMVM0121  Slalom <nobr>U16 a Masters</nobr> Hommes<br />&nbsp;&nb
 sp;CD2   U16 à Masters  Coupe Larcenaire</li><li>AMVF0121  Slalom <nobr>U16
  a Masters</nobr> Dames<br />&nbsp;&nbsp;CD2   U16 à Masters  Coupe Larcena
 ire</li></ul> <a href="https://skivosges.net/agenda/export-synchronisation/
 detailevenement/458/-/cd2-u16-a-masters-coupe-larcenaire-reporte?tmpl=compo
 nent">Cet évènement a été importé depuis :https://skivosges.net/agenda/expo
 rt-synchronisation/detailevenement/458/-/cd2-u16-a-masters-coupe-larcenaire
 -reporte?tmpl=component</a>DTSTAMP:20260421T050035
DTSTART;TZID=Europe/Paris:20160103T080000
DTEND;TZID=Europe/Paris:20160103T170000
SEQUENCE:0
TRANSP:OPAQUE
END:VEVENT
END:VCALENDAR