BEGIN:VCALENDAR
VERSION:2.0
PRODID:-//jEvents 2.0 for Joomla//EN
CALSCALE:GREGORIAN
METHOD:PUBLISH
BEGIN:VTIMEZONE
TZID:Europe/Paris
BEGIN:STANDARD
DTSTART:20150102T080000
RDATE:20150329T030000
TZOFFSETFROM:+0200
TZOFFSETTO:+0100
TZNAME:Europe/Paris CET
END:STANDARD
BEGIN:STANDARD
DTSTART:20151025T020000
RDATE:20160327T030000
TZOFFSETFROM:+0200
TZOFFSETTO:+0100
TZNAME:Europe/Paris CET
END:STANDARD
BEGIN:STANDARD
DTSTART:20161030T020000
RDATE:20170326T030000
TZOFFSETFROM:+0200
TZOFFSETTO:+0100
TZNAME:Europe/Paris CET
END:STANDARD
BEGIN:STANDARD
DTSTART:20171029T020000
RDATE:20180325T030000
TZOFFSETFROM:+0200
TZOFFSETTO:+0100
TZNAME:Europe/Paris CET
END:STANDARD
BEGIN:STANDARD
DTSTART:20181028T020000
RDATE:20190331T030000
TZOFFSETFROM:+0200
TZOFFSETTO:+0100
TZNAME:Europe/Paris CET
END:STANDARD
BEGIN:STANDARD
DTSTART:20191027T020000
RDATE:20200329T030000
TZOFFSETFROM:+0200
TZOFFSETTO:+0100
TZNAME:Europe/Paris CET
END:STANDARD
BEGIN:STANDARD
DTSTART:20201025T020000
RDATE:20210328T030000
TZOFFSETFROM:+0200
TZOFFSETTO:+0100
TZNAME:Europe/Paris CET
END:STANDARD
BEGIN:STANDARD
DTSTART:20211031T020000
RDATE:20220327T030000
TZOFFSETFROM:+0200
TZOFFSETTO:+0100
TZNAME:Europe/Paris CET
END:STANDARD
BEGIN:STANDARD
DTSTART:20221030T020000
RDATE:20230326T030000
TZOFFSETFROM:+0200
TZOFFSETTO:+0100
TZNAME:Europe/Paris CET
END:STANDARD
BEGIN:STANDARD
DTSTART:20231029T020000
RDATE:20240331T030000
TZOFFSETFROM:+0200
TZOFFSETTO:+0100
TZNAME:Europe/Paris CET
END:STANDARD
BEGIN:STANDARD
DTSTART:20241027T020000
RDATE:20250330T030000
TZOFFSETFROM:+0200
TZOFFSETTO:+0100
TZNAME:Europe/Paris CET
END:STANDARD
BEGIN:STANDARD
DTSTART:20251026T020000
RDATE:20260329T030000
TZOFFSETFROM:+0200
TZOFFSETTO:+0100
TZNAME:Europe/Paris CET
END:STANDARD
BEGIN:STANDARD
DTSTART:20261025T020000
RDATE:20270328T030000
TZOFFSETFROM:+0200
TZOFFSETTO:+0100
TZNAME:Europe/Paris CET
END:STANDARD
BEGIN:DAYLIGHT
DTSTART:20150329T030000
RDATE:20151025T020000
TZOFFSETFROM:+0100
TZOFFSETTO:+0200
TZNAME:Europe/Paris CEST
END:DAYLIGHT
BEGIN:DAYLIGHT
DTSTART:20160327T030000
RDATE:20161030T020000
TZOFFSETFROM:+0100
TZOFFSETTO:+0200
TZNAME:Europe/Paris CEST
END:DAYLIGHT
BEGIN:DAYLIGHT
DTSTART:20170326T030000
RDATE:20171029T020000
TZOFFSETFROM:+0100
TZOFFSETTO:+0200
TZNAME:Europe/Paris CEST
END:DAYLIGHT
BEGIN:DAYLIGHT
DTSTART:20180325T030000
RDATE:20181028T020000
TZOFFSETFROM:+0100
TZOFFSETTO:+0200
TZNAME:Europe/Paris CEST
END:DAYLIGHT
BEGIN:DAYLIGHT
DTSTART:20190331T030000
RDATE:20191027T020000
TZOFFSETFROM:+0100
TZOFFSETTO:+0200
TZNAME:Europe/Paris CEST
END:DAYLIGHT
BEGIN:DAYLIGHT
DTSTART:20200329T030000
RDATE:20201025T020000
TZOFFSETFROM:+0100
TZOFFSETTO:+0200
TZNAME:Europe/Paris CEST
END:DAYLIGHT
BEGIN:DAYLIGHT
DTSTART:20210328T030000
RDATE:20211031T020000
TZOFFSETFROM:+0100
TZOFFSETTO:+0200
TZNAME:Europe/Paris CEST
END:DAYLIGHT
BEGIN:DAYLIGHT
DTSTART:20220327T030000
RDATE:20221030T020000
TZOFFSETFROM:+0100
TZOFFSETTO:+0200
TZNAME:Europe/Paris CEST
END:DAYLIGHT
BEGIN:DAYLIGHT
DTSTART:20230326T030000
RDATE:20231029T020000
TZOFFSETFROM:+0100
TZOFFSETTO:+0200
TZNAME:Europe/Paris CEST
END:DAYLIGHT
BEGIN:DAYLIGHT
DTSTART:20240331T030000
RDATE:20241027T020000
TZOFFSETFROM:+0100
TZOFFSETTO:+0200
TZNAME:Europe/Paris CEST
END:DAYLIGHT
BEGIN:DAYLIGHT
DTSTART:20250330T030000
RDATE:20251026T020000
TZOFFSETFROM:+0100
TZOFFSETTO:+0200
TZNAME:Europe/Paris CEST
END:DAYLIGHT
BEGIN:DAYLIGHT
DTSTART:20260329T030000
RDATE:20261025T020000
TZOFFSETFROM:+0100
TZOFFSETTO:+0200
TZNAME:Europe/Paris CEST
END:DAYLIGHT
END:VTIMEZONE
BEGIN:VEVENT
UID:fa91b9a9e776f215cd929b73904c7f9d
CATEGORIES:Circuit Lorraine Adultes (alpin)
CREATED:20151110T133951
SUMMARY:CLA  Prix du crédit Agricole - Mémorial Gilles Lemaire **REPORTE**
URL;VALUE=URI:https://skivosges.net/agenda/export-synchronisation/detailevenement/459/-/c
 la-prix-du-credit-agricole-memorial-gilles-lemaire-reporte?tmpl=component
DESCRIPTION:CLA  Prix du crédit Agricole - Mémorial Gilles Lemaire (Epreuve reportée) \
 n(Coupe de Lorraine Adultes)\n\nLieu : LA BRESSE\nOrganisateur : LA BRESSAU
 DE SECTION SKI (14024 LA BRESSAUDE SECTION SKI)\nEmail : RegularLabs.EmailP
 rotector.unCloak("ep_9beaabc5");\nTelecopie : 0608855252\n - AMVM0111  Slal
 om Geant (Micro Coupe) U8/U10 Garçons\n  CLA  Prix du crédit Agricole - Mém
 orial Gilles Lemaire\n - AMVM0112  Slalom Geant (Coupe de Bronze) U12/U14 G
 arçons\n  CLA  Prix du crédit Agricole - Mémorial Gilles Lemaire\n - AMVF01
 11  Slalom Geant (Micro Coupe) U8/U10 Filles\n  CLA  Prix du crédit Agricol
 e - Mémorial Gilles Lemaire\n - AMVF0112  Slalom Geant (Coupe de Bronze) U1
 2/U14 Filles\n  CLA  Prix du crédit Agricole - Mémorial Gilles Lemaire Cet 
 évènement a été importé depuis :https://skivosges.net/agenda/export-synchro
 nisation/detailevenement/459/-/cla-prix-du-credit-agricole-memorial-gilles-
 lemaire-reporte?tmpl=component (https://skivosges.net/agenda/export-synchro
 nisation/detailevenement/459/-/cla-prix-du-credit-agricole-memorial-gilles-
 lemaire-reporte?tmpl=component)
X-ALT-DESC;FMTTYPE=text/html:<strong>CLA  Prix du crédit Agricole - Mémorial Gilles Lemaire</strong> <fo
 nt class="attention4">(Epreuve reportée)</font> <br /><i>(Coupe de Lorraine
  Adultes)</i><br /><br />Lieu : LA BRESSE<br />Organisateur : LA BRESSAUDE 
 SECTION SKI <small>(14024 LA BRESSAUDE SECTION SKI)</small><br />Email : <!
 -- Cette adresse électronique est protégée contre les robots spammeurs. -->
 <span class="cloaked_email ep_9beaabc5"><span data-ep-a="&#111;d&#105;&#108
 ;e" data-ep-b="&#102;&#114;"><span data-ep-b="&#97;ng&#101;&#46;" data-ep-a
 ="&#46;m&#117;&#110;&#115;"><span data-ep-a="&#99;&#104;.&#115;&#99;" data-
 ep-b="&#108;&#98;&#64;&#111;&#114;"></span></span></span></span><script>Reg
 ularLabs.EmailProtector.unCloak("ep_9beaabc5");</script><br />Telecopie : 0
 608855252<ul type="disc"><li>AMVM0111  Slalom Geant <nobr><i>(Micro Coupe)<
 /i></nobr> <nobr>U8/U10</nobr> Garçons<br />&nbsp;&nbsp;CLA  Prix du crédit
  Agricole - Mémorial Gilles Lemaire</li><li>AMVM0112  Slalom Geant <nobr><i
 >(Coupe de Bronze)</i></nobr> <nobr>U12/U14</nobr> Garçons<br />&nbsp;&nbsp
 ;CLA  Prix du crédit Agricole - Mémorial Gilles Lemaire</li><li>AMVF0111  S
 lalom Geant <nobr><i>(Micro Coupe)</i></nobr> <nobr>U8/U10</nobr> Filles<br
  />&nbsp;&nbsp;CLA  Prix du crédit Agricole - Mémorial Gilles Lemaire</li><
 li>AMVF0112  Slalom Geant <nobr><i>(Coupe de Bronze)</i></nobr> <nobr>U12/U
 14</nobr> Filles<br />&nbsp;&nbsp;CLA  Prix du crédit Agricole - Mémorial G
 illes Lemaire</li></ul> <a href="https://skivosges.net/agenda/export-synchr
 onisation/detailevenement/459/-/cla-prix-du-credit-agricole-memorial-gilles
 -lemaire-reporte?tmpl=component">Cet évènement a été importé depuis :https:
 //skivosges.net/agenda/export-synchronisation/detailevenement/459/-/cla-pri
 x-du-credit-agricole-memorial-gilles-lemaire-reporte?tmpl=component</a>DTSTAMP:20260421T014219
DTSTART;TZID=Europe/Paris:20160103T080000
DTEND;TZID=Europe/Paris:20160103T170000
SEQUENCE:0
TRANSP:OPAQUE
END:VEVENT
END:VCALENDAR