BEGIN:VCALENDAR
VERSION:2.0
PRODID:-//jEvents 2.0 for Joomla//EN
CALSCALE:GREGORIAN
METHOD:PUBLISH
BEGIN:VTIMEZONE
TZID:Europe/Paris
BEGIN:STANDARD
DTSTART:20150102T080000
RDATE:20150329T030000
TZOFFSETFROM:+0200
TZOFFSETTO:+0100
TZNAME:Europe/Paris CET
END:STANDARD
BEGIN:STANDARD
DTSTART:20151025T020000
RDATE:20160327T030000
TZOFFSETFROM:+0200
TZOFFSETTO:+0100
TZNAME:Europe/Paris CET
END:STANDARD
BEGIN:STANDARD
DTSTART:20161030T020000
RDATE:20170326T030000
TZOFFSETFROM:+0200
TZOFFSETTO:+0100
TZNAME:Europe/Paris CET
END:STANDARD
BEGIN:STANDARD
DTSTART:20171029T020000
RDATE:20180325T030000
TZOFFSETFROM:+0200
TZOFFSETTO:+0100
TZNAME:Europe/Paris CET
END:STANDARD
BEGIN:STANDARD
DTSTART:20181028T020000
RDATE:20190331T030000
TZOFFSETFROM:+0200
TZOFFSETTO:+0100
TZNAME:Europe/Paris CET
END:STANDARD
BEGIN:STANDARD
DTSTART:20191027T020000
RDATE:20200329T030000
TZOFFSETFROM:+0200
TZOFFSETTO:+0100
TZNAME:Europe/Paris CET
END:STANDARD
BEGIN:STANDARD
DTSTART:20201025T020000
RDATE:20210328T030000
TZOFFSETFROM:+0200
TZOFFSETTO:+0100
TZNAME:Europe/Paris CET
END:STANDARD
BEGIN:STANDARD
DTSTART:20211031T020000
RDATE:20220327T030000
TZOFFSETFROM:+0200
TZOFFSETTO:+0100
TZNAME:Europe/Paris CET
END:STANDARD
BEGIN:STANDARD
DTSTART:20221030T020000
RDATE:20230326T030000
TZOFFSETFROM:+0200
TZOFFSETTO:+0100
TZNAME:Europe/Paris CET
END:STANDARD
BEGIN:STANDARD
DTSTART:20231029T020000
RDATE:20240331T030000
TZOFFSETFROM:+0200
TZOFFSETTO:+0100
TZNAME:Europe/Paris CET
END:STANDARD
BEGIN:STANDARD
DTSTART:20241027T020000
RDATE:20250330T030000
TZOFFSETFROM:+0200
TZOFFSETTO:+0100
TZNAME:Europe/Paris CET
END:STANDARD
BEGIN:STANDARD
DTSTART:20251026T020000
RDATE:20260329T030000
TZOFFSETFROM:+0200
TZOFFSETTO:+0100
TZNAME:Europe/Paris CET
END:STANDARD
BEGIN:STANDARD
DTSTART:20261025T020000
RDATE:20270328T030000
TZOFFSETFROM:+0200
TZOFFSETTO:+0100
TZNAME:Europe/Paris CET
END:STANDARD
BEGIN:DAYLIGHT
DTSTART:20150329T030000
RDATE:20151025T020000
TZOFFSETFROM:+0100
TZOFFSETTO:+0200
TZNAME:Europe/Paris CEST
END:DAYLIGHT
BEGIN:DAYLIGHT
DTSTART:20160327T030000
RDATE:20161030T020000
TZOFFSETFROM:+0100
TZOFFSETTO:+0200
TZNAME:Europe/Paris CEST
END:DAYLIGHT
BEGIN:DAYLIGHT
DTSTART:20170326T030000
RDATE:20171029T020000
TZOFFSETFROM:+0100
TZOFFSETTO:+0200
TZNAME:Europe/Paris CEST
END:DAYLIGHT
BEGIN:DAYLIGHT
DTSTART:20180325T030000
RDATE:20181028T020000
TZOFFSETFROM:+0100
TZOFFSETTO:+0200
TZNAME:Europe/Paris CEST
END:DAYLIGHT
BEGIN:DAYLIGHT
DTSTART:20190331T030000
RDATE:20191027T020000
TZOFFSETFROM:+0100
TZOFFSETTO:+0200
TZNAME:Europe/Paris CEST
END:DAYLIGHT
BEGIN:DAYLIGHT
DTSTART:20200329T030000
RDATE:20201025T020000
TZOFFSETFROM:+0100
TZOFFSETTO:+0200
TZNAME:Europe/Paris CEST
END:DAYLIGHT
BEGIN:DAYLIGHT
DTSTART:20210328T030000
RDATE:20211031T020000
TZOFFSETFROM:+0100
TZOFFSETTO:+0200
TZNAME:Europe/Paris CEST
END:DAYLIGHT
BEGIN:DAYLIGHT
DTSTART:20220327T030000
RDATE:20221030T020000
TZOFFSETFROM:+0100
TZOFFSETTO:+0200
TZNAME:Europe/Paris CEST
END:DAYLIGHT
BEGIN:DAYLIGHT
DTSTART:20230326T030000
RDATE:20231029T020000
TZOFFSETFROM:+0100
TZOFFSETTO:+0200
TZNAME:Europe/Paris CEST
END:DAYLIGHT
BEGIN:DAYLIGHT
DTSTART:20240331T030000
RDATE:20241027T020000
TZOFFSETFROM:+0100
TZOFFSETTO:+0200
TZNAME:Europe/Paris CEST
END:DAYLIGHT
BEGIN:DAYLIGHT
DTSTART:20250330T030000
RDATE:20251026T020000
TZOFFSETFROM:+0100
TZOFFSETTO:+0200
TZNAME:Europe/Paris CEST
END:DAYLIGHT
BEGIN:DAYLIGHT
DTSTART:20260329T030000
RDATE:20261025T020000
TZOFFSETFROM:+0100
TZOFFSETTO:+0200
TZNAME:Europe/Paris CEST
END:DAYLIGHT
END:VTIMEZONE
BEGIN:VEVENT
UID:271c197a84b1b06bba2a49b2bca252f0
CATEGORIES:Circuit Alsace Jeunes (alpin)
CREATED:20151110T133951
SUMMARY:CAJ  U8 à U10 / U12 à U14  Prix de la Clinique du Ski/Crédit Agricole **REPORTE**
URL;VALUE=URI:https://skivosges.net/agenda/export-synchronisation/detailevenement/460/-/c
 aj-u8-a-u10-u12-a-u14-prix-de-la-clinique-du-ski-credit-agricole-reporte?tm
 pl=component
DESCRIPTION:CAJ  U8 à U10 / U12 à U14  Prix de la Clinique du Ski/Crédit Agricole (Epre
 uve reportée) \n(Coupe d'Alsace Jeunes)\n\nLieu : MARKSTEIN\nPiste : Stade 
 de Slalom\nOrganisateur : SKI CLUB SAUSHEIM (14231 SKI CLUB SAUSHEIM)\nEmai
 l : RegularLabs.EmailProtector.unCloak("ep_fcd49c5b");\nTelecopie : 0676974
 091\n\nAttention 2 Manches de géant\n\nInscriptions en cours sur ce site\n 
 - Le 03/01/2016 à 00:00:00\nAMVM0101  Slalom (Micro Coupe) U8/U10 Garçons\n
   CAJ  U8 à U10 / U12 à U14  Prix de la Clinique du Ski/Crédit Agricole\n -
  Le 03/01/2016 à 00:00:00\nAMVM0102  Slalom (Coupe de Bronze) U12/U14 Garço
 ns\n  CAJ  U8 à U10 / U12 à U14  Prix de la Clinique du Ski/Crédit Agricole
 \n - Le 03/01/2016 à 00:00:00\nAMVF0101  Slalom (Micro Coupe) U8/U10 Filles
 \n  CAJ  U8 à U10 / U12 à U14  Prix de la Clinique du Ski/Crédit Agricole\n
  - Le 03/01/2016 à 00:00:00\nAMVF0102  Slalom (Coupe de Bronze) U12/U14 Fil
 les\n  CAJ  U8 à U10 / U12 à U14  Prix de la Clinique du Ski/Crédit Agricol
 e Cet évènement a été importé depuis :https://skivosges.net/agenda/export-s
 ynchronisation/detailevenement/460/-/caj-u8-a-u10-u12-a-u14-prix-de-la-clin
 ique-du-ski-credit-agricole-reporte?tmpl=component
X-ALT-DESC;FMTTYPE=text/html:<strong>CAJ  U8 à U10 / U12 à U14  Prix de la Clinique du Ski/Crédit Agrico
 le</strong> <font class="attention4">(Epreuve reportée)</font> <br /><i>(Co
 upe d'Alsace Jeunes)</i><br /><br />Lieu : MARKSTEIN<br />Piste : Stade de 
 Slalom<br />Organisateur : SKI CLUB SAUSHEIM <small>(14231 SKI CLUB SAUSHEI
 M)</small><br />Email : <!-- Cette adresse électronique est protégée contre
  les robots spammeurs. --><span class="cloaked_email ep_fcd49c5b"><span dat
 a-ep-b="" data-ep-a="&#98;.&#104;a"><span data-ep-b="o&#46;&#102;r" data-ep
 -a="&#98;&#101;&#114;e"><span data-ep-b="&#110;ado" data-ep-a="r&#64;&#119;
 a"></span></span></span></span><script>RegularLabs.EmailProtector.unCloak("
 ep_fcd49c5b");</script><br />Telecopie : 0676974091<br /><br />Attention 2 
 Manches de géant<br /><br />Inscriptions en cours sur ce site<ul type="disc
 "><li><nobr>Le 03/01/2016 à 00:00:00</nobr><br />AMVM0101  Slalom <nobr><i>
 (Micro Coupe)</i></nobr> <nobr>U8/U10</nobr> Garçons<br />&nbsp;&nbsp;CAJ  
 U8 à U10 / U12 à U14  Prix de la Clinique du Ski/Crédit Agricole</li><li><n
 obr>Le 03/01/2016 à 00:00:00</nobr><br />AMVM0102  Slalom <nobr><i>(Coupe d
 e Bronze)</i></nobr> <nobr>U12/U14</nobr> Garçons<br />&nbsp;&nbsp;CAJ  U8 
 à U10 / U12 à U14  Prix de la Clinique du Ski/Crédit Agricole</li><li><nobr
 >Le 03/01/2016 à 00:00:00</nobr><br />AMVF0101  Slalom <nobr><i>(Micro Coup
 e)</i></nobr> <nobr>U8/U10</nobr> Filles<br />&nbsp;&nbsp;CAJ  U8 à U10 / U
 12 à U14  Prix de la Clinique du Ski/Crédit Agricole</li><li><nobr>Le 03/01
 /2016 à 00:00:00</nobr><br />AMVF0102  Slalom <nobr><i>(Coupe de Bronze)</i
 ></nobr> <nobr>U12/U14</nobr> Filles<br />&nbsp;&nbsp;CAJ  U8 à U10 / U12 à
  U14  Prix de la Clinique du Ski/Crédit Agricole</li></ul> <a href="https:/
 /skivosges.net/agenda/export-synchronisation/detailevenement/460/-/caj-u8-a
 -u10-u12-a-u14-prix-de-la-clinique-du-ski-credit-agricole-reporte?tmpl=comp
 onent">Cet évènement a été importé depuis :https://skivosges.net/agenda/exp
 ort-synchronisation/detailevenement/460/-/caj-u8-a-u10-u12-a-u14-prix-de-la
 -clinique-du-ski-credit-agricole-reporte?tmpl=component</a>DTSTAMP:20260421T014337
DTSTART;TZID=Europe/Paris:20160103T080000
DTEND;TZID=Europe/Paris:20160131T170000
SEQUENCE:0
TRANSP:OPAQUE
END:VEVENT
END:VCALENDAR