BEGIN:VCALENDAR
VERSION:2.0
PRODID:-//jEvents 2.0 for Joomla//EN
CALSCALE:GREGORIAN
METHOD:PUBLISH
BEGIN:VTIMEZONE
TZID:Europe/Paris
BEGIN:STANDARD
DTSTART:20150107T080000
RDATE:20150329T030000
TZOFFSETFROM:+0200
TZOFFSETTO:+0100
TZNAME:Europe/Paris CET
END:STANDARD
BEGIN:STANDARD
DTSTART:20151025T020000
RDATE:20160327T030000
TZOFFSETFROM:+0200
TZOFFSETTO:+0100
TZNAME:Europe/Paris CET
END:STANDARD
BEGIN:STANDARD
DTSTART:20161030T020000
RDATE:20170326T030000
TZOFFSETFROM:+0200
TZOFFSETTO:+0100
TZNAME:Europe/Paris CET
END:STANDARD
BEGIN:STANDARD
DTSTART:20171029T020000
RDATE:20180325T030000
TZOFFSETFROM:+0200
TZOFFSETTO:+0100
TZNAME:Europe/Paris CET
END:STANDARD
BEGIN:STANDARD
DTSTART:20181028T020000
RDATE:20190331T030000
TZOFFSETFROM:+0200
TZOFFSETTO:+0100
TZNAME:Europe/Paris CET
END:STANDARD
BEGIN:STANDARD
DTSTART:20191027T020000
RDATE:20200329T030000
TZOFFSETFROM:+0200
TZOFFSETTO:+0100
TZNAME:Europe/Paris CET
END:STANDARD
BEGIN:STANDARD
DTSTART:20201025T020000
RDATE:20210328T030000
TZOFFSETFROM:+0200
TZOFFSETTO:+0100
TZNAME:Europe/Paris CET
END:STANDARD
BEGIN:STANDARD
DTSTART:20211031T020000
RDATE:20220327T030000
TZOFFSETFROM:+0200
TZOFFSETTO:+0100
TZNAME:Europe/Paris CET
END:STANDARD
BEGIN:STANDARD
DTSTART:20221030T020000
RDATE:20230326T030000
TZOFFSETFROM:+0200
TZOFFSETTO:+0100
TZNAME:Europe/Paris CET
END:STANDARD
BEGIN:STANDARD
DTSTART:20231029T020000
RDATE:20240331T030000
TZOFFSETFROM:+0200
TZOFFSETTO:+0100
TZNAME:Europe/Paris CET
END:STANDARD
BEGIN:STANDARD
DTSTART:20241027T020000
RDATE:20250330T030000
TZOFFSETFROM:+0200
TZOFFSETTO:+0100
TZNAME:Europe/Paris CET
END:STANDARD
BEGIN:STANDARD
DTSTART:20251026T020000
RDATE:20260329T030000
TZOFFSETFROM:+0200
TZOFFSETTO:+0100
TZNAME:Europe/Paris CET
END:STANDARD
BEGIN:STANDARD
DTSTART:20261025T020000
RDATE:20270328T030000
TZOFFSETFROM:+0200
TZOFFSETTO:+0100
TZNAME:Europe/Paris CET
END:STANDARD
BEGIN:DAYLIGHT
DTSTART:20150329T030000
RDATE:20151025T020000
TZOFFSETFROM:+0100
TZOFFSETTO:+0200
TZNAME:Europe/Paris CEST
END:DAYLIGHT
BEGIN:DAYLIGHT
DTSTART:20160327T030000
RDATE:20161030T020000
TZOFFSETFROM:+0100
TZOFFSETTO:+0200
TZNAME:Europe/Paris CEST
END:DAYLIGHT
BEGIN:DAYLIGHT
DTSTART:20170326T030000
RDATE:20171029T020000
TZOFFSETFROM:+0100
TZOFFSETTO:+0200
TZNAME:Europe/Paris CEST
END:DAYLIGHT
BEGIN:DAYLIGHT
DTSTART:20180325T030000
RDATE:20181028T020000
TZOFFSETFROM:+0100
TZOFFSETTO:+0200
TZNAME:Europe/Paris CEST
END:DAYLIGHT
BEGIN:DAYLIGHT
DTSTART:20190331T030000
RDATE:20191027T020000
TZOFFSETFROM:+0100
TZOFFSETTO:+0200
TZNAME:Europe/Paris CEST
END:DAYLIGHT
BEGIN:DAYLIGHT
DTSTART:20200329T030000
RDATE:20201025T020000
TZOFFSETFROM:+0100
TZOFFSETTO:+0200
TZNAME:Europe/Paris CEST
END:DAYLIGHT
BEGIN:DAYLIGHT
DTSTART:20210328T030000
RDATE:20211031T020000
TZOFFSETFROM:+0100
TZOFFSETTO:+0200
TZNAME:Europe/Paris CEST
END:DAYLIGHT
BEGIN:DAYLIGHT
DTSTART:20220327T030000
RDATE:20221030T020000
TZOFFSETFROM:+0100
TZOFFSETTO:+0200
TZNAME:Europe/Paris CEST
END:DAYLIGHT
BEGIN:DAYLIGHT
DTSTART:20230326T030000
RDATE:20231029T020000
TZOFFSETFROM:+0100
TZOFFSETTO:+0200
TZNAME:Europe/Paris CEST
END:DAYLIGHT
BEGIN:DAYLIGHT
DTSTART:20240331T030000
RDATE:20241027T020000
TZOFFSETFROM:+0100
TZOFFSETTO:+0200
TZNAME:Europe/Paris CEST
END:DAYLIGHT
BEGIN:DAYLIGHT
DTSTART:20250330T030000
RDATE:20251026T020000
TZOFFSETFROM:+0100
TZOFFSETTO:+0200
TZNAME:Europe/Paris CEST
END:DAYLIGHT
BEGIN:DAYLIGHT
DTSTART:20260329T030000
RDATE:20261025T020000
TZOFFSETFROM:+0100
TZOFFSETTO:+0200
TZNAME:Europe/Paris CEST
END:DAYLIGHT
END:VTIMEZONE
BEGIN:VEVENT
UID:e3993eef9b55b2ecd936803440a4ed81
CATEGORIES:Circuit Massif Masters (alpin)
CREATED:20151110T133951
SUMMARY:GPM     Masters + open U16    GP Wolfberger **REPORTE**
URL;VALUE=URI:https://skivosges.net/agenda/export-synchronisation/detailevenement/463/-/g
 pm-masters-open-u16-gp-wolfberger-reporte?tmpl=component
DESCRIPTION:GPM     Masters + open U16    GP Wolfberger (Epreuve reportée, date à deter
 miner) \n(Grand Prix Masters)\n\nLieu : MARKSTEIN\nOrganisateur : S.C.O.S.E
 .G. GUEBWILLER (14356 S.C.O.S.E.G. GUEBWILLER)\nEmail : RegularLabs.EmailPr
 otector.unCloak("ep_41ab6e84");\n - AMVM0151  Slalom U16 Garçons\n  GPM    
  Masters + open U16    GP Wolfberger\n - AMVM0152  Slalom (Courses Masters)
  Tous les Masters Hommes\n  GPM     Masters + open U16    GP Wolfberger\n -
  AMVF0151  Slalom U16 Filles\n  GPM     Masters + open U16    GP Wolfberger
 \n - AMVF0152  Slalom (Courses Masters) Tous les Masters Dames\n  GPM     M
 asters + open U16    GP Wolfberger Cet évènement a été importé depuis :http
 s://skivosges.net/agenda/export-synchronisation/detailevenement/463/-/gpm-m
 asters-open-u16-gp-wolfberger-reporte?tmpl=component
X-ALT-DESC;FMTTYPE=text/html:<strong>GPM     Masters + open U16    GP Wolfberger</strong> <font class="a
 ttention4">(Epreuve reportée, date à determiner)</font> <br /><i>(Grand Pri
 x Masters)</i><br /><br />Lieu : MARKSTEIN<br />Organisateur : S.C.O.S.E.G.
  GUEBWILLER <small>(14356 S.C.O.S.E.G. GUEBWILLER)</small><br />Email : <!-
 - Cette adresse électronique est protégée contre les robots spammeurs. --><
 span class="cloaked_email ep_41ab6e84"><span data-ep-b="&#102;r" data-ep-a=
 "&#103;&#101;&#110;g"><span data-ep-a=".cla" data-ep-b="&#100;o&#111;."><sp
 an data-ep-a="&#117;d&#101;&#64;" data-ep-b="w&#97;&#110;a"></span></span><
 /span></span><script>RegularLabs.EmailProtector.unCloak("ep_41ab6e84");</sc
 ript><ul type="disc"><li>AMVM0151  Slalom <nobr>U16</nobr> Garçons<br />&nb
 sp;&nbsp;GPM     Masters + open U16    GP Wolfberger</li><li>AMVM0152  Slal
 om <nobr><i>(Courses Masters)</i></nobr> <nobr>Tous les Masters</nobr> Homm
 es<br />&nbsp;&nbsp;GPM     Masters + open U16    GP Wolfberger</li><li>AMV
 F0151  Slalom <nobr>U16</nobr> Filles<br />&nbsp;&nbsp;GPM     Masters + op
 en U16    GP Wolfberger</li><li>AMVF0152  Slalom <nobr><i>(Courses Masters)
 </i></nobr> <nobr>Tous les Masters</nobr> Dames<br />&nbsp;&nbsp;GPM     Ma
 sters + open U16    GP Wolfberger</li></ul> <a href="https://skivosges.net/
 agenda/export-synchronisation/detailevenement/463/-/gpm-masters-open-u16-gp
 -wolfberger-reporte?tmpl=component">Cet évènement a été importé depuis :htt
 ps://skivosges.net/agenda/export-synchronisation/detailevenement/463/-/gpm-
 masters-open-u16-gp-wolfberger-reporte?tmpl=component</a>DTSTAMP:20260421T045808
DTSTART;TZID=Europe/Paris:20160108T080000
DTEND;TZID=Europe/Paris:20160108T170000
SEQUENCE:0
TRANSP:OPAQUE
END:VEVENT
END:VCALENDAR