BEGIN:VCALENDAR
VERSION:2.0
PRODID:-//jEvents 2.0 for Joomla//EN
CALSCALE:GREGORIAN
METHOD:PUBLISH
BEGIN:VTIMEZONE
TZID:Europe/Paris
BEGIN:STANDARD
DTSTART:20150108T080000
RDATE:20150329T030000
TZOFFSETFROM:+0200
TZOFFSETTO:+0100
TZNAME:Europe/Paris CET
END:STANDARD
BEGIN:STANDARD
DTSTART:20151025T020000
RDATE:20160327T030000
TZOFFSETFROM:+0200
TZOFFSETTO:+0100
TZNAME:Europe/Paris CET
END:STANDARD
BEGIN:STANDARD
DTSTART:20161030T020000
RDATE:20170326T030000
TZOFFSETFROM:+0200
TZOFFSETTO:+0100
TZNAME:Europe/Paris CET
END:STANDARD
BEGIN:STANDARD
DTSTART:20171029T020000
RDATE:20180325T030000
TZOFFSETFROM:+0200
TZOFFSETTO:+0100
TZNAME:Europe/Paris CET
END:STANDARD
BEGIN:STANDARD
DTSTART:20181028T020000
RDATE:20190331T030000
TZOFFSETFROM:+0200
TZOFFSETTO:+0100
TZNAME:Europe/Paris CET
END:STANDARD
BEGIN:STANDARD
DTSTART:20191027T020000
RDATE:20200329T030000
TZOFFSETFROM:+0200
TZOFFSETTO:+0100
TZNAME:Europe/Paris CET
END:STANDARD
BEGIN:STANDARD
DTSTART:20201025T020000
RDATE:20210328T030000
TZOFFSETFROM:+0200
TZOFFSETTO:+0100
TZNAME:Europe/Paris CET
END:STANDARD
BEGIN:STANDARD
DTSTART:20211031T020000
RDATE:20220327T030000
TZOFFSETFROM:+0200
TZOFFSETTO:+0100
TZNAME:Europe/Paris CET
END:STANDARD
BEGIN:STANDARD
DTSTART:20221030T020000
RDATE:20230326T030000
TZOFFSETFROM:+0200
TZOFFSETTO:+0100
TZNAME:Europe/Paris CET
END:STANDARD
BEGIN:STANDARD
DTSTART:20231029T020000
RDATE:20240331T030000
TZOFFSETFROM:+0200
TZOFFSETTO:+0100
TZNAME:Europe/Paris CET
END:STANDARD
BEGIN:STANDARD
DTSTART:20241027T020000
RDATE:20250330T030000
TZOFFSETFROM:+0200
TZOFFSETTO:+0100
TZNAME:Europe/Paris CET
END:STANDARD
BEGIN:STANDARD
DTSTART:20251026T020000
RDATE:20260329T030000
TZOFFSETFROM:+0200
TZOFFSETTO:+0100
TZNAME:Europe/Paris CET
END:STANDARD
BEGIN:STANDARD
DTSTART:20261025T020000
RDATE:20270328T030000
TZOFFSETFROM:+0200
TZOFFSETTO:+0100
TZNAME:Europe/Paris CET
END:STANDARD
BEGIN:DAYLIGHT
DTSTART:20150329T030000
RDATE:20151025T020000
TZOFFSETFROM:+0100
TZOFFSETTO:+0200
TZNAME:Europe/Paris CEST
END:DAYLIGHT
BEGIN:DAYLIGHT
DTSTART:20160327T030000
RDATE:20161030T020000
TZOFFSETFROM:+0100
TZOFFSETTO:+0200
TZNAME:Europe/Paris CEST
END:DAYLIGHT
BEGIN:DAYLIGHT
DTSTART:20170326T030000
RDATE:20171029T020000
TZOFFSETFROM:+0100
TZOFFSETTO:+0200
TZNAME:Europe/Paris CEST
END:DAYLIGHT
BEGIN:DAYLIGHT
DTSTART:20180325T030000
RDATE:20181028T020000
TZOFFSETFROM:+0100
TZOFFSETTO:+0200
TZNAME:Europe/Paris CEST
END:DAYLIGHT
BEGIN:DAYLIGHT
DTSTART:20190331T030000
RDATE:20191027T020000
TZOFFSETFROM:+0100
TZOFFSETTO:+0200
TZNAME:Europe/Paris CEST
END:DAYLIGHT
BEGIN:DAYLIGHT
DTSTART:20200329T030000
RDATE:20201025T020000
TZOFFSETFROM:+0100
TZOFFSETTO:+0200
TZNAME:Europe/Paris CEST
END:DAYLIGHT
BEGIN:DAYLIGHT
DTSTART:20210328T030000
RDATE:20211031T020000
TZOFFSETFROM:+0100
TZOFFSETTO:+0200
TZNAME:Europe/Paris CEST
END:DAYLIGHT
BEGIN:DAYLIGHT
DTSTART:20220327T030000
RDATE:20221030T020000
TZOFFSETFROM:+0100
TZOFFSETTO:+0200
TZNAME:Europe/Paris CEST
END:DAYLIGHT
BEGIN:DAYLIGHT
DTSTART:20230326T030000
RDATE:20231029T020000
TZOFFSETFROM:+0100
TZOFFSETTO:+0200
TZNAME:Europe/Paris CEST
END:DAYLIGHT
BEGIN:DAYLIGHT
DTSTART:20240331T030000
RDATE:20241027T020000
TZOFFSETFROM:+0100
TZOFFSETTO:+0200
TZNAME:Europe/Paris CEST
END:DAYLIGHT
BEGIN:DAYLIGHT
DTSTART:20250330T030000
RDATE:20251026T020000
TZOFFSETFROM:+0100
TZOFFSETTO:+0200
TZNAME:Europe/Paris CEST
END:DAYLIGHT
BEGIN:DAYLIGHT
DTSTART:20260329T030000
RDATE:20261025T020000
TZOFFSETFROM:+0100
TZOFFSETTO:+0200
TZNAME:Europe/Paris CEST
END:DAYLIGHT
END:VTIMEZONE
BEGIN:VEVENT
UID:9f65f9735cdd0799e0ba227726b3c96e
CATEGORIES:Circuit Massif Adultes (alpin)
CREATED:20151110T133951
SUMMARY:GPA   U16 à Masters **REPORTE**
URL;VALUE=URI:https://skivosges.net/agenda/export-synchronisation/detailevenement/464/-/g
 pa-u16-a-masters-reporte?tmpl=component
DESCRIPTION:GPA   U16 à Masters (Epreuve reportée, date à determiner) \n(Grand Prix Adu
 ltes)\n\nLieu : GERARDMER\nOrganisateur : GERARDMER SKI ALPIN (14089 GERARD
 MER SKI ALPIN)\nEmail : RegularLabs.EmailProtector.unCloak("ep_ce424f5e");\
 nTelecopie : 03 29 60 98 04\nTelecopie : 03 29 60 98 04\n\nInscriptions en 
 cours sur ce site\n - AMVM0161  Slalom (Courses FFS) U16 a Masters Hommes\n
   GPA   U16 à Masters\n - AMVF0161  Slalom (Courses FFS) U16 a Masters Dame
 s\n  GPA   U16 à Masters Cet évènement a été importé depuis :https://skivos
 ges.net/agenda/export-synchronisation/detailevenement/464/-/gpa-u16-a-maste
 rs-reporte?tmpl=component
X-ALT-DESC;FMTTYPE=text/html:<strong>GPA   U16 à Masters</strong> <font class="attention4">(Epreuve repo
 rtée, date à determiner)</font> <br /><i>(Grand Prix Adultes)</i><br /><br 
 />Lieu : GERARDMER<br />Organisateur : GERARDMER SKI ALPIN <small>(14089 GE
 RARDMER SKI ALPIN)</small><br />Email : <!-- Cette adresse électronique est
  protégée contre les robots spammeurs. --><span class="cloaked_email ep_ce4
 24f5e"><span data-ep-b="&#114;" data-ep-a="&#97;s&#103;s&#107;"><span data-
 ep-a="&#105;&#46;&#103;e&#114;" data-ep-b="ng&#101;.&#102;"><span data-ep-a
 ="&#97;r&#100;me" data-ep-b="&#114;&#64;&#111;&#114;a"></span></span></span
 ></span><script>RegularLabs.EmailProtector.unCloak("ep_ce424f5e");</script>
 <br />Telecopie : 03 29 60 98 04<br />Telecopie : 03 29 60 98 04<br /><br /
 >Inscriptions en cours sur ce site<ul type="disc"><li>AMVM0161  Slalom <nob
 r><i>(Courses FFS)</i></nobr> <nobr>U16 a Masters</nobr> Hommes<br />&nbsp;
 &nbsp;GPA   U16 à Masters</li><li>AMVF0161  Slalom <nobr><i>(Courses FFS)</
 i></nobr> <nobr>U16 a Masters</nobr> Dames<br />&nbsp;&nbsp;GPA   U16 à Mas
 ters</li></ul> <a href="https://skivosges.net/agenda/export-synchronisation
 /detailevenement/464/-/gpa-u16-a-masters-reporte?tmpl=component">Cet évènem
 ent a été importé depuis :https://skivosges.net/agenda/export-synchronisati
 on/detailevenement/464/-/gpa-u16-a-masters-reporte?tmpl=component</a>DTSTAMP:20260420T220531
DTSTART;TZID=Europe/Paris:20160109T080000
DTEND;TZID=Europe/Paris:20160109T170000
SEQUENCE:0
TRANSP:OPAQUE
END:VEVENT
END:VCALENDAR