BEGIN:VCALENDAR
VERSION:2.0
PRODID:-//jEvents 2.0 for Joomla//EN
CALSCALE:GREGORIAN
METHOD:PUBLISH
BEGIN:VTIMEZONE
TZID:Europe/Paris
BEGIN:STANDARD
DTSTART:20150109T080000
RDATE:20150329T030000
TZOFFSETFROM:+0200
TZOFFSETTO:+0100
TZNAME:Europe/Paris CET
END:STANDARD
BEGIN:STANDARD
DTSTART:20151025T020000
RDATE:20160327T030000
TZOFFSETFROM:+0200
TZOFFSETTO:+0100
TZNAME:Europe/Paris CET
END:STANDARD
BEGIN:STANDARD
DTSTART:20161030T020000
RDATE:20170326T030000
TZOFFSETFROM:+0200
TZOFFSETTO:+0100
TZNAME:Europe/Paris CET
END:STANDARD
BEGIN:STANDARD
DTSTART:20171029T020000
RDATE:20180325T030000
TZOFFSETFROM:+0200
TZOFFSETTO:+0100
TZNAME:Europe/Paris CET
END:STANDARD
BEGIN:STANDARD
DTSTART:20181028T020000
RDATE:20190331T030000
TZOFFSETFROM:+0200
TZOFFSETTO:+0100
TZNAME:Europe/Paris CET
END:STANDARD
BEGIN:STANDARD
DTSTART:20191027T020000
RDATE:20200329T030000
TZOFFSETFROM:+0200
TZOFFSETTO:+0100
TZNAME:Europe/Paris CET
END:STANDARD
BEGIN:STANDARD
DTSTART:20201025T020000
RDATE:20210328T030000
TZOFFSETFROM:+0200
TZOFFSETTO:+0100
TZNAME:Europe/Paris CET
END:STANDARD
BEGIN:STANDARD
DTSTART:20211031T020000
RDATE:20220327T030000
TZOFFSETFROM:+0200
TZOFFSETTO:+0100
TZNAME:Europe/Paris CET
END:STANDARD
BEGIN:STANDARD
DTSTART:20221030T020000
RDATE:20230326T030000
TZOFFSETFROM:+0200
TZOFFSETTO:+0100
TZNAME:Europe/Paris CET
END:STANDARD
BEGIN:STANDARD
DTSTART:20231029T020000
RDATE:20240331T030000
TZOFFSETFROM:+0200
TZOFFSETTO:+0100
TZNAME:Europe/Paris CET
END:STANDARD
BEGIN:STANDARD
DTSTART:20241027T020000
RDATE:20250330T030000
TZOFFSETFROM:+0200
TZOFFSETTO:+0100
TZNAME:Europe/Paris CET
END:STANDARD
BEGIN:STANDARD
DTSTART:20251026T020000
RDATE:20260329T030000
TZOFFSETFROM:+0200
TZOFFSETTO:+0100
TZNAME:Europe/Paris CET
END:STANDARD
BEGIN:STANDARD
DTSTART:20261025T020000
RDATE:20270328T030000
TZOFFSETFROM:+0200
TZOFFSETTO:+0100
TZNAME:Europe/Paris CET
END:STANDARD
BEGIN:DAYLIGHT
DTSTART:20150329T030000
RDATE:20151025T020000
TZOFFSETFROM:+0100
TZOFFSETTO:+0200
TZNAME:Europe/Paris CEST
END:DAYLIGHT
BEGIN:DAYLIGHT
DTSTART:20160327T030000
RDATE:20161030T020000
TZOFFSETFROM:+0100
TZOFFSETTO:+0200
TZNAME:Europe/Paris CEST
END:DAYLIGHT
BEGIN:DAYLIGHT
DTSTART:20170326T030000
RDATE:20171029T020000
TZOFFSETFROM:+0100
TZOFFSETTO:+0200
TZNAME:Europe/Paris CEST
END:DAYLIGHT
BEGIN:DAYLIGHT
DTSTART:20180325T030000
RDATE:20181028T020000
TZOFFSETFROM:+0100
TZOFFSETTO:+0200
TZNAME:Europe/Paris CEST
END:DAYLIGHT
BEGIN:DAYLIGHT
DTSTART:20190331T030000
RDATE:20191027T020000
TZOFFSETFROM:+0100
TZOFFSETTO:+0200
TZNAME:Europe/Paris CEST
END:DAYLIGHT
BEGIN:DAYLIGHT
DTSTART:20200329T030000
RDATE:20201025T020000
TZOFFSETFROM:+0100
TZOFFSETTO:+0200
TZNAME:Europe/Paris CEST
END:DAYLIGHT
BEGIN:DAYLIGHT
DTSTART:20210328T030000
RDATE:20211031T020000
TZOFFSETFROM:+0100
TZOFFSETTO:+0200
TZNAME:Europe/Paris CEST
END:DAYLIGHT
BEGIN:DAYLIGHT
DTSTART:20220327T030000
RDATE:20221030T020000
TZOFFSETFROM:+0100
TZOFFSETTO:+0200
TZNAME:Europe/Paris CEST
END:DAYLIGHT
BEGIN:DAYLIGHT
DTSTART:20230326T030000
RDATE:20231029T020000
TZOFFSETFROM:+0100
TZOFFSETTO:+0200
TZNAME:Europe/Paris CEST
END:DAYLIGHT
BEGIN:DAYLIGHT
DTSTART:20240331T030000
RDATE:20241027T020000
TZOFFSETFROM:+0100
TZOFFSETTO:+0200
TZNAME:Europe/Paris CEST
END:DAYLIGHT
BEGIN:DAYLIGHT
DTSTART:20250330T030000
RDATE:20251026T020000
TZOFFSETFROM:+0100
TZOFFSETTO:+0200
TZNAME:Europe/Paris CEST
END:DAYLIGHT
BEGIN:DAYLIGHT
DTSTART:20260329T030000
RDATE:20261025T020000
TZOFFSETFROM:+0100
TZOFFSETTO:+0200
TZNAME:Europe/Paris CEST
END:DAYLIGHT
END:VTIMEZONE
BEGIN:VEVENT
UID:20389383055259fd0b072fdf6ff3e6d3
CATEGORIES:Circuit Lorraine Jeunes (alpin)
CREATED:20151110T133951
SUMMARY:CLJ    U8 à U10 / U12 à U14   Prix CEERI **REPORTE**
URL;VALUE=URI:https://skivosges.net/agenda/export-synchronisation/detailevenement/467/-/c
 lj-u8-a-u10-u12-a-u14-prix-ceeri-reporte?tmpl=component
DESCRIPTION:CLJ    U8 à U10 / U12 à U14   Prix CEERI (Epreuve reportée) \n(Coupe de Lor
 raine Jeunes)\n\nLieu : FRERE JOSEPH\nOrganisateur : U.S VENTRON (14083 U.S
  VENTRON)\nEmail : RegularLabs.EmailProtector.unCloak("ep_3edbff6f");\n - A
 MVM0201  Slalom (Micro Coupe) U8/U10 Garçons\n  CLJ    U8 à U10 / U12 à U14
    Prix CEERI\n - AMVM0202  Slalom (Coupe de Bronze) U12/U14 Garçons\n  CLJ
     U8 à U10 / U12 à U14   Prix CEERI\n - AMVF0201  Slalom (Micro Coupe) U8
 /U10 Filles\n  CLJ    U8 à U10 / U12 à U14   Prix CEERI\n - AMVF0202  Slalo
 m (Coupe de Bronze) U12/U14 Filles\n  CLJ    U8 à U10 / U12 à U14   Prix CE
 ERI Cet évènement a été importé depuis :https://skivosges.net/agenda/export
 -synchronisation/detailevenement/467/-/clj-u8-a-u10-u12-a-u14-prix-ceeri-re
 porte?tmpl=component
X-ALT-DESC;FMTTYPE=text/html:<strong>CLJ    U8 à U10 / U12 à U14   Prix CEERI</strong> <font class="atte
 ntion4">(Epreuve reportée)</font> <br /><i>(Coupe de Lorraine Jeunes)</i><b
 r /><br />Lieu : FRERE JOSEPH<br />Organisateur : U.S VENTRON <small>(14083
  U.S VENTRON)</small><br />Email : <!-- Cette adresse électronique est prot
 égée contre les robots spammeurs. --><span class="cloaked_email ep_3edbff6f
 "><span data-ep-a="st&#101;p&#104;" data-ep-b="&#108;e&#46;fr"><span data-e
 p-a="a&#110;&#101;&#46;&#103;" data-ep-b="&#114;i&#99;a&#98;"><span data-ep
 -a="i&#103;an&#116;" data-ep-b="&#64;&#110;&#117;me"></span></span></span><
 /span><script>RegularLabs.EmailProtector.unCloak("ep_3edbff6f");</script><u
 l type="disc"><li>AMVM0201  Slalom <nobr><i>(Micro Coupe)</i></nobr> <nobr>
 U8/U10</nobr> Garçons<br />&nbsp;&nbsp;CLJ    U8 à U10 / U12 à U14   Prix C
 EERI</li><li>AMVM0202  Slalom <nobr><i>(Coupe de Bronze)</i></nobr> <nobr>U
 12/U14</nobr> Garçons<br />&nbsp;&nbsp;CLJ    U8 à U10 / U12 à U14   Prix C
 EERI</li><li>AMVF0201  Slalom <nobr><i>(Micro Coupe)</i></nobr> <nobr>U8/U1
 0</nobr> Filles<br />&nbsp;&nbsp;CLJ    U8 à U10 / U12 à U14   Prix CEERI</
 li><li>AMVF0202  Slalom <nobr><i>(Coupe de Bronze)</i></nobr> <nobr>U12/U14
 </nobr> Filles<br />&nbsp;&nbsp;CLJ    U8 à U10 / U12 à U14   Prix CEERI</l
 i></ul> <a href="https://skivosges.net/agenda/export-synchronisation/detail
 evenement/467/-/clj-u8-a-u10-u12-a-u14-prix-ceeri-reporte?tmpl=component">C
 et évènement a été importé depuis :https://skivosges.net/agenda/export-sync
 hronisation/detailevenement/467/-/clj-u8-a-u10-u12-a-u14-prix-ceeri-reporte
 ?tmpl=component</a>DTSTAMP:20260420T220618
DTSTART;TZID=Europe/Paris:20160110T080000
DTEND;TZID=Europe/Paris:20160110T170000
SEQUENCE:0
TRANSP:OPAQUE
END:VEVENT
END:VCALENDAR