BEGIN:VCALENDAR
VERSION:2.0
PRODID:-//jEvents 2.0 for Joomla//EN
CALSCALE:GREGORIAN
METHOD:PUBLISH
BEGIN:VTIMEZONE
TZID:Europe/Paris
BEGIN:STANDARD
DTSTART:20150115T080000
RDATE:20150329T030000
TZOFFSETFROM:+0200
TZOFFSETTO:+0100
TZNAME:Europe/Paris CET
END:STANDARD
BEGIN:STANDARD
DTSTART:20151025T020000
RDATE:20160327T030000
TZOFFSETFROM:+0200
TZOFFSETTO:+0100
TZNAME:Europe/Paris CET
END:STANDARD
BEGIN:STANDARD
DTSTART:20161030T020000
RDATE:20170326T030000
TZOFFSETFROM:+0200
TZOFFSETTO:+0100
TZNAME:Europe/Paris CET
END:STANDARD
BEGIN:STANDARD
DTSTART:20171029T020000
RDATE:20180325T030000
TZOFFSETFROM:+0200
TZOFFSETTO:+0100
TZNAME:Europe/Paris CET
END:STANDARD
BEGIN:STANDARD
DTSTART:20181028T020000
RDATE:20190331T030000
TZOFFSETFROM:+0200
TZOFFSETTO:+0100
TZNAME:Europe/Paris CET
END:STANDARD
BEGIN:STANDARD
DTSTART:20191027T020000
RDATE:20200329T030000
TZOFFSETFROM:+0200
TZOFFSETTO:+0100
TZNAME:Europe/Paris CET
END:STANDARD
BEGIN:STANDARD
DTSTART:20201025T020000
RDATE:20210328T030000
TZOFFSETFROM:+0200
TZOFFSETTO:+0100
TZNAME:Europe/Paris CET
END:STANDARD
BEGIN:STANDARD
DTSTART:20211031T020000
RDATE:20220327T030000
TZOFFSETFROM:+0200
TZOFFSETTO:+0100
TZNAME:Europe/Paris CET
END:STANDARD
BEGIN:STANDARD
DTSTART:20221030T020000
RDATE:20230326T030000
TZOFFSETFROM:+0200
TZOFFSETTO:+0100
TZNAME:Europe/Paris CET
END:STANDARD
BEGIN:STANDARD
DTSTART:20231029T020000
RDATE:20240331T030000
TZOFFSETFROM:+0200
TZOFFSETTO:+0100
TZNAME:Europe/Paris CET
END:STANDARD
BEGIN:STANDARD
DTSTART:20241027T020000
RDATE:20250330T030000
TZOFFSETFROM:+0200
TZOFFSETTO:+0100
TZNAME:Europe/Paris CET
END:STANDARD
BEGIN:STANDARD
DTSTART:20251026T020000
RDATE:20260329T030000
TZOFFSETFROM:+0200
TZOFFSETTO:+0100
TZNAME:Europe/Paris CET
END:STANDARD
BEGIN:STANDARD
DTSTART:20261025T020000
RDATE:20270328T030000
TZOFFSETFROM:+0200
TZOFFSETTO:+0100
TZNAME:Europe/Paris CET
END:STANDARD
BEGIN:DAYLIGHT
DTSTART:20150329T030000
RDATE:20151025T020000
TZOFFSETFROM:+0100
TZOFFSETTO:+0200
TZNAME:Europe/Paris CEST
END:DAYLIGHT
BEGIN:DAYLIGHT
DTSTART:20160327T030000
RDATE:20161030T020000
TZOFFSETFROM:+0100
TZOFFSETTO:+0200
TZNAME:Europe/Paris CEST
END:DAYLIGHT
BEGIN:DAYLIGHT
DTSTART:20170326T030000
RDATE:20171029T020000
TZOFFSETFROM:+0100
TZOFFSETTO:+0200
TZNAME:Europe/Paris CEST
END:DAYLIGHT
BEGIN:DAYLIGHT
DTSTART:20180325T030000
RDATE:20181028T020000
TZOFFSETFROM:+0100
TZOFFSETTO:+0200
TZNAME:Europe/Paris CEST
END:DAYLIGHT
BEGIN:DAYLIGHT
DTSTART:20190331T030000
RDATE:20191027T020000
TZOFFSETFROM:+0100
TZOFFSETTO:+0200
TZNAME:Europe/Paris CEST
END:DAYLIGHT
BEGIN:DAYLIGHT
DTSTART:20200329T030000
RDATE:20201025T020000
TZOFFSETFROM:+0100
TZOFFSETTO:+0200
TZNAME:Europe/Paris CEST
END:DAYLIGHT
BEGIN:DAYLIGHT
DTSTART:20210328T030000
RDATE:20211031T020000
TZOFFSETFROM:+0100
TZOFFSETTO:+0200
TZNAME:Europe/Paris CEST
END:DAYLIGHT
BEGIN:DAYLIGHT
DTSTART:20220327T030000
RDATE:20221030T020000
TZOFFSETFROM:+0100
TZOFFSETTO:+0200
TZNAME:Europe/Paris CEST
END:DAYLIGHT
BEGIN:DAYLIGHT
DTSTART:20230326T030000
RDATE:20231029T020000
TZOFFSETFROM:+0100
TZOFFSETTO:+0200
TZNAME:Europe/Paris CEST
END:DAYLIGHT
BEGIN:DAYLIGHT
DTSTART:20240331T030000
RDATE:20241027T020000
TZOFFSETFROM:+0100
TZOFFSETTO:+0200
TZNAME:Europe/Paris CEST
END:DAYLIGHT
BEGIN:DAYLIGHT
DTSTART:20250330T030000
RDATE:20251026T020000
TZOFFSETFROM:+0100
TZOFFSETTO:+0200
TZNAME:Europe/Paris CEST
END:DAYLIGHT
BEGIN:DAYLIGHT
DTSTART:20260329T030000
RDATE:20261025T020000
TZOFFSETFROM:+0100
TZOFFSETTO:+0200
TZNAME:Europe/Paris CEST
END:DAYLIGHT
END:VTIMEZONE
BEGIN:VEVENT
UID:31fcf09c2fd84134e54bb655198c84a5
CATEGORIES:Opens et Promos (alpin)
CREATED:20151110T133951
SUMMARY:PROMO  U8 à U16     Haribo Kids Snow Cup 2016 **REPORTE**
URL;VALUE=URI:https://skivosges.net/agenda/export-synchronisation/detailevenement/474/-/p
 romo-u8-a-u16-haribo-kids-snow-cup-2016-reporte?tmpl=component
DESCRIPTION:PROMO  U8 à U16     Haribo Kids Snow Cup 2016 (Epreuve reportée, date à det
 erminer)\n\nLieu : MARKSTEIN\nOrganisateur : S.C VALLEE DE WESSERLING (1418
 6 S.C VALLEE DE WESSERLING)\nEmail : RegularLabs.EmailProtector.unCloak("ep
 _50f7a469");\nTelecopie : 03 89 82 78 08\n - AMVM0231  Slalom Geant U8/U10 
 Garçons\n  PROMO  U8 à U16     Haribo Kids Snow Cup 2016\n - AMVM0232  Slal
 om Geant U12 a U16 Garçons\n  PROMO  U8 à U16     Haribo Kids Snow Cup 2016
 \n - AMVF0231  Slalom Geant U8/U10 Filles\n  PROMO  U8 à U16     Haribo Kid
 s Snow Cup 2016\n - AMVF0232  Slalom Geant U10 a U16 Filles\n  PROMO  U8 à 
 U16     Haribo Kids Snow Cup 2016 Cet évènement a été importé depuis :https
 ://skivosges.net/agenda/export-synchronisation/detailevenement/474/-/promo-
 u8-a-u16-haribo-kids-snow-cup-2016-reporte?tmpl=component
X-ALT-DESC;FMTTYPE=text/html:<strong>PROMO  U8 à U16     Haribo Kids Snow Cup 2016</strong> <font class=
 "attention4">(Epreuve reportée, date à determiner)</font><br /><br />Lieu :
  MARKSTEIN<br />Organisateur : S.C VALLEE DE WESSERLING <small>(14186 S.C V
 ALLEE DE WESSERLING)</small><br />Email : <!-- Cette adresse électronique e
 st protégée contre les robots spammeurs. --><span class="cloaked_email ep_5
 0f7a469"><span data-ep-b="&#109;" data-ep-a="scvw"><span data-ep-b="&#108;.
 &#99;&#111;" data-ep-a="e&#115;s&#101;"><span data-ep-a="rl&#105;&#110;" da
 ta-ep-b="&#103;&#64;&#97;o"></span></span></span></span><script>RegularLabs
 .EmailProtector.unCloak("ep_50f7a469");</script><br />Telecopie : 03 89 82 
 78 08<ul type="disc"><li>AMVM0231  Slalom Geant <nobr>U8/U10</nobr> Garçons
 <br />&nbsp;&nbsp;PROMO  U8 à U16     Haribo Kids Snow Cup 2016</li><li>AMV
 M0232  Slalom Geant <nobr>U12 a U16</nobr> Garçons<br />&nbsp;&nbsp;PROMO  
 U8 à U16     Haribo Kids Snow Cup 2016</li><li>AMVF0231  Slalom Geant <nobr
 >U8/U10</nobr> Filles<br />&nbsp;&nbsp;PROMO  U8 à U16     Haribo Kids Snow
  Cup 2016</li><li>AMVF0232  Slalom Geant <nobr>U10 a U16</nobr> Filles<br /
 >&nbsp;&nbsp;PROMO  U8 à U16     Haribo Kids Snow Cup 2016</li></ul> <a hre
 f="https://skivosges.net/agenda/export-synchronisation/detailevenement/474/
 -/promo-u8-a-u16-haribo-kids-snow-cup-2016-reporte?tmpl=component">Cet évèn
 ement a été importé depuis :https://skivosges.net/agenda/export-synchronisa
 tion/detailevenement/474/-/promo-u8-a-u16-haribo-kids-snow-cup-2016-reporte
 ?tmpl=component</a>DTSTAMP:20260421T014204
DTSTART;TZID=Europe/Paris:20160116T080000
DTEND;TZID=Europe/Paris:20160116T170000
SEQUENCE:0
TRANSP:OPAQUE
END:VEVENT
END:VCALENDAR