BEGIN:VCALENDAR
VERSION:2.0
PRODID:-//jEvents 2.0 for Joomla//EN
CALSCALE:GREGORIAN
METHOD:PUBLISH
BEGIN:VTIMEZONE
TZID:Europe/Paris
BEGIN:STANDARD
DTSTART:20150116T080000
RDATE:20150329T030000
TZOFFSETFROM:+0200
TZOFFSETTO:+0100
TZNAME:Europe/Paris CET
END:STANDARD
BEGIN:STANDARD
DTSTART:20151025T020000
RDATE:20160327T030000
TZOFFSETFROM:+0200
TZOFFSETTO:+0100
TZNAME:Europe/Paris CET
END:STANDARD
BEGIN:STANDARD
DTSTART:20161030T020000
RDATE:20170326T030000
TZOFFSETFROM:+0200
TZOFFSETTO:+0100
TZNAME:Europe/Paris CET
END:STANDARD
BEGIN:STANDARD
DTSTART:20171029T020000
RDATE:20180325T030000
TZOFFSETFROM:+0200
TZOFFSETTO:+0100
TZNAME:Europe/Paris CET
END:STANDARD
BEGIN:STANDARD
DTSTART:20181028T020000
RDATE:20190331T030000
TZOFFSETFROM:+0200
TZOFFSETTO:+0100
TZNAME:Europe/Paris CET
END:STANDARD
BEGIN:STANDARD
DTSTART:20191027T020000
RDATE:20200329T030000
TZOFFSETFROM:+0200
TZOFFSETTO:+0100
TZNAME:Europe/Paris CET
END:STANDARD
BEGIN:STANDARD
DTSTART:20201025T020000
RDATE:20210328T030000
TZOFFSETFROM:+0200
TZOFFSETTO:+0100
TZNAME:Europe/Paris CET
END:STANDARD
BEGIN:STANDARD
DTSTART:20211031T020000
RDATE:20220327T030000
TZOFFSETFROM:+0200
TZOFFSETTO:+0100
TZNAME:Europe/Paris CET
END:STANDARD
BEGIN:STANDARD
DTSTART:20221030T020000
RDATE:20230326T030000
TZOFFSETFROM:+0200
TZOFFSETTO:+0100
TZNAME:Europe/Paris CET
END:STANDARD
BEGIN:STANDARD
DTSTART:20231029T020000
RDATE:20240331T030000
TZOFFSETFROM:+0200
TZOFFSETTO:+0100
TZNAME:Europe/Paris CET
END:STANDARD
BEGIN:STANDARD
DTSTART:20241027T020000
RDATE:20250330T030000
TZOFFSETFROM:+0200
TZOFFSETTO:+0100
TZNAME:Europe/Paris CET
END:STANDARD
BEGIN:STANDARD
DTSTART:20251026T020000
RDATE:20260329T030000
TZOFFSETFROM:+0200
TZOFFSETTO:+0100
TZNAME:Europe/Paris CET
END:STANDARD
BEGIN:STANDARD
DTSTART:20261025T020000
RDATE:20270328T030000
TZOFFSETFROM:+0200
TZOFFSETTO:+0100
TZNAME:Europe/Paris CET
END:STANDARD
BEGIN:DAYLIGHT
DTSTART:20150329T030000
RDATE:20151025T020000
TZOFFSETFROM:+0100
TZOFFSETTO:+0200
TZNAME:Europe/Paris CEST
END:DAYLIGHT
BEGIN:DAYLIGHT
DTSTART:20160327T030000
RDATE:20161030T020000
TZOFFSETFROM:+0100
TZOFFSETTO:+0200
TZNAME:Europe/Paris CEST
END:DAYLIGHT
BEGIN:DAYLIGHT
DTSTART:20170326T030000
RDATE:20171029T020000
TZOFFSETFROM:+0100
TZOFFSETTO:+0200
TZNAME:Europe/Paris CEST
END:DAYLIGHT
BEGIN:DAYLIGHT
DTSTART:20180325T030000
RDATE:20181028T020000
TZOFFSETFROM:+0100
TZOFFSETTO:+0200
TZNAME:Europe/Paris CEST
END:DAYLIGHT
BEGIN:DAYLIGHT
DTSTART:20190331T030000
RDATE:20191027T020000
TZOFFSETFROM:+0100
TZOFFSETTO:+0200
TZNAME:Europe/Paris CEST
END:DAYLIGHT
BEGIN:DAYLIGHT
DTSTART:20200329T030000
RDATE:20201025T020000
TZOFFSETFROM:+0100
TZOFFSETTO:+0200
TZNAME:Europe/Paris CEST
END:DAYLIGHT
BEGIN:DAYLIGHT
DTSTART:20210328T030000
RDATE:20211031T020000
TZOFFSETFROM:+0100
TZOFFSETTO:+0200
TZNAME:Europe/Paris CEST
END:DAYLIGHT
BEGIN:DAYLIGHT
DTSTART:20220327T030000
RDATE:20221030T020000
TZOFFSETFROM:+0100
TZOFFSETTO:+0200
TZNAME:Europe/Paris CEST
END:DAYLIGHT
BEGIN:DAYLIGHT
DTSTART:20230326T030000
RDATE:20231029T020000
TZOFFSETFROM:+0100
TZOFFSETTO:+0200
TZNAME:Europe/Paris CEST
END:DAYLIGHT
BEGIN:DAYLIGHT
DTSTART:20240331T030000
RDATE:20241027T020000
TZOFFSETFROM:+0100
TZOFFSETTO:+0200
TZNAME:Europe/Paris CEST
END:DAYLIGHT
BEGIN:DAYLIGHT
DTSTART:20250330T030000
RDATE:20251026T020000
TZOFFSETFROM:+0100
TZOFFSETTO:+0200
TZNAME:Europe/Paris CEST
END:DAYLIGHT
BEGIN:DAYLIGHT
DTSTART:20260329T030000
RDATE:20261025T020000
TZOFFSETFROM:+0100
TZOFFSETTO:+0200
TZNAME:Europe/Paris CEST
END:DAYLIGHT
END:VTIMEZONE
BEGIN:VEVENT
UID:7d1e67047f25198014e117902195e6d5
CATEGORIES:Opens et Promos (alpin)
CREATED:20151110T133951
SUMMARY:PROMO  U8 à U16  Les Dimanches de la Glisse - Trophée du SC Belmont
URL;VALUE=URI:https://skivosges.net/agenda/export-synchronisation/detailevenement/480/-/p
 romo-u8-a-u16-les-dimanches-de-la-glisse-trophee-du-sc-belmont?tmpl=compone
 nt
DESCRIPTION:PROMO  U8 à U16  Les Dimanches de la Glisse - Trophée du SC Belmont\n\nLieu
  : CHAMP DU FEU\nOrganisateur : SKI CLUB BELMONT CHAMP DU FEU (14485 SKI CL
 UB BELMONT CHAMP DU FEU)\nEmail : RegularLabs.EmailProtector.unCloak("ep_87
 219d6b");\n\nLes dossards sont à récupérer au chalet des skieurs.\n\n\nInsc
 riptions closes, tirage des dossards en cours\n - AMVM0291  Slalom U8/U10 G
 arçons\n  PROMO  U8 à U16  Les Dimanches de la Glisse - Trophée du SC Belmo
 nt\n - AMVM0292  Slalom U12 a U16 Garçons\n  PROMO  U8 à U16  Les Dimanches
  de la Glisse - Trophée du SC Belmont\n - AMVF0291  Slalom U8/U10 Filles\n 
  PROMO  U8 à U16  Les Dimanches de la Glisse - Trophée du SC Belmont\n - AM
 VF0292  Slalom U12 a U16 Filles\n  PROMO  U8 à U16  Les Dimanches de la Gli
 sse - Trophée du SC Belmont Cet évènement a été importé depuis :https://ski
 vosges.net/agenda/export-synchronisation/detailevenement/480/-/promo-u8-a-u
 16-les-dimanches-de-la-glisse-trophee-du-sc-belmont?tmpl=component
X-ALT-DESC;FMTTYPE=text/html:<strong>PROMO  U8 à U16  Les Dimanches de la Glisse - Trophée du SC Belmont
 </strong><br /><br />Lieu : CHAMP DU FEU<br />Organisateur : SKI CLUB BELMO
 NT CHAMP DU FEU <small>(14485 SKI CLUB BELMONT CHAMP DU FEU)</small><br />E
 mail : <!-- Cette adresse électronique est protégée contre les robots spamm
 eurs. --><span class="cloaked_email ep_87219d6b"><span data-ep-b="" data-ep
 -a="p&#104;&#105;l&#46;"><span data-ep-b="&#111;o.&#102;r" data-ep-a="&#115
 ;c&#104;ep"><span data-ep-b="&#119;&#97;n&#97;d" data-ep-a="p&#108;er&#64;"
 ></span></span></span></span><script>RegularLabs.EmailProtector.unCloak("ep
 _87219d6b");</script><br /><br />Les dossards sont à récupérer au chalet de
 s skieurs.<br><br /><br />Inscriptions closes, tirage des dossards en cours
 <ul type="disc"><li>AMVM0291  Slalom <nobr>U8/U10</nobr> Garçons<br />&nbsp
 ;&nbsp;PROMO  U8 à U16  Les Dimanches de la Glisse - Trophée du SC Belmont<
 /li><li>AMVM0292  Slalom <nobr>U12 a U16</nobr> Garçons<br />&nbsp;&nbsp;PR
 OMO  U8 à U16  Les Dimanches de la Glisse - Trophée du SC Belmont</li><li>A
 MVF0291  Slalom <nobr>U8/U10</nobr> Filles<br />&nbsp;&nbsp;PROMO  U8 à U16
   Les Dimanches de la Glisse - Trophée du SC Belmont</li><li>AMVF0292  Slal
 om <nobr>U12 a U16</nobr> Filles<br />&nbsp;&nbsp;PROMO  U8 à U16  Les Dima
 nches de la Glisse - Trophée du SC Belmont</li></ul> <a href="https://skivo
 sges.net/agenda/export-synchronisation/detailevenement/480/-/promo-u8-a-u16
 -les-dimanches-de-la-glisse-trophee-du-sc-belmont?tmpl=component">Cet évène
 ment a été importé depuis :https://skivosges.net/agenda/export-synchronisat
 ion/detailevenement/480/-/promo-u8-a-u16-les-dimanches-de-la-glisse-trophee
 -du-sc-belmont?tmpl=component</a>DTSTAMP:20260421T014333
DTSTART;TZID=Europe/Paris:20160117T080000
DTEND;TZID=Europe/Paris:20160117T170000
SEQUENCE:0
TRANSP:OPAQUE
END:VEVENT
END:VCALENDAR