BEGIN:VCALENDAR
VERSION:2.0
PRODID:-//jEvents 2.0 for Joomla//EN
CALSCALE:GREGORIAN
METHOD:PUBLISH
BEGIN:VTIMEZONE
TZID:Europe/Paris
BEGIN:STANDARD
DTSTART:20150119T080000
RDATE:20150329T030000
TZOFFSETFROM:+0200
TZOFFSETTO:+0100
TZNAME:Europe/Paris CET
END:STANDARD
BEGIN:STANDARD
DTSTART:20151025T020000
RDATE:20160327T030000
TZOFFSETFROM:+0200
TZOFFSETTO:+0100
TZNAME:Europe/Paris CET
END:STANDARD
BEGIN:STANDARD
DTSTART:20161030T020000
RDATE:20170326T030000
TZOFFSETFROM:+0200
TZOFFSETTO:+0100
TZNAME:Europe/Paris CET
END:STANDARD
BEGIN:STANDARD
DTSTART:20171029T020000
RDATE:20180325T030000
TZOFFSETFROM:+0200
TZOFFSETTO:+0100
TZNAME:Europe/Paris CET
END:STANDARD
BEGIN:STANDARD
DTSTART:20181028T020000
RDATE:20190331T030000
TZOFFSETFROM:+0200
TZOFFSETTO:+0100
TZNAME:Europe/Paris CET
END:STANDARD
BEGIN:STANDARD
DTSTART:20191027T020000
RDATE:20200329T030000
TZOFFSETFROM:+0200
TZOFFSETTO:+0100
TZNAME:Europe/Paris CET
END:STANDARD
BEGIN:STANDARD
DTSTART:20201025T020000
RDATE:20210328T030000
TZOFFSETFROM:+0200
TZOFFSETTO:+0100
TZNAME:Europe/Paris CET
END:STANDARD
BEGIN:STANDARD
DTSTART:20211031T020000
RDATE:20220327T030000
TZOFFSETFROM:+0200
TZOFFSETTO:+0100
TZNAME:Europe/Paris CET
END:STANDARD
BEGIN:STANDARD
DTSTART:20221030T020000
RDATE:20230326T030000
TZOFFSETFROM:+0200
TZOFFSETTO:+0100
TZNAME:Europe/Paris CET
END:STANDARD
BEGIN:STANDARD
DTSTART:20231029T020000
RDATE:20240331T030000
TZOFFSETFROM:+0200
TZOFFSETTO:+0100
TZNAME:Europe/Paris CET
END:STANDARD
BEGIN:STANDARD
DTSTART:20241027T020000
RDATE:20250330T030000
TZOFFSETFROM:+0200
TZOFFSETTO:+0100
TZNAME:Europe/Paris CET
END:STANDARD
BEGIN:STANDARD
DTSTART:20251026T020000
RDATE:20260329T030000
TZOFFSETFROM:+0200
TZOFFSETTO:+0100
TZNAME:Europe/Paris CET
END:STANDARD
BEGIN:STANDARD
DTSTART:20261025T020000
RDATE:20270328T030000
TZOFFSETFROM:+0200
TZOFFSETTO:+0100
TZNAME:Europe/Paris CET
END:STANDARD
BEGIN:DAYLIGHT
DTSTART:20150329T030000
RDATE:20151025T020000
TZOFFSETFROM:+0100
TZOFFSETTO:+0200
TZNAME:Europe/Paris CEST
END:DAYLIGHT
BEGIN:DAYLIGHT
DTSTART:20160327T030000
RDATE:20161030T020000
TZOFFSETFROM:+0100
TZOFFSETTO:+0200
TZNAME:Europe/Paris CEST
END:DAYLIGHT
BEGIN:DAYLIGHT
DTSTART:20170326T030000
RDATE:20171029T020000
TZOFFSETFROM:+0100
TZOFFSETTO:+0200
TZNAME:Europe/Paris CEST
END:DAYLIGHT
BEGIN:DAYLIGHT
DTSTART:20180325T030000
RDATE:20181028T020000
TZOFFSETFROM:+0100
TZOFFSETTO:+0200
TZNAME:Europe/Paris CEST
END:DAYLIGHT
BEGIN:DAYLIGHT
DTSTART:20190331T030000
RDATE:20191027T020000
TZOFFSETFROM:+0100
TZOFFSETTO:+0200
TZNAME:Europe/Paris CEST
END:DAYLIGHT
BEGIN:DAYLIGHT
DTSTART:20200329T030000
RDATE:20201025T020000
TZOFFSETFROM:+0100
TZOFFSETTO:+0200
TZNAME:Europe/Paris CEST
END:DAYLIGHT
BEGIN:DAYLIGHT
DTSTART:20210328T030000
RDATE:20211031T020000
TZOFFSETFROM:+0100
TZOFFSETTO:+0200
TZNAME:Europe/Paris CEST
END:DAYLIGHT
BEGIN:DAYLIGHT
DTSTART:20220327T030000
RDATE:20221030T020000
TZOFFSETFROM:+0100
TZOFFSETTO:+0200
TZNAME:Europe/Paris CEST
END:DAYLIGHT
BEGIN:DAYLIGHT
DTSTART:20230326T030000
RDATE:20231029T020000
TZOFFSETFROM:+0100
TZOFFSETTO:+0200
TZNAME:Europe/Paris CEST
END:DAYLIGHT
BEGIN:DAYLIGHT
DTSTART:20240331T030000
RDATE:20241027T020000
TZOFFSETFROM:+0100
TZOFFSETTO:+0200
TZNAME:Europe/Paris CEST
END:DAYLIGHT
BEGIN:DAYLIGHT
DTSTART:20250330T030000
RDATE:20251026T020000
TZOFFSETFROM:+0100
TZOFFSETTO:+0200
TZNAME:Europe/Paris CEST
END:DAYLIGHT
BEGIN:DAYLIGHT
DTSTART:20260329T030000
RDATE:20261025T020000
TZOFFSETFROM:+0100
TZOFFSETTO:+0200
TZNAME:Europe/Paris CEST
END:DAYLIGHT
END:VTIMEZONE
BEGIN:VEVENT
UID:8a84526483f23ac71d450c7ff8041a34
CATEGORIES:Autres Épreuves (alpin)
CREATED:20151110T133951
SUMMARY:UGSEL Lorraine  Sélection
URL;VALUE=URI:https://skivosges.net/agenda/export-synchronisation/detailevenement/483/-/u
 gsel-lorraine-selection?tmpl=component
DESCRIPTION:UGSEL Lorraine  Sélection\n\nLieu : GERARDMER\nOrganisateur : GERARDMER SKI
  ALPIN (14089 GERARDMER SKI ALPIN)\nEmail : RegularLabs.EmailProtector.unCl
 oak("ep_38b61a6b");\nTelecopie : 03 29 60 98 04\n\nInscriptions en cours su
 r ce site\n - AMVM0301  Slalom Hommes\n  UGSEL Lorraine  Sélection\n - AMVF
 0301  Slalom Dames\n  UGSEL Lorraine  Sélection Cet évènement a été importé
  depuis :https://skivosges.net/agenda/export-synchronisation/detailevenemen
 t/483/-/ugsel-lorraine-selection?tmpl=component (https://skivosges.net/agen
 da/export-synchronisation/detailevenement/483/-/ugsel-lorraine-selection?tm
 pl=component)
X-ALT-DESC;FMTTYPE=text/html:<strong>UGSEL Lorraine  Sélection</strong><br /><br />Lieu : GERARDMER<br /
 >Organisateur : GERARDMER SKI ALPIN <small>(14089 GERARDMER SKI ALPIN)</sma
 ll><br />Email : <!-- Cette adresse électronique est protégée contre les ro
 bots spammeurs. --><span class="cloaked_email ep_38b61a6b"><span data-ep-a=
 "&#97;&#115;&#103;&#115;k" data-ep-b="fr"><span data-ep-a="&#105;&#46;&#103
 ;&#101;r" data-ep-b="&#97;d&#111;o."><span data-ep-a="a&#114;d&#109;&#101;"
  data-ep-b="&#114;&#64;wa&#110;"></span></span></span></span><script>Regula
 rLabs.EmailProtector.unCloak("ep_38b61a6b");</script><br />Telecopie : 03 2
 9 60 98 04<br /><br />Inscriptions en cours sur ce site<ul type="disc"><li>
 AMVM0301  Slalom Hommes<br />&nbsp;&nbsp;UGSEL Lorraine  Sélection</li><li>
 AMVF0301  Slalom Dames<br />&nbsp;&nbsp;UGSEL Lorraine  Sélection</li></ul>
  <a href="https://skivosges.net/agenda/export-synchronisation/detaileveneme
 nt/483/-/ugsel-lorraine-selection?tmpl=component">Cet évènement a été impor
 té depuis :https://skivosges.net/agenda/export-synchronisation/detailevenem
 ent/483/-/ugsel-lorraine-selection?tmpl=component</a>DTSTAMP:20260420T220924
DTSTART;TZID=Europe/Paris:20160120T080000
DTEND;TZID=Europe/Paris:20160120T170000
SEQUENCE:0
TRANSP:OPAQUE
END:VEVENT
END:VCALENDAR