BEGIN:VCALENDAR
VERSION:2.0
PRODID:-//jEvents 2.0 for Joomla//EN
CALSCALE:GREGORIAN
METHOD:PUBLISH
BEGIN:VTIMEZONE
TZID:Europe/Paris
BEGIN:STANDARD
DTSTART:20150123T080000
RDATE:20150329T030000
TZOFFSETFROM:+0200
TZOFFSETTO:+0100
TZNAME:Europe/Paris CET
END:STANDARD
BEGIN:STANDARD
DTSTART:20151025T020000
RDATE:20160327T030000
TZOFFSETFROM:+0200
TZOFFSETTO:+0100
TZNAME:Europe/Paris CET
END:STANDARD
BEGIN:STANDARD
DTSTART:20161030T020000
RDATE:20170326T030000
TZOFFSETFROM:+0200
TZOFFSETTO:+0100
TZNAME:Europe/Paris CET
END:STANDARD
BEGIN:STANDARD
DTSTART:20171029T020000
RDATE:20180325T030000
TZOFFSETFROM:+0200
TZOFFSETTO:+0100
TZNAME:Europe/Paris CET
END:STANDARD
BEGIN:STANDARD
DTSTART:20181028T020000
RDATE:20190331T030000
TZOFFSETFROM:+0200
TZOFFSETTO:+0100
TZNAME:Europe/Paris CET
END:STANDARD
BEGIN:STANDARD
DTSTART:20191027T020000
RDATE:20200329T030000
TZOFFSETFROM:+0200
TZOFFSETTO:+0100
TZNAME:Europe/Paris CET
END:STANDARD
BEGIN:STANDARD
DTSTART:20201025T020000
RDATE:20210328T030000
TZOFFSETFROM:+0200
TZOFFSETTO:+0100
TZNAME:Europe/Paris CET
END:STANDARD
BEGIN:STANDARD
DTSTART:20211031T020000
RDATE:20220327T030000
TZOFFSETFROM:+0200
TZOFFSETTO:+0100
TZNAME:Europe/Paris CET
END:STANDARD
BEGIN:STANDARD
DTSTART:20221030T020000
RDATE:20230326T030000
TZOFFSETFROM:+0200
TZOFFSETTO:+0100
TZNAME:Europe/Paris CET
END:STANDARD
BEGIN:STANDARD
DTSTART:20231029T020000
RDATE:20240331T030000
TZOFFSETFROM:+0200
TZOFFSETTO:+0100
TZNAME:Europe/Paris CET
END:STANDARD
BEGIN:STANDARD
DTSTART:20241027T020000
RDATE:20250330T030000
TZOFFSETFROM:+0200
TZOFFSETTO:+0100
TZNAME:Europe/Paris CET
END:STANDARD
BEGIN:STANDARD
DTSTART:20251026T020000
RDATE:20260329T030000
TZOFFSETFROM:+0200
TZOFFSETTO:+0100
TZNAME:Europe/Paris CET
END:STANDARD
BEGIN:STANDARD
DTSTART:20261025T020000
RDATE:20270328T030000
TZOFFSETFROM:+0200
TZOFFSETTO:+0100
TZNAME:Europe/Paris CET
END:STANDARD
BEGIN:DAYLIGHT
DTSTART:20150329T030000
RDATE:20151025T020000
TZOFFSETFROM:+0100
TZOFFSETTO:+0200
TZNAME:Europe/Paris CEST
END:DAYLIGHT
BEGIN:DAYLIGHT
DTSTART:20160327T030000
RDATE:20161030T020000
TZOFFSETFROM:+0100
TZOFFSETTO:+0200
TZNAME:Europe/Paris CEST
END:DAYLIGHT
BEGIN:DAYLIGHT
DTSTART:20170326T030000
RDATE:20171029T020000
TZOFFSETFROM:+0100
TZOFFSETTO:+0200
TZNAME:Europe/Paris CEST
END:DAYLIGHT
BEGIN:DAYLIGHT
DTSTART:20180325T030000
RDATE:20181028T020000
TZOFFSETFROM:+0100
TZOFFSETTO:+0200
TZNAME:Europe/Paris CEST
END:DAYLIGHT
BEGIN:DAYLIGHT
DTSTART:20190331T030000
RDATE:20191027T020000
TZOFFSETFROM:+0100
TZOFFSETTO:+0200
TZNAME:Europe/Paris CEST
END:DAYLIGHT
BEGIN:DAYLIGHT
DTSTART:20200329T030000
RDATE:20201025T020000
TZOFFSETFROM:+0100
TZOFFSETTO:+0200
TZNAME:Europe/Paris CEST
END:DAYLIGHT
BEGIN:DAYLIGHT
DTSTART:20210328T030000
RDATE:20211031T020000
TZOFFSETFROM:+0100
TZOFFSETTO:+0200
TZNAME:Europe/Paris CEST
END:DAYLIGHT
BEGIN:DAYLIGHT
DTSTART:20220327T030000
RDATE:20221030T020000
TZOFFSETFROM:+0100
TZOFFSETTO:+0200
TZNAME:Europe/Paris CEST
END:DAYLIGHT
BEGIN:DAYLIGHT
DTSTART:20230326T030000
RDATE:20231029T020000
TZOFFSETFROM:+0100
TZOFFSETTO:+0200
TZNAME:Europe/Paris CEST
END:DAYLIGHT
BEGIN:DAYLIGHT
DTSTART:20240331T030000
RDATE:20241027T020000
TZOFFSETFROM:+0100
TZOFFSETTO:+0200
TZNAME:Europe/Paris CEST
END:DAYLIGHT
BEGIN:DAYLIGHT
DTSTART:20250330T030000
RDATE:20251026T020000
TZOFFSETFROM:+0100
TZOFFSETTO:+0200
TZNAME:Europe/Paris CEST
END:DAYLIGHT
BEGIN:DAYLIGHT
DTSTART:20260329T030000
RDATE:20261025T020000
TZOFFSETFROM:+0100
TZOFFSETTO:+0200
TZNAME:Europe/Paris CEST
END:DAYLIGHT
END:VTIMEZONE
BEGIN:VEVENT
UID:a8e1396001df3c3296d6a85279267706
CATEGORIES:Autres Épreuves (alpin)
CREATED:20151110T133951
SUMMARY:Championnat d´Alsace jeunes U8 à U14
URL;VALUE=URI:https://skivosges.net/agenda/export-synchronisation/detailevenement/489/-/c
 hampionnat-dalsace-jeunes-u8-a-u14?tmpl=component
DESCRIPTION:<strong>Championnat d´Alsace jeunes U8 à U14</strong><br /><br />Lieu : MAR
 KSTEIN<br />Organisateur : SCOSEG <small>(14356 S.C.O.S.E.G. GUEBWILLER)</s
 mall><br />Email : <!-- Cette adresse électronique est protégée contre les 
 robots spammeurs. --><span class="cloaked_email ep_5c84d9eb"><span data-ep-
 b="&#109;" data-ep-a="&#115;c&#118;&#119;"><span data-ep-a="es&#115;&#101;"
  data-ep-b="l.&#99;&#111;"><span data-ep-b="&#103;&#64;&#97;o" data-ep-a="&
 #114;&#108;in"></span></span></span></span><script>RegularLabs.EmailProtect
 or.unCloak("ep_5c84d9eb");</script><br />Telecopie : 03 89 82 78 08<br /><b
 r />lkkk<br /><br />Inscriptions en cours sur ce site<ul type="disc"><br />
 &nbsp;&nbsp;Organisateur:S.C VALLEE DE WESSERLING<li>AMVM0321  Slalom Geant
  <nobr><i>(Micro Coupe)</i></nobr> <nobr>U8/U10</nobr> Garçons<br />&nbsp;&
 nbsp;CAJ  U8 à U10 / U12 à U14  Championnat d'Alsace Jeune Prix du Stade de
  Slalom&nbsp;</li><br />&nbsp;&nbsp;Organisateur:S.C VALLEE DE WESSERLING<l
 i>AMVM0322  Slalom Geant <nobr><i>(Coupe de Bronze)</i></nobr> <nobr>U12/U1
 4</nobr> Garçons<br />&nbsp;&nbsp;CAJ  U8 à U10 / U12 à U14  Championnat d'
 Alsace Jeune Prix du Stade de Slalom&nbsp;</li><br />&nbsp;&nbsp;Organisate
 ur:S.C VALLEE DE WESSERLING<li>AMVF0321  Slalom Geant <nobr><i>(Micro Coupe
 )</i></nobr> <nobr>U8/U10</nobr> Filles<br />&nbsp;&nbsp;CAJ  U8 à U10 / U1
 2 à U14  Championnat d'Alsace Jeune Prix du Stade de Slalom&nbsp;</li><br /
 >&nbsp;&nbsp;Organisateur:S.C VALLEE DE WESSERLING<li>AMVF0322  Slalom Gean
 t <nobr><i>(Coupe de Bronze)</i></nobr> <nobr>U12/U14</nobr> Filles<br />&n
 bsp;&nbsp;CAJ  U8 à U10 / U12 à U14  Championnat d'Alsace Jeune Prix du Sta
 de de Slalom&nbsp;</li></ul> <a href="https://skivosges.net/agenda/export-s
 ynchronisation/detailevenement/489/-/championnat-dalsace-jeunes-u8-a-u14?tm
 pl=component">Cet évènement a été importé depuis :https://skivosges.net/age
 nda/export-synchronisation/detailevenement/489/-/championnat-dalsace-jeunes
 -u8-a-u14?tmpl=component</a>DTSTAMP:20260420T221358
DTSTART;TZID=Europe/Paris:20160124T080000
DTEND;TZID=Europe/Paris:20160124T170000
SEQUENCE:0
TRANSP:OPAQUE
END:VEVENT
END:VCALENDAR