BEGIN:VCALENDAR
VERSION:2.0
PRODID:-//jEvents 2.0 for Joomla//EN
CALSCALE:GREGORIAN
METHOD:PUBLISH
BEGIN:VTIMEZONE
TZID:Europe/Paris
BEGIN:STANDARD
DTSTART:20150123T080000
RDATE:20150329T030000
TZOFFSETFROM:+0200
TZOFFSETTO:+0100
TZNAME:Europe/Paris CET
END:STANDARD
BEGIN:STANDARD
DTSTART:20151025T020000
RDATE:20160327T030000
TZOFFSETFROM:+0200
TZOFFSETTO:+0100
TZNAME:Europe/Paris CET
END:STANDARD
BEGIN:STANDARD
DTSTART:20161030T020000
RDATE:20170326T030000
TZOFFSETFROM:+0200
TZOFFSETTO:+0100
TZNAME:Europe/Paris CET
END:STANDARD
BEGIN:STANDARD
DTSTART:20171029T020000
RDATE:20180325T030000
TZOFFSETFROM:+0200
TZOFFSETTO:+0100
TZNAME:Europe/Paris CET
END:STANDARD
BEGIN:STANDARD
DTSTART:20181028T020000
RDATE:20190331T030000
TZOFFSETFROM:+0200
TZOFFSETTO:+0100
TZNAME:Europe/Paris CET
END:STANDARD
BEGIN:STANDARD
DTSTART:20191027T020000
RDATE:20200329T030000
TZOFFSETFROM:+0200
TZOFFSETTO:+0100
TZNAME:Europe/Paris CET
END:STANDARD
BEGIN:STANDARD
DTSTART:20201025T020000
RDATE:20210328T030000
TZOFFSETFROM:+0200
TZOFFSETTO:+0100
TZNAME:Europe/Paris CET
END:STANDARD
BEGIN:STANDARD
DTSTART:20211031T020000
RDATE:20220327T030000
TZOFFSETFROM:+0200
TZOFFSETTO:+0100
TZNAME:Europe/Paris CET
END:STANDARD
BEGIN:STANDARD
DTSTART:20221030T020000
RDATE:20230326T030000
TZOFFSETFROM:+0200
TZOFFSETTO:+0100
TZNAME:Europe/Paris CET
END:STANDARD
BEGIN:STANDARD
DTSTART:20231029T020000
RDATE:20240331T030000
TZOFFSETFROM:+0200
TZOFFSETTO:+0100
TZNAME:Europe/Paris CET
END:STANDARD
BEGIN:STANDARD
DTSTART:20241027T020000
RDATE:20250330T030000
TZOFFSETFROM:+0200
TZOFFSETTO:+0100
TZNAME:Europe/Paris CET
END:STANDARD
BEGIN:STANDARD
DTSTART:20251026T020000
RDATE:20260329T030000
TZOFFSETFROM:+0200
TZOFFSETTO:+0100
TZNAME:Europe/Paris CET
END:STANDARD
BEGIN:STANDARD
DTSTART:20261025T020000
RDATE:20270328T030000
TZOFFSETFROM:+0200
TZOFFSETTO:+0100
TZNAME:Europe/Paris CET
END:STANDARD
BEGIN:DAYLIGHT
DTSTART:20150329T030000
RDATE:20151025T020000
TZOFFSETFROM:+0100
TZOFFSETTO:+0200
TZNAME:Europe/Paris CEST
END:DAYLIGHT
BEGIN:DAYLIGHT
DTSTART:20160327T030000
RDATE:20161030T020000
TZOFFSETFROM:+0100
TZOFFSETTO:+0200
TZNAME:Europe/Paris CEST
END:DAYLIGHT
BEGIN:DAYLIGHT
DTSTART:20170326T030000
RDATE:20171029T020000
TZOFFSETFROM:+0100
TZOFFSETTO:+0200
TZNAME:Europe/Paris CEST
END:DAYLIGHT
BEGIN:DAYLIGHT
DTSTART:20180325T030000
RDATE:20181028T020000
TZOFFSETFROM:+0100
TZOFFSETTO:+0200
TZNAME:Europe/Paris CEST
END:DAYLIGHT
BEGIN:DAYLIGHT
DTSTART:20190331T030000
RDATE:20191027T020000
TZOFFSETFROM:+0100
TZOFFSETTO:+0200
TZNAME:Europe/Paris CEST
END:DAYLIGHT
BEGIN:DAYLIGHT
DTSTART:20200329T030000
RDATE:20201025T020000
TZOFFSETFROM:+0100
TZOFFSETTO:+0200
TZNAME:Europe/Paris CEST
END:DAYLIGHT
BEGIN:DAYLIGHT
DTSTART:20210328T030000
RDATE:20211031T020000
TZOFFSETFROM:+0100
TZOFFSETTO:+0200
TZNAME:Europe/Paris CEST
END:DAYLIGHT
BEGIN:DAYLIGHT
DTSTART:20220327T030000
RDATE:20221030T020000
TZOFFSETFROM:+0100
TZOFFSETTO:+0200
TZNAME:Europe/Paris CEST
END:DAYLIGHT
BEGIN:DAYLIGHT
DTSTART:20230326T030000
RDATE:20231029T020000
TZOFFSETFROM:+0100
TZOFFSETTO:+0200
TZNAME:Europe/Paris CEST
END:DAYLIGHT
BEGIN:DAYLIGHT
DTSTART:20240331T030000
RDATE:20241027T020000
TZOFFSETFROM:+0100
TZOFFSETTO:+0200
TZNAME:Europe/Paris CEST
END:DAYLIGHT
BEGIN:DAYLIGHT
DTSTART:20250330T030000
RDATE:20251026T020000
TZOFFSETFROM:+0100
TZOFFSETTO:+0200
TZNAME:Europe/Paris CEST
END:DAYLIGHT
BEGIN:DAYLIGHT
DTSTART:20260329T030000
RDATE:20261025T020000
TZOFFSETFROM:+0100
TZOFFSETTO:+0200
TZNAME:Europe/Paris CEST
END:DAYLIGHT
END:VTIMEZONE
BEGIN:VEVENT
UID:e48509872a26e91ed51b6ea9263d39f9
CATEGORIES:Opens et Promos (alpin)
CREATED:20151110T133951
SUMMARY:PROMO  U8 à U16     Les dimanches de la Glisse  Trophée du SC Hohwald
URL;VALUE=URI:https://skivosges.net/agenda/export-synchronisation/detailevenement/490/-/p
 romo-u8-a-u16-les-dimanches-de-la-glisse-trophee-du-sc-hohwald?tmpl=compone
 nt
DESCRIPTION:PROMO  U8 à U16     Les dimanches de la Glisse  Trophée du SC Hohwald\n\nLi
 eu : CHAMP DU FEU\nOrganisateur : SKI CLUB LE HOHWALD (14021 SKI CLUB LE HO
 HWALD)\nEmail : RegularLabs.EmailProtector.unCloak("ep_4e11dc57");\nTelecop
 ie : 03.88.57.61.39\n\nLes dossards sont à retirer au chalet des Skieurs de
  Strasbourg\n\nInscriptions closes, tirage des dossards en cours\n - AMVM03
 41  Slalom Geant U8/U10 Garçons\n  PROMO  U8 à U16     Les dimanches de la 
 Glisse  Trophée du SC Hohwald\n - AMVM0342  Slalom Geant U12 a U16 Garçons\
 n  PROMO  U8 à U16     Les dimanches de la Glisse  Trophée du SC Hohwald\n 
 - AMVF0341  Slalom Geant U8/U10 Filles\n  PROMO  U8 à U16     Les dimanches
  de la Glisse  Trophée du SC Hohwald\n - AMVF0342  Slalom Geant U12 a U16 F
 illes\n  PROMO  U8 à U16     Les dimanches de la Glisse  Trophée du SC Hohw
 ald Cet évènement a été importé depuis :https://skivosges.net/agenda/export
 -synchronisation/detailevenement/490/-/promo-u8-a-u16-les-dimanches-de-la-g
 lisse-trophee-du-sc-hohwald?tmpl=component
X-ALT-DESC;FMTTYPE=text/html:<strong>PROMO  U8 à U16     Les dimanches de la Glisse  Trophée du SC Hohwa
 ld</strong><br /><br />Lieu : CHAMP DU FEU<br />Organisateur : SKI CLUB LE 
 HOHWALD <small>(14021 SKI CLUB LE HOHWALD)</small><br />Email : <!-- Cette 
 adresse électronique est protégée contre les robots spammeurs. --><span cla
 ss="cloaked_email ep_4e11dc57"><span data-ep-a="&#109;e&#104;" data-ep-b=".
 &#102;&#114;"><span data-ep-b="&#115;&#102;&#114;" data-ep-a="&#109;&#101;&
 #116;"><span data-ep-b="&#105;&#99;&#64;" data-ep-a="&#99;&#101;k"></span><
 /span></span></span><script>RegularLabs.EmailProtector.unCloak("ep_4e11dc57
 ");</script><br />Telecopie : 03.88.57.61.39<br /><br />Les dossards sont à
  retirer au chalet des Skieurs de Strasbourg<br /><br />Inscriptions closes
 , tirage des dossards en cours<ul type="disc"><li>AMVM0341  Slalom Geant <n
 obr>U8/U10</nobr> Garçons<br />&nbsp;&nbsp;PROMO  U8 à U16     Les dimanche
 s de la Glisse  Trophée du SC Hohwald</li><li>AMVM0342  Slalom Geant <nobr>
 U12 a U16</nobr> Garçons<br />&nbsp;&nbsp;PROMO  U8 à U16     Les dimanches
  de la Glisse  Trophée du SC Hohwald</li><li>AMVF0341  Slalom Geant <nobr>U
 8/U10</nobr> Filles<br />&nbsp;&nbsp;PROMO  U8 à U16     Les dimanches de l
 a Glisse  Trophée du SC Hohwald</li><li>AMVF0342  Slalom Geant <nobr>U12 a 
 U16</nobr> Filles<br />&nbsp;&nbsp;PROMO  U8 à U16     Les dimanches de la 
 Glisse  Trophée du SC Hohwald</li></ul> <a href="https://skivosges.net/agen
 da/export-synchronisation/detailevenement/490/-/promo-u8-a-u16-les-dimanche
 s-de-la-glisse-trophee-du-sc-hohwald?tmpl=component">Cet évènement a été im
 porté depuis :https://skivosges.net/agenda/export-synchronisation/detaileve
 nement/490/-/promo-u8-a-u16-les-dimanches-de-la-glisse-trophee-du-sc-hohwal
 d?tmpl=component</a>DTSTAMP:20260421T045911
DTSTART;TZID=Europe/Paris:20160124T080000
DTEND;TZID=Europe/Paris:20160124T170000
SEQUENCE:0
TRANSP:OPAQUE
END:VEVENT
END:VCALENDAR