BEGIN:VCALENDAR
VERSION:2.0
PRODID:-//jEvents 2.0 for Joomla//EN
CALSCALE:GREGORIAN
METHOD:PUBLISH
BEGIN:VTIMEZONE
TZID:Europe/Paris
BEGIN:STANDARD
DTSTART:20150128T080000
RDATE:20150329T030000
TZOFFSETFROM:+0200
TZOFFSETTO:+0100
TZNAME:Europe/Paris CET
END:STANDARD
BEGIN:STANDARD
DTSTART:20151025T020000
RDATE:20160327T030000
TZOFFSETFROM:+0200
TZOFFSETTO:+0100
TZNAME:Europe/Paris CET
END:STANDARD
BEGIN:STANDARD
DTSTART:20161030T020000
RDATE:20170326T030000
TZOFFSETFROM:+0200
TZOFFSETTO:+0100
TZNAME:Europe/Paris CET
END:STANDARD
BEGIN:STANDARD
DTSTART:20171029T020000
RDATE:20180325T030000
TZOFFSETFROM:+0200
TZOFFSETTO:+0100
TZNAME:Europe/Paris CET
END:STANDARD
BEGIN:STANDARD
DTSTART:20181028T020000
RDATE:20190331T030000
TZOFFSETFROM:+0200
TZOFFSETTO:+0100
TZNAME:Europe/Paris CET
END:STANDARD
BEGIN:STANDARD
DTSTART:20191027T020000
RDATE:20200329T030000
TZOFFSETFROM:+0200
TZOFFSETTO:+0100
TZNAME:Europe/Paris CET
END:STANDARD
BEGIN:STANDARD
DTSTART:20201025T020000
RDATE:20210328T030000
TZOFFSETFROM:+0200
TZOFFSETTO:+0100
TZNAME:Europe/Paris CET
END:STANDARD
BEGIN:STANDARD
DTSTART:20211031T020000
RDATE:20220327T030000
TZOFFSETFROM:+0200
TZOFFSETTO:+0100
TZNAME:Europe/Paris CET
END:STANDARD
BEGIN:STANDARD
DTSTART:20221030T020000
RDATE:20230326T030000
TZOFFSETFROM:+0200
TZOFFSETTO:+0100
TZNAME:Europe/Paris CET
END:STANDARD
BEGIN:STANDARD
DTSTART:20231029T020000
RDATE:20240331T030000
TZOFFSETFROM:+0200
TZOFFSETTO:+0100
TZNAME:Europe/Paris CET
END:STANDARD
BEGIN:STANDARD
DTSTART:20241027T020000
RDATE:20250330T030000
TZOFFSETFROM:+0200
TZOFFSETTO:+0100
TZNAME:Europe/Paris CET
END:STANDARD
BEGIN:STANDARD
DTSTART:20251026T020000
RDATE:20260329T030000
TZOFFSETFROM:+0200
TZOFFSETTO:+0100
TZNAME:Europe/Paris CET
END:STANDARD
BEGIN:STANDARD
DTSTART:20261025T020000
RDATE:20270328T030000
TZOFFSETFROM:+0200
TZOFFSETTO:+0100
TZNAME:Europe/Paris CET
END:STANDARD
BEGIN:DAYLIGHT
DTSTART:20150329T030000
RDATE:20151025T020000
TZOFFSETFROM:+0100
TZOFFSETTO:+0200
TZNAME:Europe/Paris CEST
END:DAYLIGHT
BEGIN:DAYLIGHT
DTSTART:20160327T030000
RDATE:20161030T020000
TZOFFSETFROM:+0100
TZOFFSETTO:+0200
TZNAME:Europe/Paris CEST
END:DAYLIGHT
BEGIN:DAYLIGHT
DTSTART:20170326T030000
RDATE:20171029T020000
TZOFFSETFROM:+0100
TZOFFSETTO:+0200
TZNAME:Europe/Paris CEST
END:DAYLIGHT
BEGIN:DAYLIGHT
DTSTART:20180325T030000
RDATE:20181028T020000
TZOFFSETFROM:+0100
TZOFFSETTO:+0200
TZNAME:Europe/Paris CEST
END:DAYLIGHT
BEGIN:DAYLIGHT
DTSTART:20190331T030000
RDATE:20191027T020000
TZOFFSETFROM:+0100
TZOFFSETTO:+0200
TZNAME:Europe/Paris CEST
END:DAYLIGHT
BEGIN:DAYLIGHT
DTSTART:20200329T030000
RDATE:20201025T020000
TZOFFSETFROM:+0100
TZOFFSETTO:+0200
TZNAME:Europe/Paris CEST
END:DAYLIGHT
BEGIN:DAYLIGHT
DTSTART:20210328T030000
RDATE:20211031T020000
TZOFFSETFROM:+0100
TZOFFSETTO:+0200
TZNAME:Europe/Paris CEST
END:DAYLIGHT
BEGIN:DAYLIGHT
DTSTART:20220327T030000
RDATE:20221030T020000
TZOFFSETFROM:+0100
TZOFFSETTO:+0200
TZNAME:Europe/Paris CEST
END:DAYLIGHT
BEGIN:DAYLIGHT
DTSTART:20230326T030000
RDATE:20231029T020000
TZOFFSETFROM:+0100
TZOFFSETTO:+0200
TZNAME:Europe/Paris CEST
END:DAYLIGHT
BEGIN:DAYLIGHT
DTSTART:20240331T030000
RDATE:20241027T020000
TZOFFSETFROM:+0100
TZOFFSETTO:+0200
TZNAME:Europe/Paris CEST
END:DAYLIGHT
BEGIN:DAYLIGHT
DTSTART:20250330T030000
RDATE:20251026T020000
TZOFFSETFROM:+0100
TZOFFSETTO:+0200
TZNAME:Europe/Paris CEST
END:DAYLIGHT
BEGIN:DAYLIGHT
DTSTART:20260329T030000
RDATE:20261025T020000
TZOFFSETFROM:+0100
TZOFFSETTO:+0200
TZNAME:Europe/Paris CEST
END:DAYLIGHT
END:VTIMEZONE
BEGIN:VEVENT
UID:1dfd2e75a2910f8c0d8aad510f58ebf6
CATEGORIES:Circuit Massif Masters (alpin)
CREATED:20151110T133951
SUMMARY:GPM  Masters  Grand Prix de la Bulle
URL;VALUE=URI:https://skivosges.net/agenda/export-synchronisation/detailevenement/493/-/g
 pm-masters-grand-prix-de-la-bulle?tmpl=component
DESCRIPTION:GPM  Masters  Grand Prix de la Bulle \n(Grand Prix Masters)\n\nLieu : MARKS
 TEIN\nOrganisateur : S.C VALLEE DE WESSERLING (14186 S.C VALLEE DE WESSERLI
 NG)\nEmail : RegularLabs.EmailProtector.unCloak("ep_fd36f992");\nTelecopie 
 : 03 89 82 78 08\n\nDépart 19H30 Slalom\nDossards cabane d´arrivée\nA l´iss
 ue de la course, Repas+1 boisson proposé chez Wolf à 11E sur réservation.\n
 \n\nInscriptions en cours sur ce site\n - AMVM0361  Slalom (Courses Masters
 ) Tous les Masters Hommes Hommes\n  GPM  Masters  Grand Prix de la Bulle\n 
 - AMVF0361  Slalom (Courses Masters) Tous les Masters Dames Dames\n  GPM  M
 asters  Grand Prix de la Bulle Cet évènement a été importé depuis :https://
 skivosges.net/agenda/export-synchronisation/detailevenement/493/-/gpm-maste
 rs-grand-prix-de-la-bulle?tmpl=component (https://skivosges.net/agenda/expo
 rt-synchronisation/detailevenement/493/-/gpm-masters-grand-prix-de-la-bulle
 ?tmpl=component)
X-ALT-DESC;FMTTYPE=text/html:<strong>GPM  Masters  Grand Prix de la Bulle</strong> <br /><i>(Grand Prix 
 Masters)</i><br /><br />Lieu : MARKSTEIN<br />Organisateur : S.C VALLEE DE 
 WESSERLING <small>(14186 S.C VALLEE DE WESSERLING)</small><br />Email : <!-
 - Cette adresse électronique est protégée contre les robots spammeurs. --><
 span class="cloaked_email ep_fd36f992"><span data-ep-b="m" data-ep-a="&#115
 ;&#99;&#118;&#119;"><span data-ep-a="es&#115;e" data-ep-b="&#108;.c&#111;">
 <span data-ep-a="&#114;l&#105;&#110;" data-ep-b="&#103;&#64;&#97;&#111;"></
 span></span></span></span><script>RegularLabs.EmailProtector.unCloak("ep_fd
 36f992");</script><br />Telecopie : 03 89 82 78 08<br /><br />Départ 19H30 
 Slalom<br>Dossards cabane d´arrivée<br>A l´issue de la course, Repas+1 bois
 son proposé chez Wolf à 11E sur réservation.<br><br /><br />Inscriptions en
  cours sur ce site<ul type="disc"><li>AMVM0361  Slalom <nobr><i>(Courses Ma
 sters)</i></nobr> <nobr>Tous les Masters Hommes</nobr> Hommes<br />&nbsp;&n
 bsp;GPM  Masters  Grand Prix de la Bulle</li><li>AMVF0361  Slalom <nobr><i>
 (Courses Masters)</i></nobr> <nobr>Tous les Masters Dames</nobr> Dames<br /
 >&nbsp;&nbsp;GPM  Masters  Grand Prix de la Bulle</li></ul> <a href="https:
 //skivosges.net/agenda/export-synchronisation/detailevenement/493/-/gpm-mas
 ters-grand-prix-de-la-bulle?tmpl=component">Cet évènement a été importé dep
 uis :https://skivosges.net/agenda/export-synchronisation/detailevenement/49
 3/-/gpm-masters-grand-prix-de-la-bulle?tmpl=component</a>DTSTAMP:20260420T220834
DTSTART;TZID=Europe/Paris:20160129T080000
DTEND;TZID=Europe/Paris:20160129T170000
SEQUENCE:0
TRANSP:OPAQUE
END:VEVENT
END:VCALENDAR