BEGIN:VCALENDAR
VERSION:2.0
PRODID:-//jEvents 2.0 for Joomla//EN
CALSCALE:GREGORIAN
METHOD:PUBLISH
BEGIN:VTIMEZONE
TZID:Europe/Paris
BEGIN:STANDARD
DTSTART:20150129T080000
RDATE:20150329T030000
TZOFFSETFROM:+0200
TZOFFSETTO:+0100
TZNAME:Europe/Paris CET
END:STANDARD
BEGIN:STANDARD
DTSTART:20151025T020000
RDATE:20160327T030000
TZOFFSETFROM:+0200
TZOFFSETTO:+0100
TZNAME:Europe/Paris CET
END:STANDARD
BEGIN:STANDARD
DTSTART:20161030T020000
RDATE:20170326T030000
TZOFFSETFROM:+0200
TZOFFSETTO:+0100
TZNAME:Europe/Paris CET
END:STANDARD
BEGIN:STANDARD
DTSTART:20171029T020000
RDATE:20180325T030000
TZOFFSETFROM:+0200
TZOFFSETTO:+0100
TZNAME:Europe/Paris CET
END:STANDARD
BEGIN:STANDARD
DTSTART:20181028T020000
RDATE:20190331T030000
TZOFFSETFROM:+0200
TZOFFSETTO:+0100
TZNAME:Europe/Paris CET
END:STANDARD
BEGIN:STANDARD
DTSTART:20191027T020000
RDATE:20200329T030000
TZOFFSETFROM:+0200
TZOFFSETTO:+0100
TZNAME:Europe/Paris CET
END:STANDARD
BEGIN:STANDARD
DTSTART:20201025T020000
RDATE:20210328T030000
TZOFFSETFROM:+0200
TZOFFSETTO:+0100
TZNAME:Europe/Paris CET
END:STANDARD
BEGIN:STANDARD
DTSTART:20211031T020000
RDATE:20220327T030000
TZOFFSETFROM:+0200
TZOFFSETTO:+0100
TZNAME:Europe/Paris CET
END:STANDARD
BEGIN:STANDARD
DTSTART:20221030T020000
RDATE:20230326T030000
TZOFFSETFROM:+0200
TZOFFSETTO:+0100
TZNAME:Europe/Paris CET
END:STANDARD
BEGIN:STANDARD
DTSTART:20231029T020000
RDATE:20240331T030000
TZOFFSETFROM:+0200
TZOFFSETTO:+0100
TZNAME:Europe/Paris CET
END:STANDARD
BEGIN:STANDARD
DTSTART:20241027T020000
RDATE:20250330T030000
TZOFFSETFROM:+0200
TZOFFSETTO:+0100
TZNAME:Europe/Paris CET
END:STANDARD
BEGIN:STANDARD
DTSTART:20251026T020000
RDATE:20260329T030000
TZOFFSETFROM:+0200
TZOFFSETTO:+0100
TZNAME:Europe/Paris CET
END:STANDARD
BEGIN:STANDARD
DTSTART:20261025T020000
RDATE:20270328T030000
TZOFFSETFROM:+0200
TZOFFSETTO:+0100
TZNAME:Europe/Paris CET
END:STANDARD
BEGIN:DAYLIGHT
DTSTART:20150329T030000
RDATE:20151025T020000
TZOFFSETFROM:+0100
TZOFFSETTO:+0200
TZNAME:Europe/Paris CEST
END:DAYLIGHT
BEGIN:DAYLIGHT
DTSTART:20160327T030000
RDATE:20161030T020000
TZOFFSETFROM:+0100
TZOFFSETTO:+0200
TZNAME:Europe/Paris CEST
END:DAYLIGHT
BEGIN:DAYLIGHT
DTSTART:20170326T030000
RDATE:20171029T020000
TZOFFSETFROM:+0100
TZOFFSETTO:+0200
TZNAME:Europe/Paris CEST
END:DAYLIGHT
BEGIN:DAYLIGHT
DTSTART:20180325T030000
RDATE:20181028T020000
TZOFFSETFROM:+0100
TZOFFSETTO:+0200
TZNAME:Europe/Paris CEST
END:DAYLIGHT
BEGIN:DAYLIGHT
DTSTART:20190331T030000
RDATE:20191027T020000
TZOFFSETFROM:+0100
TZOFFSETTO:+0200
TZNAME:Europe/Paris CEST
END:DAYLIGHT
BEGIN:DAYLIGHT
DTSTART:20200329T030000
RDATE:20201025T020000
TZOFFSETFROM:+0100
TZOFFSETTO:+0200
TZNAME:Europe/Paris CEST
END:DAYLIGHT
BEGIN:DAYLIGHT
DTSTART:20210328T030000
RDATE:20211031T020000
TZOFFSETFROM:+0100
TZOFFSETTO:+0200
TZNAME:Europe/Paris CEST
END:DAYLIGHT
BEGIN:DAYLIGHT
DTSTART:20220327T030000
RDATE:20221030T020000
TZOFFSETFROM:+0100
TZOFFSETTO:+0200
TZNAME:Europe/Paris CEST
END:DAYLIGHT
BEGIN:DAYLIGHT
DTSTART:20230326T030000
RDATE:20231029T020000
TZOFFSETFROM:+0100
TZOFFSETTO:+0200
TZNAME:Europe/Paris CEST
END:DAYLIGHT
BEGIN:DAYLIGHT
DTSTART:20240331T030000
RDATE:20241027T020000
TZOFFSETFROM:+0100
TZOFFSETTO:+0200
TZNAME:Europe/Paris CEST
END:DAYLIGHT
BEGIN:DAYLIGHT
DTSTART:20250330T030000
RDATE:20251026T020000
TZOFFSETFROM:+0100
TZOFFSETTO:+0200
TZNAME:Europe/Paris CEST
END:DAYLIGHT
BEGIN:DAYLIGHT
DTSTART:20260329T030000
RDATE:20261025T020000
TZOFFSETFROM:+0100
TZOFFSETTO:+0200
TZNAME:Europe/Paris CEST
END:DAYLIGHT
END:VTIMEZONE
BEGIN:VEVENT
UID:1d9cf4b6a071c0aa719c98e22277daa6
CATEGORIES:Circuit Massif Masters (alpin)
CREATED:20151110T133952
SUMMARY:GPM Masters  Prix Mat Peinture **REPORTE**
URL;VALUE=URI:https://skivosges.net/agenda/export-synchronisation/detailevenement/496/-/g
 pm-masters-prix-mat-peinture-reporte?tmpl=component
DESCRIPTION:GPM Masters  Prix Mat Peinture (Epreuve reportée) \n(Grand Prix Masters)\n\
 nLieu : ROUGE GAZON\nOrganisateur : SKIEURS DE ST MAURICE/MOSELLE (14063 SK
 IEURS DE ST MAURICE/MOSELLE)\nEmail : RegularLabs.EmailProtector.unCloak("e
 p_d4f1eb61");\n\nInscriptions en cours sur ce site\n - AMVM0381  Slalom (Co
 urses Masters) Tous les Masters Hommes\n  GPM Masters  Prix Mat Peinture\n 
 - AMVF0381  Slalom (Courses Masters) Tous les Masters Dames\n  GPM Masters 
  Prix Mat Peinture Cet évènement a été importé depuis :https://skivosges.ne
 t/agenda/export-synchronisation/detailevenement/496/-/gpm-masters-prix-mat-
 peinture-reporte?tmpl=component (https://skivosges.net/agenda/export-synchr
 onisation/detailevenement/496/-/gpm-masters-prix-mat-peinture-reporte?tmpl=
 component)
X-ALT-DESC;FMTTYPE=text/html:<strong>GPM Masters  Prix Mat Peinture</strong> <font class="attention4">(E
 preuve reportée)</font> <br /><i>(Grand Prix Masters)</i><br /><br />Lieu :
  ROUGE GAZON<br />Organisateur : SKIEURS DE ST MAURICE/MOSELLE <small>(1406
 3 SKIEURS DE ST MAURICE/MOSELLE)</small><br />Email : <!-- Cette adresse él
 ectronique est protégée contre les robots spammeurs. --><span class="cloake
 d_email ep_d4f1eb61"><span data-ep-b="" data-ep-a="d&#97;&#110;i&#101;"><sp
 an data-ep-a="&#108;.&#109;&#111;&#114;" data-ep-b="oo&#46;fr"><span data-e
 p-b="&#119;a&#110;&#97;d" data-ep-a="&#101;l2&#53;&#64;"></span></span></sp
 an></span><script>RegularLabs.EmailProtector.unCloak("ep_d4f1eb61");</scrip
 t><br /><br />Inscriptions en cours sur ce site<ul type="disc"><li>AMVM0381
   Slalom <nobr><i>(Courses Masters)</i></nobr> <nobr>Tous les Masters</nobr
 > Hommes<br />&nbsp;&nbsp;GPM Masters  Prix Mat Peinture</li><li>AMVF0381  
 Slalom <nobr><i>(Courses Masters)</i></nobr> <nobr>Tous les Masters</nobr> 
 Dames<br />&nbsp;&nbsp;GPM Masters  Prix Mat Peinture</li></ul> <a href="ht
 tps://skivosges.net/agenda/export-synchronisation/detailevenement/496/-/gpm
 -masters-prix-mat-peinture-reporte?tmpl=component">Cet évènement a été impo
 rté depuis :https://skivosges.net/agenda/export-synchronisation/detailevene
 ment/496/-/gpm-masters-prix-mat-peinture-reporte?tmpl=component</a>DTSTAMP:20260420T220744
DTSTART;TZID=Europe/Paris:20160130T080000
DTEND;TZID=Europe/Paris:20160130T170000
SEQUENCE:0
TRANSP:OPAQUE
END:VEVENT
END:VCALENDAR