BEGIN:VCALENDAR
VERSION:2.0
PRODID:-//jEvents 2.0 for Joomla//EN
CALSCALE:GREGORIAN
METHOD:PUBLISH
BEGIN:VTIMEZONE
TZID:Europe/Paris
BEGIN:STANDARD
DTSTART:20150130T080000
RDATE:20150329T030000
TZOFFSETFROM:+0200
TZOFFSETTO:+0100
TZNAME:Europe/Paris CET
END:STANDARD
BEGIN:STANDARD
DTSTART:20151025T020000
RDATE:20160327T030000
TZOFFSETFROM:+0200
TZOFFSETTO:+0100
TZNAME:Europe/Paris CET
END:STANDARD
BEGIN:STANDARD
DTSTART:20161030T020000
RDATE:20170326T030000
TZOFFSETFROM:+0200
TZOFFSETTO:+0100
TZNAME:Europe/Paris CET
END:STANDARD
BEGIN:STANDARD
DTSTART:20171029T020000
RDATE:20180325T030000
TZOFFSETFROM:+0200
TZOFFSETTO:+0100
TZNAME:Europe/Paris CET
END:STANDARD
BEGIN:STANDARD
DTSTART:20181028T020000
RDATE:20190331T030000
TZOFFSETFROM:+0200
TZOFFSETTO:+0100
TZNAME:Europe/Paris CET
END:STANDARD
BEGIN:STANDARD
DTSTART:20191027T020000
RDATE:20200329T030000
TZOFFSETFROM:+0200
TZOFFSETTO:+0100
TZNAME:Europe/Paris CET
END:STANDARD
BEGIN:STANDARD
DTSTART:20201025T020000
RDATE:20210328T030000
TZOFFSETFROM:+0200
TZOFFSETTO:+0100
TZNAME:Europe/Paris CET
END:STANDARD
BEGIN:STANDARD
DTSTART:20211031T020000
RDATE:20220327T030000
TZOFFSETFROM:+0200
TZOFFSETTO:+0100
TZNAME:Europe/Paris CET
END:STANDARD
BEGIN:STANDARD
DTSTART:20221030T020000
RDATE:20230326T030000
TZOFFSETFROM:+0200
TZOFFSETTO:+0100
TZNAME:Europe/Paris CET
END:STANDARD
BEGIN:STANDARD
DTSTART:20231029T020000
RDATE:20240331T030000
TZOFFSETFROM:+0200
TZOFFSETTO:+0100
TZNAME:Europe/Paris CET
END:STANDARD
BEGIN:STANDARD
DTSTART:20241027T020000
RDATE:20250330T030000
TZOFFSETFROM:+0200
TZOFFSETTO:+0100
TZNAME:Europe/Paris CET
END:STANDARD
BEGIN:STANDARD
DTSTART:20251026T020000
RDATE:20260329T030000
TZOFFSETFROM:+0200
TZOFFSETTO:+0100
TZNAME:Europe/Paris CET
END:STANDARD
BEGIN:STANDARD
DTSTART:20261025T020000
RDATE:20270328T030000
TZOFFSETFROM:+0200
TZOFFSETTO:+0100
TZNAME:Europe/Paris CET
END:STANDARD
BEGIN:DAYLIGHT
DTSTART:20150329T030000
RDATE:20151025T020000
TZOFFSETFROM:+0100
TZOFFSETTO:+0200
TZNAME:Europe/Paris CEST
END:DAYLIGHT
BEGIN:DAYLIGHT
DTSTART:20160327T030000
RDATE:20161030T020000
TZOFFSETFROM:+0100
TZOFFSETTO:+0200
TZNAME:Europe/Paris CEST
END:DAYLIGHT
BEGIN:DAYLIGHT
DTSTART:20170326T030000
RDATE:20171029T020000
TZOFFSETFROM:+0100
TZOFFSETTO:+0200
TZNAME:Europe/Paris CEST
END:DAYLIGHT
BEGIN:DAYLIGHT
DTSTART:20180325T030000
RDATE:20181028T020000
TZOFFSETFROM:+0100
TZOFFSETTO:+0200
TZNAME:Europe/Paris CEST
END:DAYLIGHT
BEGIN:DAYLIGHT
DTSTART:20190331T030000
RDATE:20191027T020000
TZOFFSETFROM:+0100
TZOFFSETTO:+0200
TZNAME:Europe/Paris CEST
END:DAYLIGHT
BEGIN:DAYLIGHT
DTSTART:20200329T030000
RDATE:20201025T020000
TZOFFSETFROM:+0100
TZOFFSETTO:+0200
TZNAME:Europe/Paris CEST
END:DAYLIGHT
BEGIN:DAYLIGHT
DTSTART:20210328T030000
RDATE:20211031T020000
TZOFFSETFROM:+0100
TZOFFSETTO:+0200
TZNAME:Europe/Paris CEST
END:DAYLIGHT
BEGIN:DAYLIGHT
DTSTART:20220327T030000
RDATE:20221030T020000
TZOFFSETFROM:+0100
TZOFFSETTO:+0200
TZNAME:Europe/Paris CEST
END:DAYLIGHT
BEGIN:DAYLIGHT
DTSTART:20230326T030000
RDATE:20231029T020000
TZOFFSETFROM:+0100
TZOFFSETTO:+0200
TZNAME:Europe/Paris CEST
END:DAYLIGHT
BEGIN:DAYLIGHT
DTSTART:20240331T030000
RDATE:20241027T020000
TZOFFSETFROM:+0100
TZOFFSETTO:+0200
TZNAME:Europe/Paris CEST
END:DAYLIGHT
BEGIN:DAYLIGHT
DTSTART:20250330T030000
RDATE:20251026T020000
TZOFFSETFROM:+0100
TZOFFSETTO:+0200
TZNAME:Europe/Paris CEST
END:DAYLIGHT
BEGIN:DAYLIGHT
DTSTART:20260329T030000
RDATE:20261025T020000
TZOFFSETFROM:+0100
TZOFFSETTO:+0200
TZNAME:Europe/Paris CEST
END:DAYLIGHT
END:VTIMEZONE
BEGIN:VEVENT
UID:72ddd3fff0c76bb0c7698da4b00c7708
CATEGORIES:Circuit Massif Adultes (alpin)
CREATED:20151110T133952
SUMMARY:GPA   U16 à Masters Mémorial Schandené (H) Cooupe Zinglé (D)
URL;VALUE=URI:https://skivosges.net/agenda/export-synchronisation/detailevenement/500/-/g
 pa-u16-a-masters-memorial-schandene-h-cooupe-zingle-d?tmpl=component
DESCRIPTION:GPA   U16 à Masters Mémorial Schandené (H) Cooupe Zinglé (D) \n(Grand Prix 
 Adultes)\n\nLieu : SCHNEPFENRIED\nOrganisateur : SKIEURS DU TANET (14199 SK
 IEURS DU TANET)\nEmail : RegularLabs.EmailProtector.unCloak("ep_7d716b75");
 \nTelecopie : 0603812468\n\nInscriptions closes, les listes de départ sont 
 visualisables sur ce site\n - AMVM0411  Slalom (Courses FFS) U16 a Masters 
 Hommes\n  GPA   U16 à Masters Mémorial Schandené (H) Cooupe Zinglé (D)\n - 
 AMVF0411  Slalom (Courses FFS) U16 a Masters Dames\n  GPA   U16 à Masters M
 émorial Schandené (H) Cooupe Zinglé (D) Cet évènement a été importé depuis 
 :https://skivosges.net/agenda/export-synchronisation/detailevenement/500/-/
 gpa-u16-a-masters-memorial-schandene-h-cooupe-zingle-d?tmpl=component
X-ALT-DESC;FMTTYPE=text/html:<strong>GPA   U16 à Masters Mémorial Schandené (H) Cooupe Zinglé (D)</stron
 g> <br /><i>(Grand Prix Adultes)</i><br /><br />Lieu : SCHNEPFENRIED<br />O
 rganisateur : SKIEURS DU TANET <small>(14199 SKIEURS DU TANET)</small><br /
 >Email : <!-- Cette adresse électronique est protégée contre les robots spa
 mmeurs. --><span class="cloaked_email ep_7d716b75"><span data-ep-b="r" data
 -ep-a="&#109;a&#114;&#99;"><span data-ep-a="&#104;and" data-ep-b="&#101;e&#
 46;f"><span data-ep-a="&#99;&#97;&#112;&#104;" data-ep-b="&#105;&#64;f&#114
 ;"></span></span></span></span><script>RegularLabs.EmailProtector.unCloak("
 ep_7d716b75");</script><br />Telecopie : 0603812468<br /><br />Inscriptions
  closes, les listes de départ sont visualisables sur ce site<ul type="disc"
 ><li>AMVM0411  Slalom <nobr><i>(Courses FFS)</i></nobr> <nobr>U16 a Masters
 </nobr> Hommes<br />&nbsp;&nbsp;GPA   U16 à Masters Mémorial Schandené (H) 
 Cooupe Zinglé (D)</li><li>AMVF0411  Slalom <nobr><i>(Courses FFS)</i></nobr
 > <nobr>U16 a Masters</nobr> Dames<br />&nbsp;&nbsp;GPA   U16 à Masters Mém
 orial Schandené (H) Cooupe Zinglé (D)</li></ul> <a href="https://skivosges.
 net/agenda/export-synchronisation/detailevenement/500/-/gpa-u16-a-masters-m
 emorial-schandene-h-cooupe-zingle-d?tmpl=component">Cet évènement a été imp
 orté depuis :https://skivosges.net/agenda/export-synchronisation/detaileven
 ement/500/-/gpa-u16-a-masters-memorial-schandene-h-cooupe-zingle-d?tmpl=com
 ponent</a>DTSTAMP:20260420T220649
DTSTART;TZID=Europe/Paris:20160131T080000
DTEND;TZID=Europe/Paris:20160131T170000
SEQUENCE:0
TRANSP:OPAQUE
END:VEVENT
END:VCALENDAR