BEGIN:VCALENDAR
VERSION:2.0
PRODID:-//jEvents 2.0 for Joomla//EN
CALSCALE:GREGORIAN
METHOD:PUBLISH
BEGIN:VTIMEZONE
TZID:Europe/Paris
BEGIN:STANDARD
DTSTART:20150130T080000
RDATE:20150329T030000
TZOFFSETFROM:+0200
TZOFFSETTO:+0100
TZNAME:Europe/Paris CET
END:STANDARD
BEGIN:STANDARD
DTSTART:20151025T020000
RDATE:20160327T030000
TZOFFSETFROM:+0200
TZOFFSETTO:+0100
TZNAME:Europe/Paris CET
END:STANDARD
BEGIN:STANDARD
DTSTART:20161030T020000
RDATE:20170326T030000
TZOFFSETFROM:+0200
TZOFFSETTO:+0100
TZNAME:Europe/Paris CET
END:STANDARD
BEGIN:STANDARD
DTSTART:20171029T020000
RDATE:20180325T030000
TZOFFSETFROM:+0200
TZOFFSETTO:+0100
TZNAME:Europe/Paris CET
END:STANDARD
BEGIN:STANDARD
DTSTART:20181028T020000
RDATE:20190331T030000
TZOFFSETFROM:+0200
TZOFFSETTO:+0100
TZNAME:Europe/Paris CET
END:STANDARD
BEGIN:STANDARD
DTSTART:20191027T020000
RDATE:20200329T030000
TZOFFSETFROM:+0200
TZOFFSETTO:+0100
TZNAME:Europe/Paris CET
END:STANDARD
BEGIN:STANDARD
DTSTART:20201025T020000
RDATE:20210328T030000
TZOFFSETFROM:+0200
TZOFFSETTO:+0100
TZNAME:Europe/Paris CET
END:STANDARD
BEGIN:STANDARD
DTSTART:20211031T020000
RDATE:20220327T030000
TZOFFSETFROM:+0200
TZOFFSETTO:+0100
TZNAME:Europe/Paris CET
END:STANDARD
BEGIN:STANDARD
DTSTART:20221030T020000
RDATE:20230326T030000
TZOFFSETFROM:+0200
TZOFFSETTO:+0100
TZNAME:Europe/Paris CET
END:STANDARD
BEGIN:STANDARD
DTSTART:20231029T020000
RDATE:20240331T030000
TZOFFSETFROM:+0200
TZOFFSETTO:+0100
TZNAME:Europe/Paris CET
END:STANDARD
BEGIN:STANDARD
DTSTART:20241027T020000
RDATE:20250330T030000
TZOFFSETFROM:+0200
TZOFFSETTO:+0100
TZNAME:Europe/Paris CET
END:STANDARD
BEGIN:STANDARD
DTSTART:20251026T020000
RDATE:20260329T030000
TZOFFSETFROM:+0200
TZOFFSETTO:+0100
TZNAME:Europe/Paris CET
END:STANDARD
BEGIN:STANDARD
DTSTART:20261025T020000
RDATE:20270328T030000
TZOFFSETFROM:+0200
TZOFFSETTO:+0100
TZNAME:Europe/Paris CET
END:STANDARD
BEGIN:DAYLIGHT
DTSTART:20150329T030000
RDATE:20151025T020000
TZOFFSETFROM:+0100
TZOFFSETTO:+0200
TZNAME:Europe/Paris CEST
END:DAYLIGHT
BEGIN:DAYLIGHT
DTSTART:20160327T030000
RDATE:20161030T020000
TZOFFSETFROM:+0100
TZOFFSETTO:+0200
TZNAME:Europe/Paris CEST
END:DAYLIGHT
BEGIN:DAYLIGHT
DTSTART:20170326T030000
RDATE:20171029T020000
TZOFFSETFROM:+0100
TZOFFSETTO:+0200
TZNAME:Europe/Paris CEST
END:DAYLIGHT
BEGIN:DAYLIGHT
DTSTART:20180325T030000
RDATE:20181028T020000
TZOFFSETFROM:+0100
TZOFFSETTO:+0200
TZNAME:Europe/Paris CEST
END:DAYLIGHT
BEGIN:DAYLIGHT
DTSTART:20190331T030000
RDATE:20191027T020000
TZOFFSETFROM:+0100
TZOFFSETTO:+0200
TZNAME:Europe/Paris CEST
END:DAYLIGHT
BEGIN:DAYLIGHT
DTSTART:20200329T030000
RDATE:20201025T020000
TZOFFSETFROM:+0100
TZOFFSETTO:+0200
TZNAME:Europe/Paris CEST
END:DAYLIGHT
BEGIN:DAYLIGHT
DTSTART:20210328T030000
RDATE:20211031T020000
TZOFFSETFROM:+0100
TZOFFSETTO:+0200
TZNAME:Europe/Paris CEST
END:DAYLIGHT
BEGIN:DAYLIGHT
DTSTART:20220327T030000
RDATE:20221030T020000
TZOFFSETFROM:+0100
TZOFFSETTO:+0200
TZNAME:Europe/Paris CEST
END:DAYLIGHT
BEGIN:DAYLIGHT
DTSTART:20230326T030000
RDATE:20231029T020000
TZOFFSETFROM:+0100
TZOFFSETTO:+0200
TZNAME:Europe/Paris CEST
END:DAYLIGHT
BEGIN:DAYLIGHT
DTSTART:20240331T030000
RDATE:20241027T020000
TZOFFSETFROM:+0100
TZOFFSETTO:+0200
TZNAME:Europe/Paris CEST
END:DAYLIGHT
BEGIN:DAYLIGHT
DTSTART:20250330T030000
RDATE:20251026T020000
TZOFFSETFROM:+0100
TZOFFSETTO:+0200
TZNAME:Europe/Paris CEST
END:DAYLIGHT
BEGIN:DAYLIGHT
DTSTART:20260329T030000
RDATE:20261025T020000
TZOFFSETFROM:+0100
TZOFFSETTO:+0200
TZNAME:Europe/Paris CEST
END:DAYLIGHT
END:VTIMEZONE
BEGIN:VEVENT
UID:661183c6e5ff325ef6972acae74df147
CATEGORIES:Circuit Lorraine Jeunes (alpin)
CREATED:20151110T133952
SUMMARY:CLJ    U8 à U10 / U12 à U14   Prix confiserie des Htes. Vosges **REPORTE**
URL;VALUE=URI:https://skivosges.net/agenda/export-synchronisation/detailevenement/502/-/c
 lj-u8-a-u10-u12-a-u14-prix-confiserie-des-htes-vosges-reporte?tmpl=componen
 t
DESCRIPTION:CLJ    U8 à U10 / U12 à U14   Prix confiserie des Htes. Vosges (Epreuve rep
 ortée, date à determiner) \n(Coupe de Lorraine Jeunes)\n\nLieu : GERARDMER\
 nPiste : STADE DE SLALOM\nOrganisateur : A.S DU VALTIN (14409 A.S DU VALTIN
 )\n\nInscriptions closes, les listes de départ sont visualisables sur ce si
 te\n - AMVM0391  Slalom Geant (Micro Coupe) U8/U10 Garçons\n  CLJ    U8 à U
 10 / U12 à U14   Prix confiserie des Htes. Vosges\n - AMVM0392  Slalom Gean
 t (Coupe de Bronze) U12/U14 Garçons\n  CLJ    U8 à U10 / U12 à U14   Prix c
 onfiserie des Htes. Vosges\n - AMVF0391  Slalom Geant (Micro Coupe) U8/U10 
 Filles\n  CLJ    U8 à U10 / U12 à U14   Prix confiserie des Htes. Vosges\n 
 - AMVF0392  Slalom Geant (Coupe de Bronze) U12/U14 Filles\n  CLJ    U8 à U1
 0 / U12 à U14   Prix confiserie des Htes. Vosges Cet évènement a été import
 é depuis :https://skivosges.net/agenda/export-synchronisation/detaileveneme
 nt/502/-/clj-u8-a-u10-u12-a-u14-prix-confiserie-des-htes-vosges-reporte?tmp
 l=component
X-ALT-DESC;FMTTYPE=text/html:<strong>CLJ    U8 à U10 / U12 à U14   Prix confiserie des Htes. Vosges</str
 ong> <font class="attention4">(Epreuve reportée, date à determiner)</font> 
 <br /><i>(Coupe de Lorraine Jeunes)</i><br /><br />Lieu : GERARDMER<br />Pi
 ste : STADE DE SLALOM<br />Organisateur : A.S DU VALTIN <small>(14409 A.S D
 U VALTIN)</small><br /><br />Inscriptions closes, les listes de départ sont
  visualisables sur ce site<ul type="disc"><li>AMVM0391  Slalom Geant <nobr>
 <i>(Micro Coupe)</i></nobr> <nobr>U8/U10</nobr> Garçons<br />&nbsp;&nbsp;CL
 J    U8 à U10 / U12 à U14   Prix confiserie des Htes. Vosges</li><li>AMVM03
 92  Slalom Geant <nobr><i>(Coupe de Bronze)</i></nobr> <nobr>U12/U14</nobr>
  Garçons<br />&nbsp;&nbsp;CLJ    U8 à U10 / U12 à U14   Prix confiserie des
  Htes. Vosges</li><li>AMVF0391  Slalom Geant <nobr><i>(Micro Coupe)</i></no
 br> <nobr>U8/U10</nobr> Filles<br />&nbsp;&nbsp;CLJ    U8 à U10 / U12 à U14
    Prix confiserie des Htes. Vosges</li><li>AMVF0392  Slalom Geant <nobr><i
 >(Coupe de Bronze)</i></nobr> <nobr>U12/U14</nobr> Filles<br />&nbsp;&nbsp;
 CLJ    U8 à U10 / U12 à U14   Prix confiserie des Htes. Vosges</li></ul> <a
  href="https://skivosges.net/agenda/export-synchronisation/detailevenement/
 502/-/clj-u8-a-u10-u12-a-u14-prix-confiserie-des-htes-vosges-reporte?tmpl=c
 omponent">Cet évènement a été importé depuis :https://skivosges.net/agenda/
 export-synchronisation/detailevenement/502/-/clj-u8-a-u10-u12-a-u14-prix-co
 nfiserie-des-htes-vosges-reporte?tmpl=component</a>DTSTAMP:20260420T220618
DTSTART;TZID=Europe/Paris:20160131T080000
DTEND;TZID=Europe/Paris:20160131T170000
SEQUENCE:0
TRANSP:OPAQUE
END:VEVENT
END:VCALENDAR