BEGIN:VCALENDAR
VERSION:2.0
PRODID:-//jEvents 2.0 for Joomla//EN
CALSCALE:GREGORIAN
METHOD:PUBLISH
BEGIN:VTIMEZONE
TZID:Europe/Paris
BEGIN:STANDARD
DTSTART:20150130T080000
RDATE:20150329T030000
TZOFFSETFROM:+0200
TZOFFSETTO:+0100
TZNAME:Europe/Paris CET
END:STANDARD
BEGIN:STANDARD
DTSTART:20151025T020000
RDATE:20160327T030000
TZOFFSETFROM:+0200
TZOFFSETTO:+0100
TZNAME:Europe/Paris CET
END:STANDARD
BEGIN:STANDARD
DTSTART:20161030T020000
RDATE:20170326T030000
TZOFFSETFROM:+0200
TZOFFSETTO:+0100
TZNAME:Europe/Paris CET
END:STANDARD
BEGIN:STANDARD
DTSTART:20171029T020000
RDATE:20180325T030000
TZOFFSETFROM:+0200
TZOFFSETTO:+0100
TZNAME:Europe/Paris CET
END:STANDARD
BEGIN:STANDARD
DTSTART:20181028T020000
RDATE:20190331T030000
TZOFFSETFROM:+0200
TZOFFSETTO:+0100
TZNAME:Europe/Paris CET
END:STANDARD
BEGIN:STANDARD
DTSTART:20191027T020000
RDATE:20200329T030000
TZOFFSETFROM:+0200
TZOFFSETTO:+0100
TZNAME:Europe/Paris CET
END:STANDARD
BEGIN:STANDARD
DTSTART:20201025T020000
RDATE:20210328T030000
TZOFFSETFROM:+0200
TZOFFSETTO:+0100
TZNAME:Europe/Paris CET
END:STANDARD
BEGIN:STANDARD
DTSTART:20211031T020000
RDATE:20220327T030000
TZOFFSETFROM:+0200
TZOFFSETTO:+0100
TZNAME:Europe/Paris CET
END:STANDARD
BEGIN:STANDARD
DTSTART:20221030T020000
RDATE:20230326T030000
TZOFFSETFROM:+0200
TZOFFSETTO:+0100
TZNAME:Europe/Paris CET
END:STANDARD
BEGIN:STANDARD
DTSTART:20231029T020000
RDATE:20240331T030000
TZOFFSETFROM:+0200
TZOFFSETTO:+0100
TZNAME:Europe/Paris CET
END:STANDARD
BEGIN:STANDARD
DTSTART:20241027T020000
RDATE:20250330T030000
TZOFFSETFROM:+0200
TZOFFSETTO:+0100
TZNAME:Europe/Paris CET
END:STANDARD
BEGIN:STANDARD
DTSTART:20251026T020000
RDATE:20260329T030000
TZOFFSETFROM:+0200
TZOFFSETTO:+0100
TZNAME:Europe/Paris CET
END:STANDARD
BEGIN:STANDARD
DTSTART:20261025T020000
RDATE:20270328T030000
TZOFFSETFROM:+0200
TZOFFSETTO:+0100
TZNAME:Europe/Paris CET
END:STANDARD
BEGIN:DAYLIGHT
DTSTART:20150329T030000
RDATE:20151025T020000
TZOFFSETFROM:+0100
TZOFFSETTO:+0200
TZNAME:Europe/Paris CEST
END:DAYLIGHT
BEGIN:DAYLIGHT
DTSTART:20160327T030000
RDATE:20161030T020000
TZOFFSETFROM:+0100
TZOFFSETTO:+0200
TZNAME:Europe/Paris CEST
END:DAYLIGHT
BEGIN:DAYLIGHT
DTSTART:20170326T030000
RDATE:20171029T020000
TZOFFSETFROM:+0100
TZOFFSETTO:+0200
TZNAME:Europe/Paris CEST
END:DAYLIGHT
BEGIN:DAYLIGHT
DTSTART:20180325T030000
RDATE:20181028T020000
TZOFFSETFROM:+0100
TZOFFSETTO:+0200
TZNAME:Europe/Paris CEST
END:DAYLIGHT
BEGIN:DAYLIGHT
DTSTART:20190331T030000
RDATE:20191027T020000
TZOFFSETFROM:+0100
TZOFFSETTO:+0200
TZNAME:Europe/Paris CEST
END:DAYLIGHT
BEGIN:DAYLIGHT
DTSTART:20200329T030000
RDATE:20201025T020000
TZOFFSETFROM:+0100
TZOFFSETTO:+0200
TZNAME:Europe/Paris CEST
END:DAYLIGHT
BEGIN:DAYLIGHT
DTSTART:20210328T030000
RDATE:20211031T020000
TZOFFSETFROM:+0100
TZOFFSETTO:+0200
TZNAME:Europe/Paris CEST
END:DAYLIGHT
BEGIN:DAYLIGHT
DTSTART:20220327T030000
RDATE:20221030T020000
TZOFFSETFROM:+0100
TZOFFSETTO:+0200
TZNAME:Europe/Paris CEST
END:DAYLIGHT
BEGIN:DAYLIGHT
DTSTART:20230326T030000
RDATE:20231029T020000
TZOFFSETFROM:+0100
TZOFFSETTO:+0200
TZNAME:Europe/Paris CEST
END:DAYLIGHT
BEGIN:DAYLIGHT
DTSTART:20240331T030000
RDATE:20241027T020000
TZOFFSETFROM:+0100
TZOFFSETTO:+0200
TZNAME:Europe/Paris CEST
END:DAYLIGHT
BEGIN:DAYLIGHT
DTSTART:20250330T030000
RDATE:20251026T020000
TZOFFSETFROM:+0100
TZOFFSETTO:+0200
TZNAME:Europe/Paris CEST
END:DAYLIGHT
BEGIN:DAYLIGHT
DTSTART:20260329T030000
RDATE:20261025T020000
TZOFFSETFROM:+0100
TZOFFSETTO:+0200
TZNAME:Europe/Paris CEST
END:DAYLIGHT
END:VTIMEZONE
BEGIN:VEVENT
UID:b57e9bc997ea8cd230db3e0fbb4a088a
CATEGORIES:Circuit Alsace Jeunes (alpin)
CREATED:20151110T133952
SUMMARY:CAJ  U8 à U10 / U12 à U14    Trophée Eurocoupe **REPORTE**
URL;VALUE=URI:https://skivosges.net/agenda/export-synchronisation/detailevenement/503/-/c
 aj-u8-a-u10-u12-a-u14-trophee-eurocoupe-reporte?tmpl=component
DESCRIPTION:CAJ  U8 à U10 / U12 à U14    Trophée Eurocoupe (Epreuve reportée, date à de
 terminer) \n(Coupe d'Alsace Jeunes)\n\nLieu : ROUGE GAZON\nOrganisateur : A
 SPTT MULHOUSE (14173 ASPTT MULHOUSE)\nEmail : RegularLabs.EmailProtector.un
 Cloak("ep_1be520fc");\nTelecopie : 0389463728\n - AMVM0421  Slalom Geant (M
 icro Coupe) U8/U10 Garçons\n  CAJ  U8 à U10 / U12 à U14    Trophée Eurocoup
 e\n - AMVM0422  Slalom Geant (Coupe de Bronze) U12/U14 Garçons\n  CAJ  U8 à
  U10 / U12 à U14    Trophée Eurocoupe\n - AMVF0421  Slalom Geant (Micro Cou
 pe) U8/U10 Filles\n  CAJ  U8 à U10 / U12 à U14    Trophée Eurocoupe\n - AMV
 F0422  Slalom Geant (Coupe de Bronze) U12/U14 Filles\n  CAJ  U8 à U10 / U12
  à U14    Trophée Eurocoupe Cet évènement a été importé depuis :https://ski
 vosges.net/agenda/export-synchronisation/detailevenement/503/-/caj-u8-a-u10
 -u12-a-u14-trophee-eurocoupe-reporte?tmpl=component
X-ALT-DESC;FMTTYPE=text/html:<strong>CAJ  U8 à U10 / U12 à U14    Trophée Eurocoupe</strong> <font class
 ="attention4">(Epreuve reportée, date à determiner)</font> <br /><i>(Coupe 
 d'Alsace Jeunes)</i><br /><br />Lieu : ROUGE GAZON<br />Organisateur : ASPT
 T MULHOUSE <small>(14173 ASPTT MULHOUSE)</small><br />Email : <!-- Cette ad
 resse électronique est protégée contre les robots spammeurs. --><span class
 ="cloaked_email ep_1be520fc"><span data-ep-b="&#111;&#46;&#102;&#114;" data
 -ep-a="a&#115;&#112;tt"><span data-ep-a="&#45;&#115;&#107;i." data-ep-b="&#
 97;n&#97;do"><span data-ep-a="&#109;&#117;lho" data-ep-b="&#117;s&#101;&#64
 ;w"></span></span></span></span><script>RegularLabs.EmailProtector.unCloak(
 "ep_1be520fc");</script><br />Telecopie : 0389463728<ul type="disc"><li>AMV
 M0421  Slalom Geant <nobr><i>(Micro Coupe)</i></nobr> <nobr>U8/U10</nobr> G
 arçons<br />&nbsp;&nbsp;CAJ  U8 à U10 / U12 à U14    Trophée Eurocoupe</li>
 <li>AMVM0422  Slalom Geant <nobr><i>(Coupe de Bronze)</i></nobr> <nobr>U12/
 U14</nobr> Garçons<br />&nbsp;&nbsp;CAJ  U8 à U10 / U12 à U14    Trophée Eu
 rocoupe</li><li>AMVF0421  Slalom Geant <nobr><i>(Micro Coupe)</i></nobr> <n
 obr>U8/U10</nobr> Filles<br />&nbsp;&nbsp;CAJ  U8 à U10 / U12 à U14    Trop
 hée Eurocoupe</li><li>AMVF0422  Slalom Geant <nobr><i>(Coupe de Bronze)</i>
 </nobr> <nobr>U12/U14</nobr> Filles<br />&nbsp;&nbsp;CAJ  U8 à U10 / U12 à 
 U14    Trophée Eurocoupe</li></ul> <a href="https://skivosges.net/agenda/ex
 port-synchronisation/detailevenement/503/-/caj-u8-a-u10-u12-a-u14-trophee-e
 urocoupe-reporte?tmpl=component">Cet évènement a été importé depuis :https:
 //skivosges.net/agenda/export-synchronisation/detailevenement/503/-/caj-u8-
 a-u10-u12-a-u14-trophee-eurocoupe-reporte?tmpl=component</a>DTSTAMP:20260421T045910
DTSTART;TZID=Europe/Paris:20160131T080000
DTEND;TZID=Europe/Paris:20160131T170000
SEQUENCE:0
TRANSP:OPAQUE
END:VEVENT
END:VCALENDAR