BEGIN:VCALENDAR
VERSION:2.0
PRODID:-//jEvents 2.0 for Joomla//EN
CALSCALE:GREGORIAN
METHOD:PUBLISH
BEGIN:VTIMEZONE
TZID:Europe/Paris
BEGIN:STANDARD
DTSTART:20150130T080000
RDATE:20150329T030000
TZOFFSETFROM:+0200
TZOFFSETTO:+0100
TZNAME:Europe/Paris CET
END:STANDARD
BEGIN:STANDARD
DTSTART:20151025T020000
RDATE:20160327T030000
TZOFFSETFROM:+0200
TZOFFSETTO:+0100
TZNAME:Europe/Paris CET
END:STANDARD
BEGIN:STANDARD
DTSTART:20161030T020000
RDATE:20170326T030000
TZOFFSETFROM:+0200
TZOFFSETTO:+0100
TZNAME:Europe/Paris CET
END:STANDARD
BEGIN:STANDARD
DTSTART:20171029T020000
RDATE:20180325T030000
TZOFFSETFROM:+0200
TZOFFSETTO:+0100
TZNAME:Europe/Paris CET
END:STANDARD
BEGIN:STANDARD
DTSTART:20181028T020000
RDATE:20190331T030000
TZOFFSETFROM:+0200
TZOFFSETTO:+0100
TZNAME:Europe/Paris CET
END:STANDARD
BEGIN:STANDARD
DTSTART:20191027T020000
RDATE:20200329T030000
TZOFFSETFROM:+0200
TZOFFSETTO:+0100
TZNAME:Europe/Paris CET
END:STANDARD
BEGIN:STANDARD
DTSTART:20201025T020000
RDATE:20210328T030000
TZOFFSETFROM:+0200
TZOFFSETTO:+0100
TZNAME:Europe/Paris CET
END:STANDARD
BEGIN:STANDARD
DTSTART:20211031T020000
RDATE:20220327T030000
TZOFFSETFROM:+0200
TZOFFSETTO:+0100
TZNAME:Europe/Paris CET
END:STANDARD
BEGIN:STANDARD
DTSTART:20221030T020000
RDATE:20230326T030000
TZOFFSETFROM:+0200
TZOFFSETTO:+0100
TZNAME:Europe/Paris CET
END:STANDARD
BEGIN:STANDARD
DTSTART:20231029T020000
RDATE:20240331T030000
TZOFFSETFROM:+0200
TZOFFSETTO:+0100
TZNAME:Europe/Paris CET
END:STANDARD
BEGIN:STANDARD
DTSTART:20241027T020000
RDATE:20250330T030000
TZOFFSETFROM:+0200
TZOFFSETTO:+0100
TZNAME:Europe/Paris CET
END:STANDARD
BEGIN:STANDARD
DTSTART:20251026T020000
RDATE:20260329T030000
TZOFFSETFROM:+0200
TZOFFSETTO:+0100
TZNAME:Europe/Paris CET
END:STANDARD
BEGIN:STANDARD
DTSTART:20261025T020000
RDATE:20270328T030000
TZOFFSETFROM:+0200
TZOFFSETTO:+0100
TZNAME:Europe/Paris CET
END:STANDARD
BEGIN:DAYLIGHT
DTSTART:20150329T030000
RDATE:20151025T020000
TZOFFSETFROM:+0100
TZOFFSETTO:+0200
TZNAME:Europe/Paris CEST
END:DAYLIGHT
BEGIN:DAYLIGHT
DTSTART:20160327T030000
RDATE:20161030T020000
TZOFFSETFROM:+0100
TZOFFSETTO:+0200
TZNAME:Europe/Paris CEST
END:DAYLIGHT
BEGIN:DAYLIGHT
DTSTART:20170326T030000
RDATE:20171029T020000
TZOFFSETFROM:+0100
TZOFFSETTO:+0200
TZNAME:Europe/Paris CEST
END:DAYLIGHT
BEGIN:DAYLIGHT
DTSTART:20180325T030000
RDATE:20181028T020000
TZOFFSETFROM:+0100
TZOFFSETTO:+0200
TZNAME:Europe/Paris CEST
END:DAYLIGHT
BEGIN:DAYLIGHT
DTSTART:20190331T030000
RDATE:20191027T020000
TZOFFSETFROM:+0100
TZOFFSETTO:+0200
TZNAME:Europe/Paris CEST
END:DAYLIGHT
BEGIN:DAYLIGHT
DTSTART:20200329T030000
RDATE:20201025T020000
TZOFFSETFROM:+0100
TZOFFSETTO:+0200
TZNAME:Europe/Paris CEST
END:DAYLIGHT
BEGIN:DAYLIGHT
DTSTART:20210328T030000
RDATE:20211031T020000
TZOFFSETFROM:+0100
TZOFFSETTO:+0200
TZNAME:Europe/Paris CEST
END:DAYLIGHT
BEGIN:DAYLIGHT
DTSTART:20220327T030000
RDATE:20221030T020000
TZOFFSETFROM:+0100
TZOFFSETTO:+0200
TZNAME:Europe/Paris CEST
END:DAYLIGHT
BEGIN:DAYLIGHT
DTSTART:20230326T030000
RDATE:20231029T020000
TZOFFSETFROM:+0100
TZOFFSETTO:+0200
TZNAME:Europe/Paris CEST
END:DAYLIGHT
BEGIN:DAYLIGHT
DTSTART:20240331T030000
RDATE:20241027T020000
TZOFFSETFROM:+0100
TZOFFSETTO:+0200
TZNAME:Europe/Paris CEST
END:DAYLIGHT
BEGIN:DAYLIGHT
DTSTART:20250330T030000
RDATE:20251026T020000
TZOFFSETFROM:+0100
TZOFFSETTO:+0200
TZNAME:Europe/Paris CEST
END:DAYLIGHT
BEGIN:DAYLIGHT
DTSTART:20260329T030000
RDATE:20261025T020000
TZOFFSETFROM:+0100
TZOFFSETTO:+0200
TZNAME:Europe/Paris CEST
END:DAYLIGHT
END:VTIMEZONE
BEGIN:VEVENT
UID:83fd21e77d2551c6eceb75ef1b54675d
CATEGORIES:Opens et Promos (alpin)
CREATED:20151110T133952
SUMMARY:PROMO  U8 à U16 dimanches de la Glisse Fête de la neige
URL;VALUE=URI:https://skivosges.net/agenda/export-synchronisation/detailevenement/504/-/p
 romo-u8-a-u16-dimanches-de-la-glisse-fete-de-la-neige?tmpl=component
DESCRIPTION:PROMO  U8 à U16 dimanches de la Glisse Fête de la neige\n\nLieu : CHAMP DU 
 FEU\nOrganisateur : SKIEURS DE STRASBOURG (14077 SKIEURS DE STRASBOURG)\nEm
 ail : RegularLabs.EmailProtector.unCloak("ep_13430bb6");\n\nLa course est a
 nnulée !\n\nInscriptions en cours sur ce site\n - AMVM0401  Slalom Geant U8
 /U10 Garçons\n  PROMO  U8 à U16    les dimanches de la Glisse - Fête de la 
 neige\n - AMVM0402  Slalom Geant U12 a U16 Garçons\n  PROMO  U8 à U16    le
 s dimanches de la Glisse - Fête de la neige\n - AMVF0401  Slalom Geant U8/U
 10 Filles\n  PROMO  U8 à U16    les dimanches de la Glisse - Fête de la nei
 ge\n - AMVF0402  Slalom Geant U12 a U16 Filles\n  PROMO  U8 à U16    les di
 manches de la Glisse - Fête de la neige Cet évènement a été importé depuis 
 :https://skivosges.net/agenda/export-synchronisation/detailevenement/504/-/
 promo-u8-a-u16-dimanches-de-la-glisse-fete-de-la-neige?tmpl=component
X-ALT-DESC;FMTTYPE=text/html:<strong>PROMO  U8 à U16 dimanches de la Glisse Fête de la neige</strong><br
  /><br />Lieu : CHAMP DU FEU<br />Organisateur : SKIEURS DE STRASBOURG <sma
 ll>(14077 SKIEURS DE STRASBOURG)</small><br />Email : <!-- Cette adresse él
 ectronique est protégée contre les robots spammeurs. --><span class="cloake
 d_email ep_13430bb6"><span data-ep-b="&#111;r&#103;" data-ep-a="&#115;&#103
 ;&#64;&#115;"><span data-ep-b="&#108;l&#101;&#46;" data-ep-a="&#107;ic&#108
 ;"><span data-ep-b="ne&#118;&#105;" data-ep-a="u&#98;&#97;&#109;"></span></
 span></span></span><script>RegularLabs.EmailProtector.unCloak("ep_13430bb6"
 );</script><br /><br />La course est annulée !<br /><br />Inscriptions en c
 ours sur ce site<ul type="disc"><li>AMVM0401  Slalom Geant <nobr>U8/U10</no
 br> Garçons<br />&nbsp;&nbsp;PROMO  U8 à U16    les dimanches de la Glisse 
 - Fête de la neige</li><li>AMVM0402  Slalom Geant <nobr>U12 a U16</nobr> Ga
 rçons<br />&nbsp;&nbsp;PROMO  U8 à U16    les dimanches de la Glisse - Fête
  de la neige</li><li>AMVF0401  Slalom Geant <nobr>U8/U10</nobr> Filles<br /
 >&nbsp;&nbsp;PROMO  U8 à U16    les dimanches de la Glisse - Fête de la nei
 ge</li><li>AMVF0402  Slalom Geant <nobr>U12 a U16</nobr> Filles<br />&nbsp;
 &nbsp;PROMO  U8 à U16    les dimanches de la Glisse - Fête de la neige</li>
 </ul> <a href="https://skivosges.net/agenda/export-synchronisation/detailev
 enement/504/-/promo-u8-a-u16-dimanches-de-la-glisse-fete-de-la-neige?tmpl=c
 omponent">Cet évènement a été importé depuis :https://skivosges.net/agenda/
 export-synchronisation/detailevenement/504/-/promo-u8-a-u16-dimanches-de-la
 -glisse-fete-de-la-neige?tmpl=component</a>DTSTAMP:20260421T050401
DTSTART;TZID=Europe/Paris:20160131T080000
DTEND;TZID=Europe/Paris:20160131T170000
SEQUENCE:0
TRANSP:OPAQUE
END:VEVENT
END:VCALENDAR