BEGIN:VCALENDAR
VERSION:2.0
PRODID:-//jEvents 2.0 for Joomla//EN
CALSCALE:GREGORIAN
METHOD:PUBLISH
BEGIN:VTIMEZONE
TZID:Europe/Paris
BEGIN:STANDARD
DTSTART:20150204T080000
RDATE:20150329T030000
TZOFFSETFROM:+0200
TZOFFSETTO:+0100
TZNAME:Europe/Paris CET
END:STANDARD
BEGIN:STANDARD
DTSTART:20151025T020000
RDATE:20160327T030000
TZOFFSETFROM:+0200
TZOFFSETTO:+0100
TZNAME:Europe/Paris CET
END:STANDARD
BEGIN:STANDARD
DTSTART:20161030T020000
RDATE:20170326T030000
TZOFFSETFROM:+0200
TZOFFSETTO:+0100
TZNAME:Europe/Paris CET
END:STANDARD
BEGIN:STANDARD
DTSTART:20171029T020000
RDATE:20180325T030000
TZOFFSETFROM:+0200
TZOFFSETTO:+0100
TZNAME:Europe/Paris CET
END:STANDARD
BEGIN:STANDARD
DTSTART:20181028T020000
RDATE:20190331T030000
TZOFFSETFROM:+0200
TZOFFSETTO:+0100
TZNAME:Europe/Paris CET
END:STANDARD
BEGIN:STANDARD
DTSTART:20191027T020000
RDATE:20200329T030000
TZOFFSETFROM:+0200
TZOFFSETTO:+0100
TZNAME:Europe/Paris CET
END:STANDARD
BEGIN:STANDARD
DTSTART:20201025T020000
RDATE:20210328T030000
TZOFFSETFROM:+0200
TZOFFSETTO:+0100
TZNAME:Europe/Paris CET
END:STANDARD
BEGIN:STANDARD
DTSTART:20211031T020000
RDATE:20220327T030000
TZOFFSETFROM:+0200
TZOFFSETTO:+0100
TZNAME:Europe/Paris CET
END:STANDARD
BEGIN:STANDARD
DTSTART:20221030T020000
RDATE:20230326T030000
TZOFFSETFROM:+0200
TZOFFSETTO:+0100
TZNAME:Europe/Paris CET
END:STANDARD
BEGIN:STANDARD
DTSTART:20231029T020000
RDATE:20240331T030000
TZOFFSETFROM:+0200
TZOFFSETTO:+0100
TZNAME:Europe/Paris CET
END:STANDARD
BEGIN:STANDARD
DTSTART:20241027T020000
RDATE:20250330T030000
TZOFFSETFROM:+0200
TZOFFSETTO:+0100
TZNAME:Europe/Paris CET
END:STANDARD
BEGIN:STANDARD
DTSTART:20251026T020000
RDATE:20260329T030000
TZOFFSETFROM:+0200
TZOFFSETTO:+0100
TZNAME:Europe/Paris CET
END:STANDARD
BEGIN:STANDARD
DTSTART:20261025T020000
RDATE:20270328T030000
TZOFFSETFROM:+0200
TZOFFSETTO:+0100
TZNAME:Europe/Paris CET
END:STANDARD
BEGIN:DAYLIGHT
DTSTART:20150329T030000
RDATE:20151025T020000
TZOFFSETFROM:+0100
TZOFFSETTO:+0200
TZNAME:Europe/Paris CEST
END:DAYLIGHT
BEGIN:DAYLIGHT
DTSTART:20160327T030000
RDATE:20161030T020000
TZOFFSETFROM:+0100
TZOFFSETTO:+0200
TZNAME:Europe/Paris CEST
END:DAYLIGHT
BEGIN:DAYLIGHT
DTSTART:20170326T030000
RDATE:20171029T020000
TZOFFSETFROM:+0100
TZOFFSETTO:+0200
TZNAME:Europe/Paris CEST
END:DAYLIGHT
BEGIN:DAYLIGHT
DTSTART:20180325T030000
RDATE:20181028T020000
TZOFFSETFROM:+0100
TZOFFSETTO:+0200
TZNAME:Europe/Paris CEST
END:DAYLIGHT
BEGIN:DAYLIGHT
DTSTART:20190331T030000
RDATE:20191027T020000
TZOFFSETFROM:+0100
TZOFFSETTO:+0200
TZNAME:Europe/Paris CEST
END:DAYLIGHT
BEGIN:DAYLIGHT
DTSTART:20200329T030000
RDATE:20201025T020000
TZOFFSETFROM:+0100
TZOFFSETTO:+0200
TZNAME:Europe/Paris CEST
END:DAYLIGHT
BEGIN:DAYLIGHT
DTSTART:20210328T030000
RDATE:20211031T020000
TZOFFSETFROM:+0100
TZOFFSETTO:+0200
TZNAME:Europe/Paris CEST
END:DAYLIGHT
BEGIN:DAYLIGHT
DTSTART:20220327T030000
RDATE:20221030T020000
TZOFFSETFROM:+0100
TZOFFSETTO:+0200
TZNAME:Europe/Paris CEST
END:DAYLIGHT
BEGIN:DAYLIGHT
DTSTART:20230326T030000
RDATE:20231029T020000
TZOFFSETFROM:+0100
TZOFFSETTO:+0200
TZNAME:Europe/Paris CEST
END:DAYLIGHT
BEGIN:DAYLIGHT
DTSTART:20240331T030000
RDATE:20241027T020000
TZOFFSETFROM:+0100
TZOFFSETTO:+0200
TZNAME:Europe/Paris CEST
END:DAYLIGHT
BEGIN:DAYLIGHT
DTSTART:20250330T030000
RDATE:20251026T020000
TZOFFSETFROM:+0100
TZOFFSETTO:+0200
TZNAME:Europe/Paris CEST
END:DAYLIGHT
BEGIN:DAYLIGHT
DTSTART:20260329T030000
RDATE:20261025T020000
TZOFFSETFROM:+0100
TZOFFSETTO:+0200
TZNAME:Europe/Paris CEST
END:DAYLIGHT
END:VTIMEZONE
BEGIN:VEVENT
UID:5d7123b240e6296f96b391ac8be1363e
CATEGORIES:Circuit Massif Masters (alpin)
CREATED:20151110T133952
SUMMARY:GPM Mémorial Roger Kurtzemann
URL;VALUE=URI:https://skivosges.net/agenda/export-synchronisation/detailevenement/506/-/g
 pm-memorial-roger-kurtzemann?tmpl=component
DESCRIPTION:GPM Mémorial Roger Kurtzemann \n(Grand Prix Masters)\n\nLieu : MARKSTEIN\nP
 iste : Stade\nOrganisateur : SKI CLUB KRUTH (14145 SKI CLUB KRUTH)\nEmail :
  RegularLabs.EmailProtector.unCloak("ep_2192f78d");\n\nInscriptions closes,
  les listes de départ sont visualisables sur ce site\n - AMVM0441  Slalom (
 Courses Masters) Tous les Masters Hommes\n  GPM    Masters    Championnat d
 u Massif des Vosges Slalom   Mémorial Roger Kurtzemann\n - AMVF0441  Slalom
  (Courses Masters) Tous les Masters Dames\n  GPM    Masters    Championnat 
 du Massif des Vosges Slalom   Mémorial Roger Kurtzemann Cet évènement a été
  importé depuis :https://skivosges.net/agenda/export-synchronisation/detail
 evenement/506/-/gpm-memorial-roger-kurtzemann?tmpl=component (https://skivo
 sges.net/agenda/export-synchronisation/detailevenement/506/-/gpm-memorial-r
 oger-kurtzemann?tmpl=component)
X-ALT-DESC;FMTTYPE=text/html:<strong>GPM Mémorial Roger Kurtzemann</strong> <br /><i>(Grand Prix Masters
 )</i><br /><br />Lieu : MARKSTEIN<br />Piste : Stade<br />Organisateur : SK
 I CLUB KRUTH <small>(14145 SKI CLUB KRUTH)</small><br />Email : <!-- Cette 
 adresse électronique est protégée contre les robots spammeurs. --><span cla
 ss="cloaked_email ep_2192f78d"><span data-ep-a="jlb&#64;" data-ep-b="&#111;
 &#109;"><span data-ep-b="t&#104;&#46;&#99;" data-ep-a="s&#107;&#105;-"><spa
 n data-ep-b="&#45;&#107;&#114;&#117;" data-ep-a="c&#108;ub"></span></span><
 /span></span><script>RegularLabs.EmailProtector.unCloak("ep_2192f78d");</sc
 ript><br /><br />Inscriptions closes, les listes de départ sont visualisabl
 es sur ce site<ul type="disc"><li>AMVM0441  Slalom <nobr><i>(Courses Master
 s)</i></nobr> <nobr>Tous les Masters</nobr> Hommes<br />&nbsp;&nbsp;GPM    
 Masters    Championnat du Massif des Vosges Slalom   Mémorial Roger Kurtzem
 ann</li><li>AMVF0441  Slalom <nobr><i>(Courses Masters)</i></nobr> <nobr>To
 us les Masters</nobr> Dames<br />&nbsp;&nbsp;GPM    Masters    Championnat 
 du Massif des Vosges Slalom   Mémorial Roger Kurtzemann</li></ul> <a href="
 https://skivosges.net/agenda/export-synchronisation/detailevenement/506/-/g
 pm-memorial-roger-kurtzemann?tmpl=component">Cet évènement a été importé de
 puis :https://skivosges.net/agenda/export-synchronisation/detailevenement/5
 06/-/gpm-memorial-roger-kurtzemann?tmpl=component</a>DTSTAMP:20260420T220643
DTSTART;TZID=Europe/Paris:20160205T080000
DTEND;TZID=Europe/Paris:20160205T170000
SEQUENCE:0
TRANSP:OPAQUE
END:VEVENT
END:VCALENDAR