BEGIN:VCALENDAR
VERSION:2.0
PRODID:-//jEvents 2.0 for Joomla//EN
CALSCALE:GREGORIAN
METHOD:PUBLISH
BEGIN:VTIMEZONE
TZID:Europe/Paris
BEGIN:STANDARD
DTSTART:20150205T080000
RDATE:20150329T030000
TZOFFSETFROM:+0200
TZOFFSETTO:+0100
TZNAME:Europe/Paris CET
END:STANDARD
BEGIN:STANDARD
DTSTART:20151025T020000
RDATE:20160327T030000
TZOFFSETFROM:+0200
TZOFFSETTO:+0100
TZNAME:Europe/Paris CET
END:STANDARD
BEGIN:STANDARD
DTSTART:20161030T020000
RDATE:20170326T030000
TZOFFSETFROM:+0200
TZOFFSETTO:+0100
TZNAME:Europe/Paris CET
END:STANDARD
BEGIN:STANDARD
DTSTART:20171029T020000
RDATE:20180325T030000
TZOFFSETFROM:+0200
TZOFFSETTO:+0100
TZNAME:Europe/Paris CET
END:STANDARD
BEGIN:STANDARD
DTSTART:20181028T020000
RDATE:20190331T030000
TZOFFSETFROM:+0200
TZOFFSETTO:+0100
TZNAME:Europe/Paris CET
END:STANDARD
BEGIN:STANDARD
DTSTART:20191027T020000
RDATE:20200329T030000
TZOFFSETFROM:+0200
TZOFFSETTO:+0100
TZNAME:Europe/Paris CET
END:STANDARD
BEGIN:STANDARD
DTSTART:20201025T020000
RDATE:20210328T030000
TZOFFSETFROM:+0200
TZOFFSETTO:+0100
TZNAME:Europe/Paris CET
END:STANDARD
BEGIN:STANDARD
DTSTART:20211031T020000
RDATE:20220327T030000
TZOFFSETFROM:+0200
TZOFFSETTO:+0100
TZNAME:Europe/Paris CET
END:STANDARD
BEGIN:STANDARD
DTSTART:20221030T020000
RDATE:20230326T030000
TZOFFSETFROM:+0200
TZOFFSETTO:+0100
TZNAME:Europe/Paris CET
END:STANDARD
BEGIN:STANDARD
DTSTART:20231029T020000
RDATE:20240331T030000
TZOFFSETFROM:+0200
TZOFFSETTO:+0100
TZNAME:Europe/Paris CET
END:STANDARD
BEGIN:STANDARD
DTSTART:20241027T020000
RDATE:20250330T030000
TZOFFSETFROM:+0200
TZOFFSETTO:+0100
TZNAME:Europe/Paris CET
END:STANDARD
BEGIN:STANDARD
DTSTART:20251026T020000
RDATE:20260329T030000
TZOFFSETFROM:+0200
TZOFFSETTO:+0100
TZNAME:Europe/Paris CET
END:STANDARD
BEGIN:STANDARD
DTSTART:20261025T020000
RDATE:20270328T030000
TZOFFSETFROM:+0200
TZOFFSETTO:+0100
TZNAME:Europe/Paris CET
END:STANDARD
BEGIN:DAYLIGHT
DTSTART:20150329T030000
RDATE:20151025T020000
TZOFFSETFROM:+0100
TZOFFSETTO:+0200
TZNAME:Europe/Paris CEST
END:DAYLIGHT
BEGIN:DAYLIGHT
DTSTART:20160327T030000
RDATE:20161030T020000
TZOFFSETFROM:+0100
TZOFFSETTO:+0200
TZNAME:Europe/Paris CEST
END:DAYLIGHT
BEGIN:DAYLIGHT
DTSTART:20170326T030000
RDATE:20171029T020000
TZOFFSETFROM:+0100
TZOFFSETTO:+0200
TZNAME:Europe/Paris CEST
END:DAYLIGHT
BEGIN:DAYLIGHT
DTSTART:20180325T030000
RDATE:20181028T020000
TZOFFSETFROM:+0100
TZOFFSETTO:+0200
TZNAME:Europe/Paris CEST
END:DAYLIGHT
BEGIN:DAYLIGHT
DTSTART:20190331T030000
RDATE:20191027T020000
TZOFFSETFROM:+0100
TZOFFSETTO:+0200
TZNAME:Europe/Paris CEST
END:DAYLIGHT
BEGIN:DAYLIGHT
DTSTART:20200329T030000
RDATE:20201025T020000
TZOFFSETFROM:+0100
TZOFFSETTO:+0200
TZNAME:Europe/Paris CEST
END:DAYLIGHT
BEGIN:DAYLIGHT
DTSTART:20210328T030000
RDATE:20211031T020000
TZOFFSETFROM:+0100
TZOFFSETTO:+0200
TZNAME:Europe/Paris CEST
END:DAYLIGHT
BEGIN:DAYLIGHT
DTSTART:20220327T030000
RDATE:20221030T020000
TZOFFSETFROM:+0100
TZOFFSETTO:+0200
TZNAME:Europe/Paris CEST
END:DAYLIGHT
BEGIN:DAYLIGHT
DTSTART:20230326T030000
RDATE:20231029T020000
TZOFFSETFROM:+0100
TZOFFSETTO:+0200
TZNAME:Europe/Paris CEST
END:DAYLIGHT
BEGIN:DAYLIGHT
DTSTART:20240331T030000
RDATE:20241027T020000
TZOFFSETFROM:+0100
TZOFFSETTO:+0200
TZNAME:Europe/Paris CEST
END:DAYLIGHT
BEGIN:DAYLIGHT
DTSTART:20250330T030000
RDATE:20251026T020000
TZOFFSETFROM:+0100
TZOFFSETTO:+0200
TZNAME:Europe/Paris CEST
END:DAYLIGHT
BEGIN:DAYLIGHT
DTSTART:20260329T030000
RDATE:20261025T020000
TZOFFSETFROM:+0100
TZOFFSETTO:+0200
TZNAME:Europe/Paris CEST
END:DAYLIGHT
END:VTIMEZONE
BEGIN:VEVENT
UID:878fb16d36f739a8870764b70beb7382
CATEGORIES:Opens et Promos (alpin)
CREATED:20151110T133952
SUMMARY:PROMO  U8 à U21     Mémorial 
URL;VALUE=URI:https://skivosges.net/agenda/export-synchronisation/detailevenement/508/-/p
 romo-u8-a-u21-memorial?tmpl=component
DESCRIPTION:PROMO  U8 à U21     Mémorial \n\nLieu : MARKSTEIN\nOrganisateur : S.C VALLE
 E DE WESSERLING (14186 S.C VALLEE DE WESSERLING)\nEmail : RegularLabs.Email
 Protector.unCloak("ep_28cd64b3");\nTelecopie : 03 89 82 78 08\n\nDEPART 14H
 \nDOSSARDS CABANE ARRIVEE\n\nInscriptions en cours sur ce site\n - AMVM0451
   Slalom Geant U8/U10 Garçons\n  PROMO  U8 à U21     Mémorial "Les poilus d
 'Alsaka"\n - AMVM0452  Slalom Geant U12/U14 Garçons\n  PROMO  U8 à U21     
 Mémorial "Les poilus d'Alsaka"\n - AMVM0453  Slalom Geant U16 a U21 Hommes\
 n  PROMO  U8 à U21     Mémorial "Les poilus d'Alsaka"\n - AMVM0454  Slalom 
 Geant U8/U10 Garçons\n  PROMO  U8 à U21     Mémorial "Les poilus d'Alsaka"\
 n - AMVM0455  Slalom Geant U12/U14 Garçons\n  PROMO  U8 à U21     Mémorial 
 "Les poilus d'Alsaka"\n - AMVM0456  Slalom Geant U16 a U21 Hommes\n  PROMO 
  U8 à U21     Mémorial "Les poilus d'Alsaka" Cet évènement a été importé de
 puis :https://skivosges.net/agenda/export-synchronisation/detailevenement/5
 08/-/promo-u8-a-u21-memorial?tmpl=component
X-ALT-DESC;FMTTYPE=text/html:<strong>PROMO  U8 à U21     Mémorial </strong><br /><br />Lieu : MARKSTEIN<
 br />Organisateur : S.C VALLEE DE WESSERLING <small>(14186 S.C VALLEE DE WE
 SSERLING)</small><br />Email : <!-- Cette adresse électronique est protégée
  contre les robots spammeurs. --><span class="cloaked_email ep_28cd64b3"><s
 pan data-ep-a="&#115;c&#118;&#119;" data-ep-b="&#109;"><span data-ep-b="&#1
 08;.&#99;&#111;" data-ep-a="&#101;s&#115;&#101;"><span data-ep-a="&#114;lin
 " data-ep-b="g&#64;&#97;o"></span></span></span></span><script>RegularLabs.
 EmailProtector.unCloak("ep_28cd64b3");</script><br />Telecopie : 03 89 82 7
 8 08<br /><br />DEPART 14H<br>DOSSARDS CABANE ARRIVEE<br /><br />Inscriptio
 ns en cours sur ce site<ul type="disc"><li>AMVM0451  Slalom Geant <nobr>U8/
 U10</nobr> Garçons<br />&nbsp;&nbsp;PROMO  U8 à U21     Mémorial "Les poilu
 s d'Alsaka"</li><li>AMVM0452  Slalom Geant <nobr>U12/U14</nobr> Garçons<br 
 />&nbsp;&nbsp;PROMO  U8 à U21     Mémorial "Les poilus d'Alsaka"</li><li>AM
 VM0453  Slalom Geant <nobr>U16 a U21</nobr> Hommes<br />&nbsp;&nbsp;PROMO  
 U8 à U21     Mémorial "Les poilus d'Alsaka"</li><li>AMVM0454  Slalom Geant 
 <nobr>U8/U10</nobr> Garçons<br />&nbsp;&nbsp;PROMO  U8 à U21     Mémorial "
 Les poilus d'Alsaka"</li><li>AMVM0455  Slalom Geant <nobr>U12/U14</nobr> Ga
 rçons<br />&nbsp;&nbsp;PROMO  U8 à U21     Mémorial "Les poilus d'Alsaka"</
 li><li>AMVM0456  Slalom Geant <nobr>U16 a U21</nobr> Hommes<br />&nbsp;&nbs
 p;PROMO  U8 à U21     Mémorial "Les poilus d'Alsaka"</li></ul> <a href="htt
 ps://skivosges.net/agenda/export-synchronisation/detailevenement/508/-/prom
 o-u8-a-u21-memorial?tmpl=component">Cet évènement a été importé depuis :htt
 ps://skivosges.net/agenda/export-synchronisation/detailevenement/508/-/prom
 o-u8-a-u21-memorial?tmpl=component</a>DTSTAMP:20260421T050008
DTSTART;TZID=Europe/Paris:20160206T080000
DTEND;TZID=Europe/Paris:20160206T170000
SEQUENCE:0
TRANSP:OPAQUE
END:VEVENT
END:VCALENDAR