BEGIN:VCALENDAR
VERSION:2.0
PRODID:-//jEvents 2.0 for Joomla//EN
CALSCALE:GREGORIAN
METHOD:PUBLISH
BEGIN:VTIMEZONE
TZID:Europe/Paris
BEGIN:STANDARD
DTSTART:20150206T080000
RDATE:20150329T030000
TZOFFSETFROM:+0200
TZOFFSETTO:+0100
TZNAME:Europe/Paris CET
END:STANDARD
BEGIN:STANDARD
DTSTART:20151025T020000
RDATE:20160327T030000
TZOFFSETFROM:+0200
TZOFFSETTO:+0100
TZNAME:Europe/Paris CET
END:STANDARD
BEGIN:STANDARD
DTSTART:20161030T020000
RDATE:20170326T030000
TZOFFSETFROM:+0200
TZOFFSETTO:+0100
TZNAME:Europe/Paris CET
END:STANDARD
BEGIN:STANDARD
DTSTART:20171029T020000
RDATE:20180325T030000
TZOFFSETFROM:+0200
TZOFFSETTO:+0100
TZNAME:Europe/Paris CET
END:STANDARD
BEGIN:STANDARD
DTSTART:20181028T020000
RDATE:20190331T030000
TZOFFSETFROM:+0200
TZOFFSETTO:+0100
TZNAME:Europe/Paris CET
END:STANDARD
BEGIN:STANDARD
DTSTART:20191027T020000
RDATE:20200329T030000
TZOFFSETFROM:+0200
TZOFFSETTO:+0100
TZNAME:Europe/Paris CET
END:STANDARD
BEGIN:STANDARD
DTSTART:20201025T020000
RDATE:20210328T030000
TZOFFSETFROM:+0200
TZOFFSETTO:+0100
TZNAME:Europe/Paris CET
END:STANDARD
BEGIN:STANDARD
DTSTART:20211031T020000
RDATE:20220327T030000
TZOFFSETFROM:+0200
TZOFFSETTO:+0100
TZNAME:Europe/Paris CET
END:STANDARD
BEGIN:STANDARD
DTSTART:20221030T020000
RDATE:20230326T030000
TZOFFSETFROM:+0200
TZOFFSETTO:+0100
TZNAME:Europe/Paris CET
END:STANDARD
BEGIN:STANDARD
DTSTART:20231029T020000
RDATE:20240331T030000
TZOFFSETFROM:+0200
TZOFFSETTO:+0100
TZNAME:Europe/Paris CET
END:STANDARD
BEGIN:STANDARD
DTSTART:20241027T020000
RDATE:20250330T030000
TZOFFSETFROM:+0200
TZOFFSETTO:+0100
TZNAME:Europe/Paris CET
END:STANDARD
BEGIN:STANDARD
DTSTART:20251026T020000
RDATE:20260329T030000
TZOFFSETFROM:+0200
TZOFFSETTO:+0100
TZNAME:Europe/Paris CET
END:STANDARD
BEGIN:STANDARD
DTSTART:20261025T020000
RDATE:20270328T030000
TZOFFSETFROM:+0200
TZOFFSETTO:+0100
TZNAME:Europe/Paris CET
END:STANDARD
BEGIN:DAYLIGHT
DTSTART:20150329T030000
RDATE:20151025T020000
TZOFFSETFROM:+0100
TZOFFSETTO:+0200
TZNAME:Europe/Paris CEST
END:DAYLIGHT
BEGIN:DAYLIGHT
DTSTART:20160327T030000
RDATE:20161030T020000
TZOFFSETFROM:+0100
TZOFFSETTO:+0200
TZNAME:Europe/Paris CEST
END:DAYLIGHT
BEGIN:DAYLIGHT
DTSTART:20170326T030000
RDATE:20171029T020000
TZOFFSETFROM:+0100
TZOFFSETTO:+0200
TZNAME:Europe/Paris CEST
END:DAYLIGHT
BEGIN:DAYLIGHT
DTSTART:20180325T030000
RDATE:20181028T020000
TZOFFSETFROM:+0100
TZOFFSETTO:+0200
TZNAME:Europe/Paris CEST
END:DAYLIGHT
BEGIN:DAYLIGHT
DTSTART:20190331T030000
RDATE:20191027T020000
TZOFFSETFROM:+0100
TZOFFSETTO:+0200
TZNAME:Europe/Paris CEST
END:DAYLIGHT
BEGIN:DAYLIGHT
DTSTART:20200329T030000
RDATE:20201025T020000
TZOFFSETFROM:+0100
TZOFFSETTO:+0200
TZNAME:Europe/Paris CEST
END:DAYLIGHT
BEGIN:DAYLIGHT
DTSTART:20210328T030000
RDATE:20211031T020000
TZOFFSETFROM:+0100
TZOFFSETTO:+0200
TZNAME:Europe/Paris CEST
END:DAYLIGHT
BEGIN:DAYLIGHT
DTSTART:20220327T030000
RDATE:20221030T020000
TZOFFSETFROM:+0100
TZOFFSETTO:+0200
TZNAME:Europe/Paris CEST
END:DAYLIGHT
BEGIN:DAYLIGHT
DTSTART:20230326T030000
RDATE:20231029T020000
TZOFFSETFROM:+0100
TZOFFSETTO:+0200
TZNAME:Europe/Paris CEST
END:DAYLIGHT
BEGIN:DAYLIGHT
DTSTART:20240331T030000
RDATE:20241027T020000
TZOFFSETFROM:+0100
TZOFFSETTO:+0200
TZNAME:Europe/Paris CEST
END:DAYLIGHT
BEGIN:DAYLIGHT
DTSTART:20250330T030000
RDATE:20251026T020000
TZOFFSETFROM:+0100
TZOFFSETTO:+0200
TZNAME:Europe/Paris CEST
END:DAYLIGHT
BEGIN:DAYLIGHT
DTSTART:20260329T030000
RDATE:20261025T020000
TZOFFSETFROM:+0100
TZOFFSETTO:+0200
TZNAME:Europe/Paris CEST
END:DAYLIGHT
END:VTIMEZONE
BEGIN:VEVENT
UID:cb055736bcd1e221e079b667ad43e108
CATEGORIES:Circuit Massif Adultes (alpin)
CREATED:20151110T133952
SUMMARY:GPA   U16 à Masters    Grand Prix de Thann
URL;VALUE=URI:https://skivosges.net/agenda/export-synchronisation/detailevenement/511/-/g
 pa-u16-a-masters-grand-prix-de-thann?tmpl=component
DESCRIPTION:GPA   U16 à Masters    Grand Prix de Thann \n(Grand Prix Adultes)\n\nLieu :
  MARKSTEIN\nOrganisateur : SKI CLUB VOSGIEN THANN (14082 SKI CLUB VOSGIEN T
 HANN)\nEmail : RegularLabs.EmailProtector.unCloak("ep_e7a2e530");\nTelecopi
 e : 03 89 37 92 28\n\nATTENTION : Il sera demandé un contrôleur par club.\n
 \nInscriptions closes, les listes de départ sont visualisables sur ce site\
 n - AMVM0501  Slalom (Courses FFS) U16 a Masters Hommes\n  GPA   U16 à Mast
 ers    Grand Prix de Thann\n - AMVF0501  Slalom (Courses FFS) U16 a Masters
  Dames\n  GPA   U16 à Masters    Grand Prix de Thann Cet évènement a été im
 porté depuis :https://skivosges.net/agenda/export-synchronisation/detaileve
 nement/511/-/gpa-u16-a-masters-grand-prix-de-thann?tmpl=component
X-ALT-DESC;FMTTYPE=text/html:<strong>GPA   U16 à Masters    Grand Prix de Thann</strong> <br /><i>(Grand
  Prix Adultes)</i><br /><br />Lieu : MARKSTEIN<br />Organisateur : SKI CLUB
  VOSGIEN THANN <small>(14082 SKI CLUB VOSGIEN THANN)</small><br />Email : <
 !-- Cette adresse électronique est protégée contre les robots spammeurs. --
 ><span class="cloaked_email ep_e7a2e530"><span data-ep-a="&#99;&#111;&#117;
 &#114;" data-ep-b=""><span data-ep-b="&#46;&#99;om" data-ep-a="&#115;e&#115
 ;&#64;"><span data-ep-b="&#110;sk&#105;" data-ep-a="&#116;h&#97;n"></span><
 /span></span></span><script>RegularLabs.EmailProtector.unCloak("ep_e7a2e530
 ");</script><br />Telecopie : 03 89 37 92 28<br /><br />ATTENTION : Il sera
  demandé un contrôleur par club.<br /><br />Inscriptions closes, les listes
  de départ sont visualisables sur ce site<ul type="disc"><li>AMVM0501  Slal
 om <nobr><i>(Courses FFS)</i></nobr> <nobr>U16 a Masters</nobr> Hommes<br /
 >&nbsp;&nbsp;GPA   U16 à Masters    Grand Prix de Thann</li><li>AMVF0501  S
 lalom <nobr><i>(Courses FFS)</i></nobr> <nobr>U16 a Masters</nobr> Dames<br
  />&nbsp;&nbsp;GPA   U16 à Masters    Grand Prix de Thann</li></ul> <a href
 ="https://skivosges.net/agenda/export-synchronisation/detailevenement/511/-
 /gpa-u16-a-masters-grand-prix-de-thann?tmpl=component">Cet évènement a été 
 importé depuis :https://skivosges.net/agenda/export-synchronisation/detaile
 venement/511/-/gpa-u16-a-masters-grand-prix-de-thann?tmpl=component</a>DTSTAMP:20260421T013738
DTSTART;TZID=Europe/Paris:20160207T080000
DTEND;TZID=Europe/Paris:20160207T170000
SEQUENCE:0
TRANSP:OPAQUE
END:VEVENT
END:VCALENDAR