BEGIN:VCALENDAR
VERSION:2.0
PRODID:-//jEvents 2.0 for Joomla//EN
CALSCALE:GREGORIAN
METHOD:PUBLISH
BEGIN:VTIMEZONE
TZID:Europe/Paris
BEGIN:STANDARD
DTSTART:20150206T080000
RDATE:20150329T030000
TZOFFSETFROM:+0200
TZOFFSETTO:+0100
TZNAME:Europe/Paris CET
END:STANDARD
BEGIN:STANDARD
DTSTART:20151025T020000
RDATE:20160327T030000
TZOFFSETFROM:+0200
TZOFFSETTO:+0100
TZNAME:Europe/Paris CET
END:STANDARD
BEGIN:STANDARD
DTSTART:20161030T020000
RDATE:20170326T030000
TZOFFSETFROM:+0200
TZOFFSETTO:+0100
TZNAME:Europe/Paris CET
END:STANDARD
BEGIN:STANDARD
DTSTART:20171029T020000
RDATE:20180325T030000
TZOFFSETFROM:+0200
TZOFFSETTO:+0100
TZNAME:Europe/Paris CET
END:STANDARD
BEGIN:STANDARD
DTSTART:20181028T020000
RDATE:20190331T030000
TZOFFSETFROM:+0200
TZOFFSETTO:+0100
TZNAME:Europe/Paris CET
END:STANDARD
BEGIN:STANDARD
DTSTART:20191027T020000
RDATE:20200329T030000
TZOFFSETFROM:+0200
TZOFFSETTO:+0100
TZNAME:Europe/Paris CET
END:STANDARD
BEGIN:STANDARD
DTSTART:20201025T020000
RDATE:20210328T030000
TZOFFSETFROM:+0200
TZOFFSETTO:+0100
TZNAME:Europe/Paris CET
END:STANDARD
BEGIN:STANDARD
DTSTART:20211031T020000
RDATE:20220327T030000
TZOFFSETFROM:+0200
TZOFFSETTO:+0100
TZNAME:Europe/Paris CET
END:STANDARD
BEGIN:STANDARD
DTSTART:20221030T020000
RDATE:20230326T030000
TZOFFSETFROM:+0200
TZOFFSETTO:+0100
TZNAME:Europe/Paris CET
END:STANDARD
BEGIN:STANDARD
DTSTART:20231029T020000
RDATE:20240331T030000
TZOFFSETFROM:+0200
TZOFFSETTO:+0100
TZNAME:Europe/Paris CET
END:STANDARD
BEGIN:STANDARD
DTSTART:20241027T020000
RDATE:20250330T030000
TZOFFSETFROM:+0200
TZOFFSETTO:+0100
TZNAME:Europe/Paris CET
END:STANDARD
BEGIN:STANDARD
DTSTART:20251026T020000
RDATE:20260329T030000
TZOFFSETFROM:+0200
TZOFFSETTO:+0100
TZNAME:Europe/Paris CET
END:STANDARD
BEGIN:STANDARD
DTSTART:20261025T020000
RDATE:20270328T030000
TZOFFSETFROM:+0200
TZOFFSETTO:+0100
TZNAME:Europe/Paris CET
END:STANDARD
BEGIN:DAYLIGHT
DTSTART:20150329T030000
RDATE:20151025T020000
TZOFFSETFROM:+0100
TZOFFSETTO:+0200
TZNAME:Europe/Paris CEST
END:DAYLIGHT
BEGIN:DAYLIGHT
DTSTART:20160327T030000
RDATE:20161030T020000
TZOFFSETFROM:+0100
TZOFFSETTO:+0200
TZNAME:Europe/Paris CEST
END:DAYLIGHT
BEGIN:DAYLIGHT
DTSTART:20170326T030000
RDATE:20171029T020000
TZOFFSETFROM:+0100
TZOFFSETTO:+0200
TZNAME:Europe/Paris CEST
END:DAYLIGHT
BEGIN:DAYLIGHT
DTSTART:20180325T030000
RDATE:20181028T020000
TZOFFSETFROM:+0100
TZOFFSETTO:+0200
TZNAME:Europe/Paris CEST
END:DAYLIGHT
BEGIN:DAYLIGHT
DTSTART:20190331T030000
RDATE:20191027T020000
TZOFFSETFROM:+0100
TZOFFSETTO:+0200
TZNAME:Europe/Paris CEST
END:DAYLIGHT
BEGIN:DAYLIGHT
DTSTART:20200329T030000
RDATE:20201025T020000
TZOFFSETFROM:+0100
TZOFFSETTO:+0200
TZNAME:Europe/Paris CEST
END:DAYLIGHT
BEGIN:DAYLIGHT
DTSTART:20210328T030000
RDATE:20211031T020000
TZOFFSETFROM:+0100
TZOFFSETTO:+0200
TZNAME:Europe/Paris CEST
END:DAYLIGHT
BEGIN:DAYLIGHT
DTSTART:20220327T030000
RDATE:20221030T020000
TZOFFSETFROM:+0100
TZOFFSETTO:+0200
TZNAME:Europe/Paris CEST
END:DAYLIGHT
BEGIN:DAYLIGHT
DTSTART:20230326T030000
RDATE:20231029T020000
TZOFFSETFROM:+0100
TZOFFSETTO:+0200
TZNAME:Europe/Paris CEST
END:DAYLIGHT
BEGIN:DAYLIGHT
DTSTART:20240331T030000
RDATE:20241027T020000
TZOFFSETFROM:+0100
TZOFFSETTO:+0200
TZNAME:Europe/Paris CEST
END:DAYLIGHT
BEGIN:DAYLIGHT
DTSTART:20250330T030000
RDATE:20251026T020000
TZOFFSETFROM:+0100
TZOFFSETTO:+0200
TZNAME:Europe/Paris CEST
END:DAYLIGHT
BEGIN:DAYLIGHT
DTSTART:20260329T030000
RDATE:20261025T020000
TZOFFSETFROM:+0100
TZOFFSETTO:+0200
TZNAME:Europe/Paris CEST
END:DAYLIGHT
END:VTIMEZONE
BEGIN:VEVENT
UID:c0d73b6aaed31bb96c4d1abb18d2dd2b
CATEGORIES:Circuit Alsace Jeunes (alpin)
CREATED:20151110T133952
SUMMARY:CAJ  U8 à U10 / U12 à U16 **REPORTE**
URL;VALUE=URI:https://skivosges.net/agenda/export-synchronisation/detailevenement/512/-/c
 aj-u8-a-u10-u12-a-u16-reporte?tmpl=component
DESCRIPTION:<strong>CAJ  U8 à U10 / U12 à U16</strong> <font class="attention4">(Epreuv
 e reportée)</font> <br /><i>(Coupe d'Alsace Jeunes)</i><br /><br />Lieu : M
 ARKSTEIN<br />Piste : Stade de Slalom<br />Organisateur : S.C.O.S.E.G. GUEB
 WILLER <small>(14356 S.C.O.S.E.G. GUEBWILLER)</small><br />Email : <!-- Cet
 te adresse électronique est protégée contre les robots spammeurs. --><span 
 class="cloaked_email ep_ed905adc"><span data-ep-a="g&#101;&#110;&#103;" dat
 a-ep-b="&#102;&#114;"><span data-ep-a="&#46;&#99;l&#97;" data-ep-b="&#100;&
 #111;&#111;&#46;"><span data-ep-b="&#119;a&#110;&#97;" data-ep-a="&#117;&#1
 00;e&#64;"></span></span></span></span><script>RegularLabs.EmailProtector.u
 nCloak("ep_ed905adc");</script><br /><br />Inscriptions en cours sur ce sit
 e<ul type="disc"><li>AMVM0491  Slalom <nobr><i>(Micro Coupe)</i></nobr> <no
 br>U8/U10</nobr> Garçons<br />&nbsp;&nbsp;CAJ  U8 à U10 / U12 à U16</li><li
 >AMVM0492  Slalom <nobr><i>(Coupe de Bronze)</i></nobr> <nobr>U12 a U16</no
 br> Garçons<br />&nbsp;&nbsp;CAJ  U8 à U10 / U12 à U16</li><li>AMVF0491  Sl
 alom <nobr><i>(Micro Coupe)</i></nobr> <nobr>U8/U10</nobr> Filles<br />&nbs
 p;&nbsp;CAJ  U8 à U10 / U12 à U16</li><li>AMVF0492  Slalom <nobr><i>(Coupe 
 de Bronze)</i></nobr> <nobr>U12 a U16</nobr> Filles<br />&nbsp;&nbsp;CAJ  U
 8 à U10 / U12 à U16</li></ul> <a href="https://skivosges.net/agenda/export-
 synchronisation/detailevenement/512/-/caj-u8-a-u10-u12-a-u16-reporte?tmpl=c
 omponent">Cet évènement a été importé depuis :https://skivosges.net/agenda/
 export-synchronisation/detailevenement/512/-/caj-u8-a-u10-u12-a-u16-reporte
 ?tmpl=component</a>DTSTAMP:20260420T221407
DTSTART;TZID=Europe/Paris:20160207T080000
DTEND;TZID=Europe/Paris:20160207T170000
SEQUENCE:0
TRANSP:OPAQUE
END:VEVENT
END:VCALENDAR