BEGIN:VCALENDAR
VERSION:2.0
PRODID:-//jEvents 2.0 for Joomla//EN
CALSCALE:GREGORIAN
METHOD:PUBLISH
BEGIN:VTIMEZONE
TZID:Europe/Paris
BEGIN:STANDARD
DTSTART:20150206T080000
RDATE:20150329T030000
TZOFFSETFROM:+0200
TZOFFSETTO:+0100
TZNAME:Europe/Paris CET
END:STANDARD
BEGIN:STANDARD
DTSTART:20151025T020000
RDATE:20160327T030000
TZOFFSETFROM:+0200
TZOFFSETTO:+0100
TZNAME:Europe/Paris CET
END:STANDARD
BEGIN:STANDARD
DTSTART:20161030T020000
RDATE:20170326T030000
TZOFFSETFROM:+0200
TZOFFSETTO:+0100
TZNAME:Europe/Paris CET
END:STANDARD
BEGIN:STANDARD
DTSTART:20171029T020000
RDATE:20180325T030000
TZOFFSETFROM:+0200
TZOFFSETTO:+0100
TZNAME:Europe/Paris CET
END:STANDARD
BEGIN:STANDARD
DTSTART:20181028T020000
RDATE:20190331T030000
TZOFFSETFROM:+0200
TZOFFSETTO:+0100
TZNAME:Europe/Paris CET
END:STANDARD
BEGIN:STANDARD
DTSTART:20191027T020000
RDATE:20200329T030000
TZOFFSETFROM:+0200
TZOFFSETTO:+0100
TZNAME:Europe/Paris CET
END:STANDARD
BEGIN:STANDARD
DTSTART:20201025T020000
RDATE:20210328T030000
TZOFFSETFROM:+0200
TZOFFSETTO:+0100
TZNAME:Europe/Paris CET
END:STANDARD
BEGIN:STANDARD
DTSTART:20211031T020000
RDATE:20220327T030000
TZOFFSETFROM:+0200
TZOFFSETTO:+0100
TZNAME:Europe/Paris CET
END:STANDARD
BEGIN:STANDARD
DTSTART:20221030T020000
RDATE:20230326T030000
TZOFFSETFROM:+0200
TZOFFSETTO:+0100
TZNAME:Europe/Paris CET
END:STANDARD
BEGIN:STANDARD
DTSTART:20231029T020000
RDATE:20240331T030000
TZOFFSETFROM:+0200
TZOFFSETTO:+0100
TZNAME:Europe/Paris CET
END:STANDARD
BEGIN:STANDARD
DTSTART:20241027T020000
RDATE:20250330T030000
TZOFFSETFROM:+0200
TZOFFSETTO:+0100
TZNAME:Europe/Paris CET
END:STANDARD
BEGIN:STANDARD
DTSTART:20251026T020000
RDATE:20260329T030000
TZOFFSETFROM:+0200
TZOFFSETTO:+0100
TZNAME:Europe/Paris CET
END:STANDARD
BEGIN:STANDARD
DTSTART:20261025T020000
RDATE:20270328T030000
TZOFFSETFROM:+0200
TZOFFSETTO:+0100
TZNAME:Europe/Paris CET
END:STANDARD
BEGIN:DAYLIGHT
DTSTART:20150329T030000
RDATE:20151025T020000
TZOFFSETFROM:+0100
TZOFFSETTO:+0200
TZNAME:Europe/Paris CEST
END:DAYLIGHT
BEGIN:DAYLIGHT
DTSTART:20160327T030000
RDATE:20161030T020000
TZOFFSETFROM:+0100
TZOFFSETTO:+0200
TZNAME:Europe/Paris CEST
END:DAYLIGHT
BEGIN:DAYLIGHT
DTSTART:20170326T030000
RDATE:20171029T020000
TZOFFSETFROM:+0100
TZOFFSETTO:+0200
TZNAME:Europe/Paris CEST
END:DAYLIGHT
BEGIN:DAYLIGHT
DTSTART:20180325T030000
RDATE:20181028T020000
TZOFFSETFROM:+0100
TZOFFSETTO:+0200
TZNAME:Europe/Paris CEST
END:DAYLIGHT
BEGIN:DAYLIGHT
DTSTART:20190331T030000
RDATE:20191027T020000
TZOFFSETFROM:+0100
TZOFFSETTO:+0200
TZNAME:Europe/Paris CEST
END:DAYLIGHT
BEGIN:DAYLIGHT
DTSTART:20200329T030000
RDATE:20201025T020000
TZOFFSETFROM:+0100
TZOFFSETTO:+0200
TZNAME:Europe/Paris CEST
END:DAYLIGHT
BEGIN:DAYLIGHT
DTSTART:20210328T030000
RDATE:20211031T020000
TZOFFSETFROM:+0100
TZOFFSETTO:+0200
TZNAME:Europe/Paris CEST
END:DAYLIGHT
BEGIN:DAYLIGHT
DTSTART:20220327T030000
RDATE:20221030T020000
TZOFFSETFROM:+0100
TZOFFSETTO:+0200
TZNAME:Europe/Paris CEST
END:DAYLIGHT
BEGIN:DAYLIGHT
DTSTART:20230326T030000
RDATE:20231029T020000
TZOFFSETFROM:+0100
TZOFFSETTO:+0200
TZNAME:Europe/Paris CEST
END:DAYLIGHT
BEGIN:DAYLIGHT
DTSTART:20240331T030000
RDATE:20241027T020000
TZOFFSETFROM:+0100
TZOFFSETTO:+0200
TZNAME:Europe/Paris CEST
END:DAYLIGHT
BEGIN:DAYLIGHT
DTSTART:20250330T030000
RDATE:20251026T020000
TZOFFSETFROM:+0100
TZOFFSETTO:+0200
TZNAME:Europe/Paris CEST
END:DAYLIGHT
BEGIN:DAYLIGHT
DTSTART:20260329T030000
RDATE:20261025T020000
TZOFFSETFROM:+0100
TZOFFSETTO:+0200
TZNAME:Europe/Paris CEST
END:DAYLIGHT
END:VTIMEZONE
BEGIN:VEVENT
UID:234a0a6dccc389af3558a953f3511f0e
CATEGORIES:Circuit Lorraine Jeunes (alpin)
CREATED:20151110T133952
SUMMARY:CLJ    U8 à U10 / U12 à U14   Prix Maurice Grosjean **REPORTE**
URL;VALUE=URI:https://skivosges.net/agenda/export-synchronisation/detailevenement/513/-/c
 lj-u8-a-u10-u12-a-u14-prix-maurice-grosjean-reporte?tmpl=component
DESCRIPTION:<strong>CLJ    U8 à U10 / U12 à U14   Prix Maurice Grosjean</strong> <font 
 class="attention4">(Epreuve reportée, date à determiner)</font> <br /><i>(C
 oupe de Lorraine Jeunes)</i><br /><br />Lieu : BUSSANG LARCENAIRE<br />Orga
 nisateur : UNION SPORTIVE BUSSANG <small>(14007 UNION SPORTIVE BUSSANG)</sm
 all><br />Email : <!-- Cette adresse électronique est protégée contre les r
 obots spammeurs. --><span class="cloaked_email ep_7c5a9f91"><span data-ep-b
 ="" data-ep-a="da&#110;i&#101;"><span data-ep-a="&#108;&#46;&#109;&#111;&#1
 14;" data-ep-b="&#111;o&#46;&#102;&#114;"><span data-ep-a="e&#108;2&#53;&#6
 4;" data-ep-b="&#119;&#97;&#110;&#97;&#100;"></span></span></span></span><s
 cript>RegularLabs.EmailProtector.unCloak("ep_7c5a9f91");</script><br /><br 
 /> Reporte date indeterminee<br /><br />Inscriptions prévues sur le site <s
 mall>(dès début de période d´inscription)</small><ul type="disc"><li>AMVM04
 81  Slalom <nobr><i>(Micro Coupe)</i></nobr> <nobr>U8/U10</nobr> Garçons<br
  />&nbsp;&nbsp;CLJ    U8 à U10 / U12 à U14   Prix Maurice Grosjean</li><li>
 AMVM0482  Slalom <nobr><i>(Coupe de Bronze)</i></nobr> <nobr>U12/U14</nobr>
  Garçons<br />&nbsp;&nbsp;CLJ    U8 à U10 / U12 à U14   Prix Maurice Grosje
 an</li><li>AMVF0481  Slalom <nobr><i>(Micro Coupe)</i></nobr> <nobr>U8/U10<
 /nobr> Filles<br />&nbsp;&nbsp;CLJ    U8 à U10 / U12 à U14   Prix Maurice G
 rosjean</li><li>AMVF0482  Slalom <nobr><i>(Coupe de Bronze)</i></nobr> <nob
 r>U12/U14</nobr> Filles<br />&nbsp;&nbsp;CLJ    U8 à U10 / U12 à U14   Prix
  Maurice Grosjean</li></ul> <a href="https://skivosges.net/agenda/export-sy
 nchronisation/detailevenement/513/-/clj-u8-a-u10-u12-a-u14-prix-maurice-gro
 sjean-reporte?tmpl=component">Cet évènement a été importé depuis :https://s
 kivosges.net/agenda/export-synchronisation/detailevenement/513/-/clj-u8-a-u
 10-u12-a-u14-prix-maurice-grosjean-reporte?tmpl=component</a>DTSTAMP:20260420T221346
DTSTART;TZID=Europe/Paris:20160207T080000
DTEND;TZID=Europe/Paris:20160207T170000
SEQUENCE:0
TRANSP:OPAQUE
END:VEVENT
END:VCALENDAR