BEGIN:VCALENDAR
VERSION:2.0
PRODID:-//jEvents 2.0 for Joomla//EN
CALSCALE:GREGORIAN
METHOD:PUBLISH
BEGIN:VTIMEZONE
TZID:Europe/Paris
BEGIN:STANDARD
DTSTART:20150206T080000
RDATE:20150329T030000
TZOFFSETFROM:+0200
TZOFFSETTO:+0100
TZNAME:Europe/Paris CET
END:STANDARD
BEGIN:STANDARD
DTSTART:20151025T020000
RDATE:20160327T030000
TZOFFSETFROM:+0200
TZOFFSETTO:+0100
TZNAME:Europe/Paris CET
END:STANDARD
BEGIN:STANDARD
DTSTART:20161030T020000
RDATE:20170326T030000
TZOFFSETFROM:+0200
TZOFFSETTO:+0100
TZNAME:Europe/Paris CET
END:STANDARD
BEGIN:STANDARD
DTSTART:20171029T020000
RDATE:20180325T030000
TZOFFSETFROM:+0200
TZOFFSETTO:+0100
TZNAME:Europe/Paris CET
END:STANDARD
BEGIN:STANDARD
DTSTART:20181028T020000
RDATE:20190331T030000
TZOFFSETFROM:+0200
TZOFFSETTO:+0100
TZNAME:Europe/Paris CET
END:STANDARD
BEGIN:STANDARD
DTSTART:20191027T020000
RDATE:20200329T030000
TZOFFSETFROM:+0200
TZOFFSETTO:+0100
TZNAME:Europe/Paris CET
END:STANDARD
BEGIN:STANDARD
DTSTART:20201025T020000
RDATE:20210328T030000
TZOFFSETFROM:+0200
TZOFFSETTO:+0100
TZNAME:Europe/Paris CET
END:STANDARD
BEGIN:STANDARD
DTSTART:20211031T020000
RDATE:20220327T030000
TZOFFSETFROM:+0200
TZOFFSETTO:+0100
TZNAME:Europe/Paris CET
END:STANDARD
BEGIN:STANDARD
DTSTART:20221030T020000
RDATE:20230326T030000
TZOFFSETFROM:+0200
TZOFFSETTO:+0100
TZNAME:Europe/Paris CET
END:STANDARD
BEGIN:STANDARD
DTSTART:20231029T020000
RDATE:20240331T030000
TZOFFSETFROM:+0200
TZOFFSETTO:+0100
TZNAME:Europe/Paris CET
END:STANDARD
BEGIN:STANDARD
DTSTART:20241027T020000
RDATE:20250330T030000
TZOFFSETFROM:+0200
TZOFFSETTO:+0100
TZNAME:Europe/Paris CET
END:STANDARD
BEGIN:STANDARD
DTSTART:20251026T020000
RDATE:20260329T030000
TZOFFSETFROM:+0200
TZOFFSETTO:+0100
TZNAME:Europe/Paris CET
END:STANDARD
BEGIN:STANDARD
DTSTART:20261025T020000
RDATE:20270328T030000
TZOFFSETFROM:+0200
TZOFFSETTO:+0100
TZNAME:Europe/Paris CET
END:STANDARD
BEGIN:DAYLIGHT
DTSTART:20150329T030000
RDATE:20151025T020000
TZOFFSETFROM:+0100
TZOFFSETTO:+0200
TZNAME:Europe/Paris CEST
END:DAYLIGHT
BEGIN:DAYLIGHT
DTSTART:20160327T030000
RDATE:20161030T020000
TZOFFSETFROM:+0100
TZOFFSETTO:+0200
TZNAME:Europe/Paris CEST
END:DAYLIGHT
BEGIN:DAYLIGHT
DTSTART:20170326T030000
RDATE:20171029T020000
TZOFFSETFROM:+0100
TZOFFSETTO:+0200
TZNAME:Europe/Paris CEST
END:DAYLIGHT
BEGIN:DAYLIGHT
DTSTART:20180325T030000
RDATE:20181028T020000
TZOFFSETFROM:+0100
TZOFFSETTO:+0200
TZNAME:Europe/Paris CEST
END:DAYLIGHT
BEGIN:DAYLIGHT
DTSTART:20190331T030000
RDATE:20191027T020000
TZOFFSETFROM:+0100
TZOFFSETTO:+0200
TZNAME:Europe/Paris CEST
END:DAYLIGHT
BEGIN:DAYLIGHT
DTSTART:20200329T030000
RDATE:20201025T020000
TZOFFSETFROM:+0100
TZOFFSETTO:+0200
TZNAME:Europe/Paris CEST
END:DAYLIGHT
BEGIN:DAYLIGHT
DTSTART:20210328T030000
RDATE:20211031T020000
TZOFFSETFROM:+0100
TZOFFSETTO:+0200
TZNAME:Europe/Paris CEST
END:DAYLIGHT
BEGIN:DAYLIGHT
DTSTART:20220327T030000
RDATE:20221030T020000
TZOFFSETFROM:+0100
TZOFFSETTO:+0200
TZNAME:Europe/Paris CEST
END:DAYLIGHT
BEGIN:DAYLIGHT
DTSTART:20230326T030000
RDATE:20231029T020000
TZOFFSETFROM:+0100
TZOFFSETTO:+0200
TZNAME:Europe/Paris CEST
END:DAYLIGHT
BEGIN:DAYLIGHT
DTSTART:20240331T030000
RDATE:20241027T020000
TZOFFSETFROM:+0100
TZOFFSETTO:+0200
TZNAME:Europe/Paris CEST
END:DAYLIGHT
BEGIN:DAYLIGHT
DTSTART:20250330T030000
RDATE:20251026T020000
TZOFFSETFROM:+0100
TZOFFSETTO:+0200
TZNAME:Europe/Paris CEST
END:DAYLIGHT
BEGIN:DAYLIGHT
DTSTART:20260329T030000
RDATE:20261025T020000
TZOFFSETFROM:+0100
TZOFFSETTO:+0200
TZNAME:Europe/Paris CEST
END:DAYLIGHT
END:VTIMEZONE
BEGIN:VEVENT
UID:4da970d171d2b9ff44f7d4a5da48653a
CATEGORIES:Circuit Alsace Jeunes (alpin)
CREATED:20151110T133952
SUMMARY:CAJ  U8 à U10 / U12 à U14    Mémorial Olivier Kling **REPORTE**
URL;VALUE=URI:https://skivosges.net/agenda/export-synchronisation/detailevenement/514/-/c
 aj-u8-a-u10-u12-a-u14-memorial-olivier-kling-reporte?tmpl=component
DESCRIPTION:CAJ  U8 à U10 / U12 à U14    Mémorial Olivier Kling (Epreuve reportée) \n(C
 oupe d'Alsace Jeunes)\n\nLieu : LE TANET\nOrganisateur : SKIEURS DU TANET (
 14199 SKIEURS DU TANET)\nEmail : RegularLabs.EmailProtector.unCloak("ep_7a0
 62025");\n - AMVM0471  Slalom Geant (Micro Coupe) U8/U10 Garçons\n  CAJ  U8
  à U10 / U12 à U14    Mémorial Olivier Kling\n - AMVM0472  Slalom Geant (Co
 upe de Bronze) U12/U14 Garçons\n  CAJ  U8 à U10 / U12 à U14    Mémorial Oli
 vier Kling\n - AMVF0471  Slalom Geant (Micro Coupe) U8/U10 Filles\n  CAJ  U
 8 à U10 / U12 à U14    Mémorial Olivier Kling\n - AMVF0472  Slalom Geant (C
 oupe de Bronze) U12/U14 Filles\n  CAJ  U8 à U10 / U12 à U14    Mémorial Oli
 vier Kling Cet évènement a été importé depuis :https://skivosges.net/agenda
 /export-synchronisation/detailevenement/514/-/caj-u8-a-u10-u12-a-u14-memori
 al-olivier-kling-reporte?tmpl=component
X-ALT-DESC;FMTTYPE=text/html:<strong>CAJ  U8 à U10 / U12 à U14    Mémorial Olivier Kling</strong> <font 
 class="attention4">(Epreuve reportée)</font> <br /><i>(Coupe d'Alsace Jeune
 s)</i><br /><br />Lieu : LE TANET<br />Organisateur : SKIEURS DU TANET <sma
 ll>(14199 SKIEURS DU TANET)</small><br />Email : <!-- Cette adresse électro
 nique est protégée contre les robots spammeurs. --><span class="cloaked_ema
 il ep_7a062025"><span data-ep-a="&#109;ar&#99;" data-ep-b="r"><span data-ep
 -b="&#101;&#101;&#46;&#102;" data-ep-a="&#104;&#97;&#110;&#100;"><span data
 -ep-b="i&#64;&#102;&#114;" data-ep-a="&#99;&#97;&#112;h"></span></span></sp
 an></span><script>RegularLabs.EmailProtector.unCloak("ep_7a062025");</scrip
 t><ul type="disc"><li>AMVM0471  Slalom Geant <nobr><i>(Micro Coupe)</i></no
 br> <nobr>U8/U10</nobr> Garçons<br />&nbsp;&nbsp;CAJ  U8 à U10 / U12 à U14 
    Mémorial Olivier Kling</li><li>AMVM0472  Slalom Geant <nobr><i>(Coupe de
  Bronze)</i></nobr> <nobr>U12/U14</nobr> Garçons<br />&nbsp;&nbsp;CAJ  U8 à
  U10 / U12 à U14    Mémorial Olivier Kling</li><li>AMVF0471  Slalom Geant <
 nobr><i>(Micro Coupe)</i></nobr> <nobr>U8/U10</nobr> Filles<br />&nbsp;&nbs
 p;CAJ  U8 à U10 / U12 à U14    Mémorial Olivier Kling</li><li>AMVF0472  Sla
 lom Geant <nobr><i>(Coupe de Bronze)</i></nobr> <nobr>U12/U14</nobr> Filles
 <br />&nbsp;&nbsp;CAJ  U8 à U10 / U12 à U14    Mémorial Olivier Kling</li><
 /ul> <a href="https://skivosges.net/agenda/export-synchronisation/detaileve
 nement/514/-/caj-u8-a-u10-u12-a-u14-memorial-olivier-kling-reporte?tmpl=com
 ponent">Cet évènement a été importé depuis :https://skivosges.net/agenda/ex
 port-synchronisation/detailevenement/514/-/caj-u8-a-u10-u12-a-u14-memorial-
 olivier-kling-reporte?tmpl=component</a>DTSTAMP:20260420T220548
DTSTART;TZID=Europe/Paris:20160207T080000
DTEND;TZID=Europe/Paris:20160207T170000
SEQUENCE:0
TRANSP:OPAQUE
END:VEVENT
END:VCALENDAR