BEGIN:VCALENDAR
VERSION:2.0
PRODID:-//jEvents 2.0 for Joomla//EN
CALSCALE:GREGORIAN
METHOD:PUBLISH
BEGIN:VTIMEZONE
TZID:Europe/Paris
BEGIN:STANDARD
DTSTART:20150206T080000
RDATE:20150329T030000
TZOFFSETFROM:+0200
TZOFFSETTO:+0100
TZNAME:Europe/Paris CET
END:STANDARD
BEGIN:STANDARD
DTSTART:20151025T020000
RDATE:20160327T030000
TZOFFSETFROM:+0200
TZOFFSETTO:+0100
TZNAME:Europe/Paris CET
END:STANDARD
BEGIN:STANDARD
DTSTART:20161030T020000
RDATE:20170326T030000
TZOFFSETFROM:+0200
TZOFFSETTO:+0100
TZNAME:Europe/Paris CET
END:STANDARD
BEGIN:STANDARD
DTSTART:20171029T020000
RDATE:20180325T030000
TZOFFSETFROM:+0200
TZOFFSETTO:+0100
TZNAME:Europe/Paris CET
END:STANDARD
BEGIN:STANDARD
DTSTART:20181028T020000
RDATE:20190331T030000
TZOFFSETFROM:+0200
TZOFFSETTO:+0100
TZNAME:Europe/Paris CET
END:STANDARD
BEGIN:STANDARD
DTSTART:20191027T020000
RDATE:20200329T030000
TZOFFSETFROM:+0200
TZOFFSETTO:+0100
TZNAME:Europe/Paris CET
END:STANDARD
BEGIN:STANDARD
DTSTART:20201025T020000
RDATE:20210328T030000
TZOFFSETFROM:+0200
TZOFFSETTO:+0100
TZNAME:Europe/Paris CET
END:STANDARD
BEGIN:STANDARD
DTSTART:20211031T020000
RDATE:20220327T030000
TZOFFSETFROM:+0200
TZOFFSETTO:+0100
TZNAME:Europe/Paris CET
END:STANDARD
BEGIN:STANDARD
DTSTART:20221030T020000
RDATE:20230326T030000
TZOFFSETFROM:+0200
TZOFFSETTO:+0100
TZNAME:Europe/Paris CET
END:STANDARD
BEGIN:STANDARD
DTSTART:20231029T020000
RDATE:20240331T030000
TZOFFSETFROM:+0200
TZOFFSETTO:+0100
TZNAME:Europe/Paris CET
END:STANDARD
BEGIN:STANDARD
DTSTART:20241027T020000
RDATE:20250330T030000
TZOFFSETFROM:+0200
TZOFFSETTO:+0100
TZNAME:Europe/Paris CET
END:STANDARD
BEGIN:STANDARD
DTSTART:20251026T020000
RDATE:20260329T030000
TZOFFSETFROM:+0200
TZOFFSETTO:+0100
TZNAME:Europe/Paris CET
END:STANDARD
BEGIN:STANDARD
DTSTART:20261025T020000
RDATE:20270328T030000
TZOFFSETFROM:+0200
TZOFFSETTO:+0100
TZNAME:Europe/Paris CET
END:STANDARD
BEGIN:DAYLIGHT
DTSTART:20150329T030000
RDATE:20151025T020000
TZOFFSETFROM:+0100
TZOFFSETTO:+0200
TZNAME:Europe/Paris CEST
END:DAYLIGHT
BEGIN:DAYLIGHT
DTSTART:20160327T030000
RDATE:20161030T020000
TZOFFSETFROM:+0100
TZOFFSETTO:+0200
TZNAME:Europe/Paris CEST
END:DAYLIGHT
BEGIN:DAYLIGHT
DTSTART:20170326T030000
RDATE:20171029T020000
TZOFFSETFROM:+0100
TZOFFSETTO:+0200
TZNAME:Europe/Paris CEST
END:DAYLIGHT
BEGIN:DAYLIGHT
DTSTART:20180325T030000
RDATE:20181028T020000
TZOFFSETFROM:+0100
TZOFFSETTO:+0200
TZNAME:Europe/Paris CEST
END:DAYLIGHT
BEGIN:DAYLIGHT
DTSTART:20190331T030000
RDATE:20191027T020000
TZOFFSETFROM:+0100
TZOFFSETTO:+0200
TZNAME:Europe/Paris CEST
END:DAYLIGHT
BEGIN:DAYLIGHT
DTSTART:20200329T030000
RDATE:20201025T020000
TZOFFSETFROM:+0100
TZOFFSETTO:+0200
TZNAME:Europe/Paris CEST
END:DAYLIGHT
BEGIN:DAYLIGHT
DTSTART:20210328T030000
RDATE:20211031T020000
TZOFFSETFROM:+0100
TZOFFSETTO:+0200
TZNAME:Europe/Paris CEST
END:DAYLIGHT
BEGIN:DAYLIGHT
DTSTART:20220327T030000
RDATE:20221030T020000
TZOFFSETFROM:+0100
TZOFFSETTO:+0200
TZNAME:Europe/Paris CEST
END:DAYLIGHT
BEGIN:DAYLIGHT
DTSTART:20230326T030000
RDATE:20231029T020000
TZOFFSETFROM:+0100
TZOFFSETTO:+0200
TZNAME:Europe/Paris CEST
END:DAYLIGHT
BEGIN:DAYLIGHT
DTSTART:20240331T030000
RDATE:20241027T020000
TZOFFSETFROM:+0100
TZOFFSETTO:+0200
TZNAME:Europe/Paris CEST
END:DAYLIGHT
BEGIN:DAYLIGHT
DTSTART:20250330T030000
RDATE:20251026T020000
TZOFFSETFROM:+0100
TZOFFSETTO:+0200
TZNAME:Europe/Paris CEST
END:DAYLIGHT
BEGIN:DAYLIGHT
DTSTART:20260329T030000
RDATE:20261025T020000
TZOFFSETFROM:+0100
TZOFFSETTO:+0200
TZNAME:Europe/Paris CEST
END:DAYLIGHT
END:VTIMEZONE
BEGIN:VEVENT
UID:043afaf39fec77fc1e2e50fac5ae9118
CATEGORIES:Compétition Ski de Fond
CREATED:20151110T133952
SUMMARY:Coupe des Trois Fours Vallée de Munster  Crédit Mutueln° 6
URL;VALUE=URI:https://skivosges.net/agenda/export-synchronisation/detailevenement/515/-/c
 oupe-des-trois-fours-vallee-de-munster-credit-mutueln-6?tmpl=component
DESCRIPTION:Coupe des Trois Fours Vallée de Munster  Crédit Mutueln° 6\n\nLieu : LE TAN
 ET\nOrganisateur : SKIEURS DU TANET (14199 SKIEURS DU TANET)\nTelecopie : 0
 642110977\n\nInscriptions en cours sur ce site\n - FMVF0131  Mass Start (De
 part ligne) U16 (Cadet) Filles\n  Coupe des Trois Fours Vallée de Munster  
 Crédit Mutueln° 6\n - FMVF0132  Mass Start (Depart ligne) Dames\n  Coupe de
 s Trois Fours Vallée de Munster  Crédit Mutueln° 6\n - FMVF0133  Mass Start
  (Depart ligne) Senior Dames\n  Coupe des Trois Fours Vallée de Munster  Cr
 édit Mutueln° 6\n - FMVM0131  Mass Start (Depart ligne) U16 (Cadet) Garçons
 \n  Coupe des Trois Fours Vallée de Munster  Crédit Mutueln° 6\n - FMVM0132
   Mass Start (Depart ligne) Hommes\n  Coupe des Trois Fours Vallée de Munst
 er  Crédit Mutueln° 6\n - FMVM0133  Mass Start (Depart ligne) Senior Hommes
 \n  Coupe des Trois Fours Vallée de Munster  Crédit Mutueln° 6 Cet évènemen
 t a été importé depuis :https://skivosges.net/agenda/export-synchronisation
 /detailevenement/515/-/coupe-des-trois-fours-vallee-de-munster-credit-mutue
 ln-6?tmpl=component
X-ALT-DESC;FMTTYPE=text/html:<strong>Coupe des Trois Fours Vallée de Munster  Crédit Mutueln° 6</strong>
 <br /><br />Lieu : LE TANET<br />Organisateur : SKIEURS DU TANET <small>(14
 199 SKIEURS DU TANET)</small><br />Telecopie : 0642110977<br /><br />Inscri
 ptions en cours sur ce site<ul type="disc"><li>FMVF0131  Mass Start (Depart
  ligne) <nobr>U16 (Cadet)</nobr> Filles<br />&nbsp;&nbsp;Coupe des Trois Fo
 urs Vallée de Munster  Crédit Mutueln° 6</li><li>FMVF0132  Mass Start (Depa
 rt ligne) Dames<br />&nbsp;&nbsp;Coupe des Trois Fours Vallée de Munster  C
 rédit Mutueln° 6</li><li>FMVF0133  Mass Start (Depart ligne) <nobr>Senior</
 nobr> Dames<br />&nbsp;&nbsp;Coupe des Trois Fours Vallée de Munster  Crédi
 t Mutueln° 6</li><li>FMVM0131  Mass Start (Depart ligne) <nobr>U16 (Cadet)<
 /nobr> Garçons<br />&nbsp;&nbsp;Coupe des Trois Fours Vallée de Munster  Cr
 édit Mutueln° 6</li><li>FMVM0132  Mass Start (Depart ligne) Hommes<br />&nb
 sp;&nbsp;Coupe des Trois Fours Vallée de Munster  Crédit Mutueln° 6</li><li
 >FMVM0133  Mass Start (Depart ligne) <nobr>Senior</nobr> Hommes<br />&nbsp;
 &nbsp;Coupe des Trois Fours Vallée de Munster  Crédit Mutueln° 6</li></ul> 
 <a href="https://skivosges.net/agenda/export-synchronisation/detailevenemen
 t/515/-/coupe-des-trois-fours-vallee-de-munster-credit-mutueln-6?tmpl=compo
 nent">Cet évènement a été importé depuis :https://skivosges.net/agenda/expo
 rt-synchronisation/detailevenement/515/-/coupe-des-trois-fours-vallee-de-mu
 nster-credit-mutueln-6?tmpl=component</a>DTSTAMP:20260420T220544
DTSTART;TZID=Europe/Paris:20160207T080000
DTEND;TZID=Europe/Paris:20160207T170000
SEQUENCE:0
TRANSP:OPAQUE
END:VEVENT
END:VCALENDAR